BEGIN:VCALENDAR
VERSION:2.0
PRODID:-//TJ Slavoj Ledenice - ECPv6.15.18//NONSGML v1.0//EN
CALSCALE:GREGORIAN
METHOD:PUBLISH
X-ORIGINAL-URL:https://tjslavojledenice.cz
X-WR-CALDESC:Akce na TJ Slavoj Ledenice
REFRESH-INTERVAL;VALUE=DURATION:PT1H
X-Robots-Tag:noindex
X-PUBLISHED-TTL:PT1H
BEGIN:VTIMEZONE
TZID:Europe/Paris
BEGIN:DAYLIGHT
TZOFFSETFROM:+0100
TZOFFSETTO:+0200
TZNAME:CEST
DTSTART:20240331T010000
END:DAYLIGHT
BEGIN:STANDARD
TZOFFSETFROM:+0200
TZOFFSETTO:+0100
TZNAME:CET
DTSTART:20241027T010000
END:STANDARD
BEGIN:DAYLIGHT
TZOFFSETFROM:+0100
TZOFFSETTO:+0200
TZNAME:CEST
DTSTART:20250330T010000
END:DAYLIGHT
BEGIN:STANDARD
TZOFFSETFROM:+0200
TZOFFSETTO:+0100
TZNAME:CET
DTSTART:20251026T010000
END:STANDARD
BEGIN:DAYLIGHT
TZOFFSETFROM:+0100
TZOFFSETTO:+0200
TZNAME:CEST
DTSTART:20260329T010000
END:DAYLIGHT
BEGIN:STANDARD
TZOFFSETFROM:+0200
TZOFFSETTO:+0100
TZNAME:CET
DTSTART:20261025T010000
END:STANDARD
END:VTIMEZONE
BEGIN:VEVENT
DTSTART;TZID=Europe/Paris:20250603T160000
DTEND;TZID=Europe/Paris:20250603T170000
DTSTAMP:20260424T014231
CREATED:20250531T140453Z
LAST-MODIFIED:20250531T140453Z
UID:9805-1748966400-1748970000@tjslavojledenice.cz
SUMMARY:OP ml. přípravka (finále nadstavby): Ledenice - Rudolfov
DESCRIPTION:
URL:https://tjslavojledenice.cz/events/op-ml-pripravka-finale-nadstavby-ledenice-rudolfov/
END:VEVENT
BEGIN:VEVENT
DTSTART;TZID=Europe/Paris:20250603T170000
DTEND;TZID=Europe/Paris:20250603T180000
DTSTAMP:20260424T014231
CREATED:20250218T090757Z
LAST-MODIFIED:20250218T090757Z
UID:9432-1748970000-1748973600@tjslavojledenice.cz
SUMMARY:OS ml. žáci: Ledenice - Mokré
DESCRIPTION:
URL:https://tjslavojledenice.cz/events/os-ml-zaci-ledenice-mokre/
END:VEVENT
END:VCALENDAR