BEGIN:VCALENDAR
VERSION:2.0
PRODID:-//TJ Slavoj Ledenice - ECPv6.15.18//NONSGML v1.0//EN
CALSCALE:GREGORIAN
METHOD:PUBLISH
X-ORIGINAL-URL:https://tjslavojledenice.cz
X-WR-CALDESC:Akce na TJ Slavoj Ledenice
REFRESH-INTERVAL;VALUE=DURATION:PT1H
X-Robots-Tag:noindex
X-PUBLISHED-TTL:PT1H
BEGIN:VTIMEZONE
TZID:Europe/Paris
BEGIN:DAYLIGHT
TZOFFSETFROM:+0100
TZOFFSETTO:+0200
TZNAME:CEST
DTSTART:20240331T010000
END:DAYLIGHT
BEGIN:STANDARD
TZOFFSETFROM:+0200
TZOFFSETTO:+0100
TZNAME:CET
DTSTART:20241027T010000
END:STANDARD
BEGIN:DAYLIGHT
TZOFFSETFROM:+0100
TZOFFSETTO:+0200
TZNAME:CEST
DTSTART:20250330T010000
END:DAYLIGHT
BEGIN:STANDARD
TZOFFSETFROM:+0200
TZOFFSETTO:+0100
TZNAME:CET
DTSTART:20251026T010000
END:STANDARD
BEGIN:DAYLIGHT
TZOFFSETFROM:+0100
TZOFFSETTO:+0200
TZNAME:CEST
DTSTART:20260329T010000
END:DAYLIGHT
BEGIN:STANDARD
TZOFFSETFROM:+0200
TZOFFSETTO:+0100
TZNAME:CET
DTSTART:20261025T010000
END:STANDARD
END:VTIMEZONE
BEGIN:VEVENT
DTSTART;TZID=Europe/Paris:20250813T170000
DTEND;TZID=Europe/Paris:20250813T180000
DTSTAMP:20260424T001520
CREATED:20250813T085623Z
LAST-MODIFIED:20250813T085623Z
UID:10186-1755104400-1755108000@tjslavojledenice.cz
SUMMARY:Příprava: Borovany U9 - Ledenice A U9
DESCRIPTION:
URL:https://tjslavojledenice.cz/events/priprava-borovany-u9-ledenice-a-u9/
END:VEVENT
BEGIN:VEVENT
DTSTART;TZID=Europe/Paris:20250813T173000
DTEND;TZID=Europe/Paris:20250813T193000
DTSTAMP:20260424T001520
CREATED:20250813T085424Z
LAST-MODIFIED:20250813T085424Z
UID:10184-1755106200-1755113400@tjslavojledenice.cz
SUMMARY:Příprava: TJ Slavoj Ledenice U19 - Joudové
DESCRIPTION:
URL:https://tjslavojledenice.cz/events/priprava-tj-slavoj-ledenice-u19-joudove/
END:VEVENT
END:VCALENDAR