BEGIN:VCALENDAR
VERSION:2.0
PRODID:-//TJ Slavoj Ledenice - ECPv6.15.18//NONSGML v1.0//EN
CALSCALE:GREGORIAN
METHOD:PUBLISH
X-WR-CALNAME:TJ Slavoj Ledenice
X-ORIGINAL-URL:https://tjslavojledenice.cz
X-WR-CALDESC:Akce na TJ Slavoj Ledenice
REFRESH-INTERVAL;VALUE=DURATION:PT1H
X-Robots-Tag:noindex
X-PUBLISHED-TTL:PT1H
BEGIN:VTIMEZONE
TZID:Europe/Paris
BEGIN:DAYLIGHT
TZOFFSETFROM:+0100
TZOFFSETTO:+0200
TZNAME:CEST
DTSTART:20240331T010000
END:DAYLIGHT
BEGIN:STANDARD
TZOFFSETFROM:+0200
TZOFFSETTO:+0100
TZNAME:CET
DTSTART:20241027T010000
END:STANDARD
BEGIN:DAYLIGHT
TZOFFSETFROM:+0100
TZOFFSETTO:+0200
TZNAME:CEST
DTSTART:20250330T010000
END:DAYLIGHT
BEGIN:STANDARD
TZOFFSETFROM:+0200
TZOFFSETTO:+0100
TZNAME:CET
DTSTART:20251026T010000
END:STANDARD
BEGIN:DAYLIGHT
TZOFFSETFROM:+0100
TZOFFSETTO:+0200
TZNAME:CEST
DTSTART:20260329T010000
END:DAYLIGHT
BEGIN:STANDARD
TZOFFSETFROM:+0200
TZOFFSETTO:+0100
TZNAME:CET
DTSTART:20261025T010000
END:STANDARD
END:VTIMEZONE
BEGIN:VEVENT
DTSTART;TZID=Europe/Paris:20250822T163000
DTEND;TZID=Europe/Paris:20250822T173000
DTSTAMP:20260423T223920
CREATED:20250617T124810Z
LAST-MODIFIED:20250619T190815Z
UID:9925-1755880200-1755883800@tjslavojledenice.cz
SUMMARY:Příprava U11: Ledenice - SKP České Budějovice
DESCRIPTION:
URL:https://tjslavojledenice.cz/events/priprava-u11-ledenice-skp-ceske-budejovice/
END:VEVENT
BEGIN:VEVENT
DTSTART;TZID=Europe/Paris:20250822T170000
DTEND;TZID=Europe/Paris:20250822T190000
DTSTAMP:20260423T223921
CREATED:20250806T090007Z
LAST-MODIFIED:20250806T090007Z
UID:10058-1755882000-1755889200@tjslavojledenice.cz
SUMMARY:OP dorost: Temelín - Ledenice
DESCRIPTION:
URL:https://tjslavojledenice.cz/events/op-dorost-temelin-ledenice/
END:VEVENT
END:VCALENDAR