BEGIN:VCALENDAR
VERSION:2.0
PRODID:-//TJ Slavoj Ledenice - ECPv6.15.18//NONSGML v1.0//EN
CALSCALE:GREGORIAN
METHOD:PUBLISH
X-ORIGINAL-URL:https://tjslavojledenice.cz
X-WR-CALDESC:Akce na TJ Slavoj Ledenice
REFRESH-INTERVAL;VALUE=DURATION:PT1H
X-Robots-Tag:noindex
X-PUBLISHED-TTL:PT1H
BEGIN:VTIMEZONE
TZID:Europe/Paris
BEGIN:DAYLIGHT
TZOFFSETFROM:+0100
TZOFFSETTO:+0200
TZNAME:CEST
DTSTART:20240331T010000
END:DAYLIGHT
BEGIN:STANDARD
TZOFFSETFROM:+0200
TZOFFSETTO:+0100
TZNAME:CET
DTSTART:20241027T010000
END:STANDARD
BEGIN:DAYLIGHT
TZOFFSETFROM:+0100
TZOFFSETTO:+0200
TZNAME:CEST
DTSTART:20250330T010000
END:DAYLIGHT
BEGIN:STANDARD
TZOFFSETFROM:+0200
TZOFFSETTO:+0100
TZNAME:CET
DTSTART:20251026T010000
END:STANDARD
BEGIN:DAYLIGHT
TZOFFSETFROM:+0100
TZOFFSETTO:+0200
TZNAME:CEST
DTSTART:20260329T010000
END:DAYLIGHT
BEGIN:STANDARD
TZOFFSETFROM:+0200
TZOFFSETTO:+0100
TZNAME:CET
DTSTART:20261025T010000
END:STANDARD
END:VTIMEZONE
BEGIN:VEVENT
DTSTART;TZID=Europe/Paris:20250824T100000
DTEND;TZID=Europe/Paris:20250824T113000
DTSTAMP:20260423T224024
CREATED:20250813T090200Z
LAST-MODIFIED:20250813T090200Z
UID:10189-1756029600-1756035000@tjslavojledenice.cz
SUMMARY:Příprava U9: Včelná - Ledenice A
DESCRIPTION:
URL:https://tjslavojledenice.cz/events/priprava-u9-vcelna-ledenice-a-2/
END:VEVENT
BEGIN:VEVENT
DTSTART;TZID=Europe/Paris:20250824T100000
DTEND;TZID=Europe/Paris:20250824T120000
DTSTAMP:20260423T224024
CREATED:20250804T060417Z
LAST-MODIFIED:20250819T061858Z
UID:10020-1756029600-1756036800@tjslavojledenice.cz
SUMMARY:Příprava U15: děti - rodiče
DESCRIPTION:
URL:https://tjslavojledenice.cz/events/priprava-u13-deti-rodice/
END:VEVENT
END:VCALENDAR