BEGIN:VCALENDAR
VERSION:2.0
PRODID:-//TJ Slavoj Ledenice - ECPv6.15.18//NONSGML v1.0//EN
CALSCALE:GREGORIAN
METHOD:PUBLISH
X-ORIGINAL-URL:https://tjslavojledenice.cz
X-WR-CALDESC:Akce na TJ Slavoj Ledenice
REFRESH-INTERVAL;VALUE=DURATION:PT1H
X-Robots-Tag:noindex
X-PUBLISHED-TTL:PT1H
BEGIN:VTIMEZONE
TZID:Europe/Paris
BEGIN:DAYLIGHT
TZOFFSETFROM:+0100
TZOFFSETTO:+0200
TZNAME:CEST
DTSTART:20240331T010000
END:DAYLIGHT
BEGIN:STANDARD
TZOFFSETFROM:+0200
TZOFFSETTO:+0100
TZNAME:CET
DTSTART:20241027T010000
END:STANDARD
BEGIN:DAYLIGHT
TZOFFSETFROM:+0100
TZOFFSETTO:+0200
TZNAME:CEST
DTSTART:20250330T010000
END:DAYLIGHT
BEGIN:STANDARD
TZOFFSETFROM:+0200
TZOFFSETTO:+0100
TZNAME:CET
DTSTART:20251026T010000
END:STANDARD
BEGIN:DAYLIGHT
TZOFFSETFROM:+0100
TZOFFSETTO:+0200
TZNAME:CEST
DTSTART:20260329T010000
END:DAYLIGHT
BEGIN:STANDARD
TZOFFSETFROM:+0200
TZOFFSETTO:+0100
TZNAME:CET
DTSTART:20261025T010000
END:STANDARD
END:VTIMEZONE
BEGIN:VEVENT
DTSTART;TZID=Europe/Paris:20251108T100000
DTEND;TZID=Europe/Paris:20251108T120000
DTSTAMP:20260423T182446
CREATED:20251102T072402Z
LAST-MODIFIED:20251102T072402Z
UID:10433-1762596000-1762603200@tjslavojledenice.cz
SUMMARY:Ledenický quattuor
DESCRIPTION:Miniturnaj čtyř týmů\, formát 7+1\, kategorie U11
URL:https://tjslavojledenice.cz/events/ledenicky-quattuor/
END:VEVENT
BEGIN:VEVENT
DTSTART;TZID=Europe/Paris:20251108T140000
DTEND;TZID=Europe/Paris:20251108T160000
DTSTAMP:20260423T182446
CREATED:20250806T085647Z
LAST-MODIFIED:20250806T085647Z
UID:10050-1762610400-1762617600@tjslavojledenice.cz
SUMMARY:7. liga muži: Roudné B - Ledenice
DESCRIPTION:
URL:https://tjslavojledenice.cz/events/7-liga-muzi-roudne-b-ledenice-2/
END:VEVENT
BEGIN:VEVENT
DTSTART;TZID=Europe/Paris:20251108T140000
DTEND;TZID=Europe/Paris:20251108T160000
DTSTAMP:20260423T182446
CREATED:20250806T090149Z
LAST-MODIFIED:20250806T090149Z
UID:10064-1762610400-1762617600@tjslavojledenice.cz
SUMMARY:OP dorost: Křemže - Ledenice
DESCRIPTION:
URL:https://tjslavojledenice.cz/events/op-dorost-kremze-ledenice-2/
END:VEVENT
END:VCALENDAR