BEGIN:VCALENDAR
VERSION:2.0
PRODID:-//TJ Slavoj Ledenice - ECPv6.15.18//NONSGML v1.0//EN
CALSCALE:GREGORIAN
METHOD:PUBLISH
X-ORIGINAL-URL:https://tjslavojledenice.cz
X-WR-CALDESC:Akce na TJ Slavoj Ledenice
REFRESH-INTERVAL;VALUE=DURATION:PT1H
X-Robots-Tag:noindex
X-PUBLISHED-TTL:PT1H
BEGIN:VTIMEZONE
TZID:Europe/Paris
BEGIN:DAYLIGHT
TZOFFSETFROM:+0100
TZOFFSETTO:+0200
TZNAME:CEST
DTSTART:20250330T010000
END:DAYLIGHT
BEGIN:STANDARD
TZOFFSETFROM:+0200
TZOFFSETTO:+0100
TZNAME:CET
DTSTART:20251026T010000
END:STANDARD
BEGIN:DAYLIGHT
TZOFFSETFROM:+0100
TZOFFSETTO:+0200
TZNAME:CEST
DTSTART:20260329T010000
END:DAYLIGHT
BEGIN:STANDARD
TZOFFSETFROM:+0200
TZOFFSETTO:+0100
TZNAME:CET
DTSTART:20261025T010000
END:STANDARD
BEGIN:DAYLIGHT
TZOFFSETFROM:+0100
TZOFFSETTO:+0200
TZNAME:CEST
DTSTART:20270328T010000
END:DAYLIGHT
BEGIN:STANDARD
TZOFFSETFROM:+0200
TZOFFSETTO:+0100
TZNAME:CET
DTSTART:20271031T010000
END:STANDARD
END:VTIMEZONE
BEGIN:VEVENT
DTSTART;VALUE=DATE:20260220
DTEND;VALUE=DATE:20260223
DTSTAMP:20260423T134631
CREATED:20260115T112710Z
LAST-MODIFIED:20260115T112724Z
UID:10590-1771545600-1771804799@tjslavojledenice.cz
SUMMARY:Soustředění U11 (Lipno)
DESCRIPTION:
URL:https://tjslavojledenice.cz/events/soustredeni-u11-jenisov/
END:VEVENT
BEGIN:VEVENT
DTSTART;TZID=Europe/Paris:20260222T123000
DTEND;TZID=Europe/Paris:20260222T140000
DTSTAMP:20260423T134631
CREATED:20260105T173019Z
LAST-MODIFIED:20260105T173019Z
UID:10544-1771763400-1771768800@tjslavojledenice.cz
SUMMARY:Příprava U15: Ledenice - FC Velešín (UMT Borovany)
DESCRIPTION:
URL:https://tjslavojledenice.cz/events/priprava-u15-ledenice-fc-velesin-umt-borovany/
END:VEVENT
END:VCALENDAR