BEGIN:VCALENDAR
VERSION:2.0
PRODID:-//TJ Slavoj Ledenice - ECPv6.15.18//NONSGML v1.0//EN
CALSCALE:GREGORIAN
METHOD:PUBLISH
X-ORIGINAL-URL:https://tjslavojledenice.cz
X-WR-CALDESC:Akce na TJ Slavoj Ledenice
REFRESH-INTERVAL;VALUE=DURATION:PT1H
X-Robots-Tag:noindex
X-PUBLISHED-TTL:PT1H
BEGIN:VTIMEZONE
TZID:Europe/Paris
BEGIN:DAYLIGHT
TZOFFSETFROM:+0100
TZOFFSETTO:+0200
TZNAME:CEST
DTSTART:20250330T010000
END:DAYLIGHT
BEGIN:STANDARD
TZOFFSETFROM:+0200
TZOFFSETTO:+0100
TZNAME:CET
DTSTART:20251026T010000
END:STANDARD
BEGIN:DAYLIGHT
TZOFFSETFROM:+0100
TZOFFSETTO:+0200
TZNAME:CEST
DTSTART:20260329T010000
END:DAYLIGHT
BEGIN:STANDARD
TZOFFSETFROM:+0200
TZOFFSETTO:+0100
TZNAME:CET
DTSTART:20261025T010000
END:STANDARD
BEGIN:DAYLIGHT
TZOFFSETFROM:+0100
TZOFFSETTO:+0200
TZNAME:CEST
DTSTART:20270328T010000
END:DAYLIGHT
BEGIN:STANDARD
TZOFFSETFROM:+0200
TZOFFSETTO:+0100
TZNAME:CET
DTSTART:20271031T010000
END:STANDARD
END:VTIMEZONE
BEGIN:VEVENT
DTSTART;TZID=Europe/Paris:20260424T160000
DTEND;TZID=Europe/Paris:20260424T170000
DTSTAMP:20260423T122350
CREATED:20260210T133950Z
LAST-MODIFIED:20260210T133950Z
UID:10782-1777046400-1777050000@tjslavojledenice.cz
SUMMARY:OP U11: Ledenice - T. Sviny
DESCRIPTION:
URL:https://tjslavojledenice.cz/events/op-u11-ledenice-t-sviny/
END:VEVENT
BEGIN:VEVENT
DTSTART;TZID=Europe/Paris:20260424T170000
DTEND;TZID=Europe/Paris:20260424T180000
DTSTAMP:20260423T122350
CREATED:20260210T132035Z
LAST-MODIFIED:20260210T132035Z
UID:10713-1777050000-1777053600@tjslavojledenice.cz
SUMMARY:OP U9\, sk. A: Ledenice A - Planá
DESCRIPTION:
URL:https://tjslavojledenice.cz/events/op-u9-sk-a-ledenice-a-plana/
END:VEVENT
END:VCALENDAR