BEGIN:VCALENDAR
VERSION:2.0
PRODID:-//TJ Slavoj Ledenice - ECPv6.15.18//NONSGML v1.0//EN
CALSCALE:GREGORIAN
METHOD:PUBLISH
X-ORIGINAL-URL:https://tjslavojledenice.cz
X-WR-CALDESC:Akce na TJ Slavoj Ledenice
REFRESH-INTERVAL;VALUE=DURATION:PT1H
X-Robots-Tag:noindex
X-PUBLISHED-TTL:PT1H
BEGIN:VTIMEZONE
TZID:Europe/Paris
BEGIN:DAYLIGHT
TZOFFSETFROM:+0100
TZOFFSETTO:+0200
TZNAME:CEST
DTSTART:20240331T010000
END:DAYLIGHT
BEGIN:STANDARD
TZOFFSETFROM:+0200
TZOFFSETTO:+0100
TZNAME:CET
DTSTART:20241027T010000
END:STANDARD
BEGIN:DAYLIGHT
TZOFFSETFROM:+0100
TZOFFSETTO:+0200
TZNAME:CEST
DTSTART:20250330T010000
END:DAYLIGHT
BEGIN:STANDARD
TZOFFSETFROM:+0200
TZOFFSETTO:+0100
TZNAME:CET
DTSTART:20251026T010000
END:STANDARD
BEGIN:DAYLIGHT
TZOFFSETFROM:+0100
TZOFFSETTO:+0200
TZNAME:CEST
DTSTART:20260329T010000
END:DAYLIGHT
BEGIN:STANDARD
TZOFFSETFROM:+0200
TZOFFSETTO:+0100
TZNAME:CET
DTSTART:20261025T010000
END:STANDARD
END:VTIMEZONE
BEGIN:VEVENT
DTSTART;TZID=Europe/Paris:20251101T100000
DTEND;TZID=Europe/Paris:20251101T120000
DTSTAMP:20260423T165127
CREATED:20250806T085937Z
LAST-MODIFIED:20250806T085937Z
UID:10057-1761991200-1761998400@tjslavojledenice.cz
SUMMARY:OP dorost: Ledenice - Nové Hrady
DESCRIPTION:
URL:https://tjslavojledenice.cz/events/op-dorost-ledenice-nove-hrady/
END:VEVENT
BEGIN:VEVENT
DTSTART;TZID=Europe/Paris:20251102T080000
DTEND;TZID=Europe/Paris:20251102T170000
DTSTAMP:20260423T165127
CREATED:20251027T063212Z
LAST-MODIFIED:20251027T063212Z
UID:10399-1762070400-1762102800@tjslavojledenice.cz
SUMMARY:Turnaj OFS (Planá)
DESCRIPTION:
URL:https://tjslavojledenice.cz/events/turnaj-ofs-plana/
END:VEVENT
BEGIN:VEVENT
DTSTART;TZID=Europe/Paris:20251102T140000
DTEND;TZID=Europe/Paris:20251102T160000
DTSTAMP:20260423T165127
CREATED:20250806T085232Z
LAST-MODIFIED:20250806T085232Z
UID:10031-1762092000-1762099200@tjslavojledenice.cz
SUMMARY:7. liga muži: Ledenice - Chvalšiny
DESCRIPTION:
URL:https://tjslavojledenice.cz/events/7-liga-muzi-ledenice-chvalsiny-2/
END:VEVENT
BEGIN:VEVENT
DTSTART;TZID=Europe/Paris:20251108T100000
DTEND;TZID=Europe/Paris:20251108T120000
DTSTAMP:20260423T165127
CREATED:20251102T072402Z
LAST-MODIFIED:20251102T072402Z
UID:10433-1762596000-1762603200@tjslavojledenice.cz
SUMMARY:Ledenický quattuor
DESCRIPTION:Miniturnaj čtyř týmů\, formát 7+1\, kategorie U11
URL:https://tjslavojledenice.cz/events/ledenicky-quattuor/
END:VEVENT
BEGIN:VEVENT
DTSTART;TZID=Europe/Paris:20251108T140000
DTEND;TZID=Europe/Paris:20251108T160000
DTSTAMP:20260423T165127
CREATED:20250806T085647Z
LAST-MODIFIED:20250806T085647Z
UID:10050-1762610400-1762617600@tjslavojledenice.cz
SUMMARY:7. liga muži: Roudné B - Ledenice
DESCRIPTION:
URL:https://tjslavojledenice.cz/events/7-liga-muzi-roudne-b-ledenice-2/
END:VEVENT
BEGIN:VEVENT
DTSTART;TZID=Europe/Paris:20251108T140000
DTEND;TZID=Europe/Paris:20251108T160000
DTSTAMP:20260423T165127
CREATED:20250806T090149Z
LAST-MODIFIED:20250806T090149Z
UID:10064-1762610400-1762617600@tjslavojledenice.cz
SUMMARY:OP dorost: Křemže - Ledenice
DESCRIPTION:
URL:https://tjslavojledenice.cz/events/op-dorost-kremze-ledenice-2/
END:VEVENT
BEGIN:VEVENT
DTSTART;TZID=Europe/Paris:20251113T160000
DTEND;TZID=Europe/Paris:20251113T173000
DTSTAMP:20260423T165127
CREATED:20250806T090754Z
LAST-MODIFIED:20251109T051726Z
UID:10100-1763049600-1763055000@tjslavojledenice.cz
SUMMARY:OP ml. žáci: Ledenice - Včelná
DESCRIPTION:
URL:https://tjslavojledenice.cz/events/op-ml-zaci-ledenice-vcelna/
END:VEVENT
BEGIN:VEVENT
DTSTART;VALUE=DATE:20251115
DTEND;VALUE=DATE:20251117
DTSTAMP:20260423T165127
CREATED:20250916T112525Z
LAST-MODIFIED:20251008T114811Z
UID:10327-1763164800-1763337599@tjslavojledenice.cz
SUMMARY:Techmania Plzeň + turnaj Treftofoto Cup U10 (Dýšina\, Plzeňský kraj)
DESCRIPTION:
URL:https://tjslavojledenice.cz/events/treftofoto-cup-u10-dysina-plzensky-kraj/
END:VEVENT
BEGIN:VEVENT
DTSTART;TZID=Europe/Paris:20251119T163000
DTEND;TZID=Europe/Paris:20251119T180000
DTSTAMP:20260423T165127
CREATED:20251109T051310Z
LAST-MODIFIED:20251118T144604Z
UID:10447-1763569800-1763575200@tjslavojledenice.cz
SUMMARY:Příprava U11: Lišov - Ledenice (systém 7+1) - ZRUŠENO
DESCRIPTION:
URL:https://tjslavojledenice.cz/events/priprava-u11-lisov-ledenice/
LOCATION:UMT Lišov
END:VEVENT
BEGIN:VEVENT
DTSTART;TZID=Europe/Paris:20251122T080000
DTEND;TZID=Europe/Paris:20251122T170000
DTSTAMP:20260423T165127
CREATED:20250916T112107Z
LAST-MODIFIED:20250916T112107Z
UID:10312-1763798400-1763830800@tjslavojledenice.cz
SUMMARY:Jihočeská zimní halová liga U11 - 1. kolo
DESCRIPTION:
URL:https://tjslavojledenice.cz/events/jihoceska-zimni-halova-liga-u11-1-kolo/
LOCATION:SH Třeboň
END:VEVENT
BEGIN:VEVENT
DTSTART;TZID=Europe/Paris:20251122T080000
DTEND;TZID=Europe/Paris:20251122T170000
DTSTAMP:20260423T165127
CREATED:20251027T063223Z
LAST-MODIFIED:20251027T063223Z
UID:10400-1763798400-1763830800@tjslavojledenice.cz
SUMMARY:Turnaj OFS
DESCRIPTION:
URL:https://tjslavojledenice.cz/events/turnaj-ofs/
END:VEVENT
END:VCALENDAR