BEGIN:VCALENDAR
VERSION:2.0
PRODID:-//TJ Slavoj Ledenice - ECPv6.15.18//NONSGML v1.0//EN
CALSCALE:GREGORIAN
METHOD:PUBLISH
X-WR-CALNAME:TJ Slavoj Ledenice
X-ORIGINAL-URL:https://tjslavojledenice.cz
X-WR-CALDESC:Akce na TJ Slavoj Ledenice
REFRESH-INTERVAL;VALUE=DURATION:PT1H
X-Robots-Tag:noindex
X-PUBLISHED-TTL:PT1H
BEGIN:VTIMEZONE
TZID:Europe/Paris
BEGIN:DAYLIGHT
TZOFFSETFROM:+0100
TZOFFSETTO:+0200
TZNAME:CEST
DTSTART:20230326T010000
END:DAYLIGHT
BEGIN:STANDARD
TZOFFSETFROM:+0200
TZOFFSETTO:+0100
TZNAME:CET
DTSTART:20231029T010000
END:STANDARD
BEGIN:DAYLIGHT
TZOFFSETFROM:+0100
TZOFFSETTO:+0200
TZNAME:CEST
DTSTART:20240331T010000
END:DAYLIGHT
BEGIN:STANDARD
TZOFFSETFROM:+0200
TZOFFSETTO:+0100
TZNAME:CET
DTSTART:20241027T010000
END:STANDARD
BEGIN:DAYLIGHT
TZOFFSETFROM:+0100
TZOFFSETTO:+0200
TZNAME:CEST
DTSTART:20250330T010000
END:DAYLIGHT
BEGIN:STANDARD
TZOFFSETFROM:+0200
TZOFFSETTO:+0100
TZNAME:CET
DTSTART:20251026T010000
END:STANDARD
BEGIN:DAYLIGHT
TZOFFSETFROM:+0100
TZOFFSETTO:+0200
TZNAME:CEST
DTSTART:20260329T010000
END:DAYLIGHT
BEGIN:STANDARD
TZOFFSETFROM:+0200
TZOFFSETTO:+0100
TZNAME:CET
DTSTART:20261025T010000
END:STANDARD
END:VTIMEZONE
BEGIN:VEVENT
DTSTART;TZID=Europe/Paris:20250316T090000
DTEND;TZID=Europe/Paris:20250316T150000
DTSTAMP:20260423T123302
CREATED:20250205T140909Z
LAST-MODIFIED:20250314T084512Z
UID:9204-1742115600-1742137200@tjslavojledenice.cz
SUMMARY:Borovany Cup U7
DESCRIPTION:
URL:https://tjslavojledenice.cz/events/borovany-cup-u7/
END:VEVENT
BEGIN:VEVENT
DTSTART;TZID=Europe/Paris:20250316T090000
DTEND;TZID=Europe/Paris:20250316T150000
DTSTAMP:20260423T123302
CREATED:20250205T140851Z
LAST-MODIFIED:20250314T084515Z
UID:9203-1742115600-1742137200@tjslavojledenice.cz
SUMMARY:Borovany Cup U9
DESCRIPTION:
URL:https://tjslavojledenice.cz/events/borovany-cup-u9/
END:VEVENT
BEGIN:VEVENT
DTSTART;TZID=Europe/Paris:20250312T160000
DTEND;TZID=Europe/Paris:20250312T170000
DTSTAMP:20260423T123302
CREATED:20250309T065735Z
LAST-MODIFIED:20250309T065735Z
UID:9508-1741795200-1741798800@tjslavojledenice.cz
SUMMARY:Příprava U9: Ledenice B - Slavia Č. Budějovice B
DESCRIPTION:
URL:https://tjslavojledenice.cz/events/priprava-u9-ledenice-b-slavia-c-budejovice-b/
END:VEVENT
BEGIN:VEVENT
DTSTART;TZID=Europe/Paris:20250312T160000
DTEND;TZID=Europe/Paris:20250312T170000
DTSTAMP:20260423T123302
CREATED:20250309T065713Z
LAST-MODIFIED:20250309T065713Z
UID:9507-1741795200-1741798800@tjslavojledenice.cz
SUMMARY:Příprava U9: Ledenice - Slavia Č. Budějovice
DESCRIPTION:
URL:https://tjslavojledenice.cz/events/priprava-u9-ledenice-slavia-c-budejovice/
END:VEVENT
BEGIN:VEVENT
DTSTART;TZID=Europe/Paris:20250312T160000
DTEND;TZID=Europe/Paris:20250312T170000
DTSTAMP:20260423T123302
CREATED:20250110T092338Z
LAST-MODIFIED:20250120T113642Z
UID:9081-1741795200-1741798800@tjslavojledenice.cz
SUMMARY:Příprava U13: Ledenice - T. Sviny (UMT Borovany)
DESCRIPTION:
URL:https://tjslavojledenice.cz/events/priprava-u13-ledenice-t-sviny-umt-borovany/
END:VEVENT
BEGIN:VEVENT
DTSTART;TZID=Europe/Paris:20250309T150000
DTEND;TZID=Europe/Paris:20250309T170000
DTSTAMP:20260423T123302
CREATED:20250218T082326Z
LAST-MODIFIED:20250218T082326Z
UID:9249-1741532400-1741539600@tjslavojledenice.cz
SUMMARY:Souboj generací: Ledenice U19 - Joudové
DESCRIPTION:
URL:https://tjslavojledenice.cz/events/souboj-generaci-ledenice-u19-joudove/
END:VEVENT
BEGIN:VEVENT
DTSTART;TZID=Europe/Paris:20250309T090000
DTEND;TZID=Europe/Paris:20250309T143000
DTSTAMP:20260423T123302
CREATED:20250218T082429Z
LAST-MODIFIED:20250305T053722Z
UID:9251-1741510800-1741530600@tjslavojledenice.cz
SUMMARY:Turnaj OFS U8 (Ledenice)
DESCRIPTION:
URL:https://tjslavojledenice.cz/events/turnaj-ofs-u8/
END:VEVENT
BEGIN:VEVENT
DTSTART;TZID=Europe/Paris:20250308T200000
DTEND;TZID=Europe/Paris:20250308T235900
DTSTAMP:20260423T123302
CREATED:20240205T073036Z
LAST-MODIFIED:20240301T110424Z
UID:7686-1741464000-1741478340@tjslavojledenice.cz
SUMMARY:Sportovní ples
DESCRIPTION:
URL:https://tjslavojledenice.cz/events/sportovni-ples-2/
END:VEVENT
BEGIN:VEVENT
DTSTART;TZID=Europe/Paris:20250308T080000
DTEND;TZID=Europe/Paris:20250308T170000
DTSTAMP:20260423T123302
CREATED:20240919T124201Z
LAST-MODIFIED:20240919T124201Z
UID:8695-1741420800-1741453200@tjslavojledenice.cz
SUMMARY:Jihočeská zimní halová liga U9 (5. kolo)
DESCRIPTION:
URL:https://tjslavojledenice.cz/events/jihoceska-zimni-halova-liga-u9-5-kolo/
LOCATION:Staré Hodějovice
END:VEVENT
BEGIN:VEVENT
DTSTART;TZID=Europe/Paris:20250306T170000
DTEND;TZID=Europe/Paris:20250306T180000
DTSTAMP:20260423T123302
CREATED:20250113T071417Z
LAST-MODIFIED:20250113T071417Z
UID:9093-1741280400-1741284000@tjslavojledenice.cz
SUMMARY:Příprava U13: Borovany B - Ledenice B
DESCRIPTION:
URL:https://tjslavojledenice.cz/events/priprava-u13-borovany-b-ledenice-b-2/
END:VEVENT
BEGIN:VEVENT
DTSTART;TZID=Europe/Paris:20250305T170000
DTEND;TZID=Europe/Paris:20250305T180000
DTSTAMP:20260423T123302
CREATED:20250226T061306Z
LAST-MODIFIED:20250226T061306Z
UID:9472-1741194000-1741197600@tjslavojledenice.cz
SUMMARY:Příprava U9: Třeboň - Ledenice
DESCRIPTION:
URL:https://tjslavojledenice.cz/events/priprava-u9-trebon-ledenice/
END:VEVENT
BEGIN:VEVENT
DTSTART;TZID=Europe/Paris:20250302T103000
DTEND;TZID=Europe/Paris:20250302T120000
DTSTAMP:20260423T123302
CREATED:20250221T115853Z
LAST-MODIFIED:20250221T115853Z
UID:9450-1740911400-1740916800@tjslavojledenice.cz
SUMMARY:Příprava dorost: Ledenice - Stráž n. Nežárkou (UMT Borovany)
DESCRIPTION:
URL:https://tjslavojledenice.cz/events/priprava-dorost-ledenice-straz-n-nezarkou-umt-borovany/
END:VEVENT
BEGIN:VEVENT
DTSTART;TZID=Europe/Paris:20250301T080000
DTEND;TZID=Europe/Paris:20250301T170000
DTSTAMP:20260423T123302
CREATED:20241202T123001Z
LAST-MODIFIED:20241202T155459Z
UID:9010-1740816000-1740848400@tjslavojledenice.cz
SUMMARY:S-Centrum Cup U9 (Benešov u Prahy)
DESCRIPTION:
URL:https://tjslavojledenice.cz/events/s-centrum-cup-u9-benesov-u-prahy/
END:VEVENT
BEGIN:VEVENT
DTSTART;TZID=Europe/Paris:20250226T160000
DTEND;TZID=Europe/Paris:20250226T170000
DTSTAMP:20260423T123302
CREATED:20250223T113755Z
LAST-MODIFIED:20250223T113755Z
UID:9460-1740585600-1740589200@tjslavojledenice.cz
SUMMARY:Příprava U9: Borovany - Ledenice
DESCRIPTION:
URL:https://tjslavojledenice.cz/events/priprava-u9-borovany-ledenice/
LOCATION:Fotbalový areál FK Borovany\, Trocnovská 703\, Borovany\, Jihočeský\, 373 12\, Česká republika
END:VEVENT
BEGIN:VEVENT
DTSTART;TZID=Europe/Paris:20250226T160000
DTEND;TZID=Europe/Paris:20250226T170000
DTSTAMP:20260423T123302
CREATED:20250110T092453Z
LAST-MODIFIED:20250110T092453Z
UID:9084-1740585600-1740589200@tjslavojledenice.cz
SUMMARY:Příprava U13: Ledenice - T. Sviny (UMT Borovany)
DESCRIPTION:
URL:https://tjslavojledenice.cz/events/priprava-u13-ledenice-t-sviny-umt-borovany-2/
END:VEVENT
BEGIN:VEVENT
DTSTART;TZID=Europe/Paris:20250223T120000
DTEND;TZID=Europe/Paris:20250223T140000
DTSTAMP:20260423T123302
CREATED:20250221T115942Z
LAST-MODIFIED:20250221T115942Z
UID:9451-1740312000-1740319200@tjslavojledenice.cz
SUMMARY:Příprava: Ledenice U15 - T. Sviny U15 (UMT Borovany)
DESCRIPTION:
URL:https://tjslavojledenice.cz/events/priprava-ledenice-u15-t-sviny-u15-umt-borovany/
END:VEVENT
BEGIN:VEVENT
DTSTART;TZID=Europe/Paris:20250217T170000
DTEND;TZID=Europe/Paris:20250217T180000
DTSTAMP:20260423T123302
CREATED:20250110T092421Z
LAST-MODIFIED:20250110T092421Z
UID:9083-1739811600-1739815200@tjslavojledenice.cz
SUMMARY:Příprava U13: Ledenice - Loko Č. Budějovice (UMT Borovany)
DESCRIPTION:
URL:https://tjslavojledenice.cz/events/priprava-u13-ledenice-loko-c-budejovice-umt-borovany-2/
END:VEVENT
BEGIN:VEVENT
DTSTART;TZID=Europe/Paris:20250216T080000
DTEND;TZID=Europe/Paris:20250216T130000
DTSTAMP:20260423T123302
CREATED:20250213T174949Z
LAST-MODIFIED:20250213T174949Z
UID:9225-1739692800-1739710800@tjslavojledenice.cz
SUMMARY:Turnaj OFS U8 (Šindlovy Dvory)
DESCRIPTION:
URL:https://tjslavojledenice.cz/events/turnaj-ofs-u8-sindlovy-dvory/
END:VEVENT
BEGIN:VEVENT
DTSTART;TZID=Europe/Paris:20250215T080000
DTEND;TZID=Europe/Paris:20250215T170000
DTSTAMP:20260423T123302
CREATED:20240919T124137Z
LAST-MODIFIED:20240919T124145Z
UID:8694-1739606400-1739638800@tjslavojledenice.cz
SUMMARY:Jihočeská zimní halová liga U9 (4. kolo)
DESCRIPTION:
URL:https://tjslavojledenice.cz/events/jihoceska-zimni-halova-liga-u9-4-kolo/
LOCATION:Staré Hodějovice
END:VEVENT
BEGIN:VEVENT
DTSTART;TZID=Europe/Paris:20250213T170000
DTEND;TZID=Europe/Paris:20250213T180000
DTSTAMP:20260423T123302
CREATED:20250113T071357Z
LAST-MODIFIED:20250113T071357Z
UID:9092-1739466000-1739469600@tjslavojledenice.cz
SUMMARY:Příprava U13: Borovany B - Ledenice B
DESCRIPTION:
URL:https://tjslavojledenice.cz/events/priprava-u13-borovany-b-ledenice-b/
END:VEVENT
BEGIN:VEVENT
DTSTART;TZID=Europe/Paris:20250201T160000
DTEND;TZID=Europe/Paris:20250201T180000
DTSTAMP:20260423T123302
CREATED:20250113T090214Z
LAST-MODIFIED:20250113T090214Z
UID:9098-1738425600-1738432800@tjslavojledenice.cz
SUMMARY:Příprava muži: Ledenice - Hrdějovice (UMT Lišov)
DESCRIPTION:
URL:https://tjslavojledenice.cz/events/priprava-muzi-ledenice-hrdejovice-umt-lisov/
END:VEVENT
BEGIN:VEVENT
DTSTART;TZID=Europe/Paris:20250201T080000
DTEND;TZID=Europe/Paris:20250201T190000
DTSTAMP:20260423T123302
CREATED:20250107T084007Z
LAST-MODIFIED:20250112T111457Z
UID:9061-1738396800-1738436400@tjslavojledenice.cz
SUMMARY:Výlet a prohlídka stadionu AC Sparta Praha - účast U9
DESCRIPTION:
URL:https://tjslavojledenice.cz/events/vylet-a-prohlidka-stadionu-ac-sparta-praha-ucast-u9/
END:VEVENT
BEGIN:VEVENT
DTSTART;TZID=Europe/Paris:20250122T170000
DTEND;TZID=Europe/Paris:20250122T180000
DTSTAMP:20260423T123302
CREATED:20241103T095142Z
LAST-MODIFIED:20241120T133643Z
UID:8903-1737565200-1737568800@tjslavojledenice.cz
SUMMARY:Zimní liga (UMT Třeboň) - U9
DESCRIPTION:
URL:https://tjslavojledenice.cz/events/zimni-liga-trebon-u9-4/
END:VEVENT
BEGIN:VEVENT
DTSTART;TZID=Europe/Paris:20250118T080000
DTEND;TZID=Europe/Paris:20250118T170000
DTSTAMP:20260423T123302
CREATED:20240919T124126Z
LAST-MODIFIED:20240919T124126Z
UID:8693-1737187200-1737219600@tjslavojledenice.cz
SUMMARY:Jihočeská zimní halová liga U9 (3. kolo)
DESCRIPTION:
URL:https://tjslavojledenice.cz/events/jihoceska-zimni-halova-liga-u9-3-kolo/
END:VEVENT
BEGIN:VEVENT
DTSTART;TZID=Europe/Paris:20250108T170000
DTEND;TZID=Europe/Paris:20250108T180000
DTSTAMP:20260423T123302
CREATED:20241103T095134Z
LAST-MODIFIED:20241120T133638Z
UID:8902-1736355600-1736359200@tjslavojledenice.cz
SUMMARY:Zimní liga (UMT Třeboň) - U9
DESCRIPTION:
URL:https://tjslavojledenice.cz/events/zimni-liga-trebon-u9-3/
END:VEVENT
BEGIN:VEVENT
DTSTART;TZID=Europe/Paris:20241218T170000
DTEND;TZID=Europe/Paris:20241218T180000
DTSTAMP:20260423T123302
CREATED:20241103T095113Z
LAST-MODIFIED:20241120T133649Z
UID:8901-1734541200-1734544800@tjslavojledenice.cz
SUMMARY:Zimní liga (UMT Třeboň) - U9
DESCRIPTION:
URL:https://tjslavojledenice.cz/events/zimni-liga-trebon-u9-2/
END:VEVENT
BEGIN:VEVENT
DTSTART;TZID=Europe/Paris:20241214T080000
DTEND;TZID=Europe/Paris:20241214T170000
DTSTAMP:20260423T123302
CREATED:20240919T124115Z
LAST-MODIFIED:20240919T124115Z
UID:8696-1734163200-1734195600@tjslavojledenice.cz
SUMMARY:Jihočeská zimní halová liga U9 (2. kolo)
DESCRIPTION:
URL:https://tjslavojledenice.cz/events/jihoceska-zimni-halova-liga-u9-2-kolo/
LOCATION:Staré Hodějovice
END:VEVENT
BEGIN:VEVENT
DTSTART;TZID=Europe/Paris:20241205T170000
DTEND;TZID=Europe/Paris:20241205T180000
DTSTAMP:20260423T123302
CREATED:20240906T082602Z
LAST-MODIFIED:20240906T082602Z
UID:8636-1733418000-1733421600@tjslavojledenice.cz
SUMMARY:Volejbal muži: Ledenice - Slovan Č. Budějovice B
DESCRIPTION:
URL:https://tjslavojledenice.cz/events/volejbal-muzi-ledenice-slovan-c-budejovice-b/
END:VEVENT
BEGIN:VEVENT
DTSTART;TZID=Europe/Paris:20241204T170000
DTEND;TZID=Europe/Paris:20241204T180000
DTSTAMP:20260423T123302
CREATED:20241103T095058Z
LAST-MODIFIED:20241120T133655Z
UID:8900-1733331600-1733335200@tjslavojledenice.cz
SUMMARY:Zimní liga (UMT Třeboň) - U9
DESCRIPTION:
URL:https://tjslavojledenice.cz/events/zimni-liga-trebon-u9/
END:VEVENT
BEGIN:VEVENT
DTSTART;TZID=Europe/Paris:20241128T170000
DTEND;TZID=Europe/Paris:20241128T180000
DTSTAMP:20260423T123302
CREATED:20241120T103634Z
LAST-MODIFIED:20241120T103642Z
UID:8952-1732813200-1732816800@tjslavojledenice.cz
SUMMARY:Příprava ml. žáci: Borovany - Ledenice B
DESCRIPTION:
URL:https://tjslavojledenice.cz/events/priprava-ml-zaci-borovany-ledenice-5/
END:VEVENT
END:VCALENDAR