BEGIN:VCALENDAR
VERSION:2.0
PRODID:-//TJ Slavoj Ledenice - ECPv6.15.18//NONSGML v1.0//EN
CALSCALE:GREGORIAN
METHOD:PUBLISH
X-WR-CALNAME:TJ Slavoj Ledenice
X-ORIGINAL-URL:https://tjslavojledenice.cz
X-WR-CALDESC:Akce na TJ Slavoj Ledenice
REFRESH-INTERVAL;VALUE=DURATION:PT1H
X-Robots-Tag:noindex
X-PUBLISHED-TTL:PT1H
BEGIN:VTIMEZONE
TZID:Europe/Paris
BEGIN:DAYLIGHT
TZOFFSETFROM:+0100
TZOFFSETTO:+0200
TZNAME:CEST
DTSTART:20240331T010000
END:DAYLIGHT
BEGIN:STANDARD
TZOFFSETFROM:+0200
TZOFFSETTO:+0100
TZNAME:CET
DTSTART:20241027T010000
END:STANDARD
BEGIN:DAYLIGHT
TZOFFSETFROM:+0100
TZOFFSETTO:+0200
TZNAME:CEST
DTSTART:20250330T010000
END:DAYLIGHT
BEGIN:STANDARD
TZOFFSETFROM:+0200
TZOFFSETTO:+0100
TZNAME:CET
DTSTART:20251026T010000
END:STANDARD
BEGIN:DAYLIGHT
TZOFFSETFROM:+0100
TZOFFSETTO:+0200
TZNAME:CEST
DTSTART:20260329T010000
END:DAYLIGHT
BEGIN:STANDARD
TZOFFSETFROM:+0200
TZOFFSETTO:+0100
TZNAME:CET
DTSTART:20261025T010000
END:STANDARD
END:VTIMEZONE
BEGIN:VEVENT
DTSTART;TZID=Europe/Paris:20250621T080000
DTEND;TZID=Europe/Paris:20250622T170000
DTSTAMP:20260424T014612
CREATED:20241120T135046Z
LAST-MODIFIED:20241120T135046Z
UID:8959-1750492800-1750611600@tjslavojledenice.cz
SUMMARY:Třebíč Open (kategorie U9)
DESCRIPTION:
URL:https://tjslavojledenice.cz/events/trebic-open-kategorie-u9/
END:VEVENT
BEGIN:VEVENT
DTSTART;VALUE=DATE:20250617
DTEND;VALUE=DATE:20250618
DTSTAMP:20260424T014612
CREATED:20250617T130533Z
LAST-MODIFIED:20250617T130533Z
UID:9936-1750118400-1750204799@tjslavojledenice.cz
SUMMARY:Rezervace hřiště - příprava EE Cup
DESCRIPTION:
URL:https://tjslavojledenice.cz/events/rezervace-hriste-priprava-ee-cup/
END:VEVENT
BEGIN:VEVENT
DTSTART;TZID=Europe/Paris:20250615T100000
DTEND;TZID=Europe/Paris:20250615T120000
DTSTAMP:20260424T014612
CREATED:20250218T083200Z
LAST-MODIFIED:20250218T083200Z
UID:9275-1749981600-1749988800@tjslavojledenice.cz
SUMMARY:OP dorost: Křemže - Ledenice
DESCRIPTION:
URL:https://tjslavojledenice.cz/events/op-dorost-kremze-ledenice/
END:VEVENT
BEGIN:VEVENT
DTSTART;TZID=Europe/Paris:20250614T170000
DTEND;TZID=Europe/Paris:20250614T190000
DTSTAMP:20260424T014612
CREATED:20250218T083852Z
LAST-MODIFIED:20250218T083852Z
UID:9278-1749920400-1749927600@tjslavojledenice.cz
SUMMARY:I. B muži: Chvalšiny - Ledenice
DESCRIPTION:
URL:https://tjslavojledenice.cz/events/i-b-muzi-chvalsiny-ledenice-3/
END:VEVENT
BEGIN:VEVENT
DTSTART;TZID=Europe/Paris:20250614T080000
DTEND;TZID=Europe/Paris:20250614T170000
DTSTAMP:20260424T014612
CREATED:20250218T082527Z
LAST-MODIFIED:20250218T082527Z
UID:9259-1749888000-1749920400@tjslavojledenice.cz
SUMMARY:Turnaj OFS U8
DESCRIPTION:
URL:https://tjslavojledenice.cz/events/turnaj-ofs-u8-5/
END:VEVENT
BEGIN:VEVENT
DTSTART;TZID=Europe/Paris:20250614T080000
DTEND;TZID=Europe/Paris:20250614T170000
DTSTAMP:20260424T014612
CREATED:20241219T091723Z
LAST-MODIFIED:20241219T091723Z
UID:9040-1749888000-1749920400@tjslavojledenice.cz
SUMMARY:Strakon Cup U9
DESCRIPTION:
URL:https://tjslavojledenice.cz/events/strakon-cup-u9/
END:VEVENT
BEGIN:VEVENT
DTSTART;VALUE=DATE:20250614
DTEND;VALUE=DATE:20250616
DTSTAMP:20260424T014612
CREATED:20250610T114708Z
LAST-MODIFIED:20250610T114708Z
UID:9869-1749859200-1750031999@tjslavojledenice.cz
SUMMARY:Dokopná a přespání na hřišti U9
DESCRIPTION:
URL:https://tjslavojledenice.cz/events/dokopna-a-prespani-na-hristi-u9/
END:VEVENT
BEGIN:VEVENT
DTSTART;TZID=Europe/Paris:20250613T170000
DTEND;TZID=Europe/Paris:20250613T183000
DTSTAMP:20260424T014612
CREATED:20250218T090814Z
LAST-MODIFIED:20250218T090814Z
UID:9433-1749834000-1749839400@tjslavojledenice.cz
SUMMARY:OS ml. žáci: Lišov - Ledenice
DESCRIPTION:
URL:https://tjslavojledenice.cz/events/os-ml-zaci-lisov-ledenice/
END:VEVENT
BEGIN:VEVENT
DTSTART;TZID=Europe/Paris:20250611T170000
DTEND;TZID=Europe/Paris:20250611T180000
DTSTAMP:20260424T014612
CREATED:20250218T085958Z
LAST-MODIFIED:20250218T085958Z
UID:9383-1749661200-1749664800@tjslavojledenice.cz
SUMMARY:OP ml. žáci (sk. A): Ledenice - Borovany
DESCRIPTION:
URL:https://tjslavojledenice.cz/events/op-ml-zaci-sk-a-ledenice-borovany/
END:VEVENT
BEGIN:VEVENT
DTSTART;TZID=Europe/Paris:20250610T170000
DTEND;TZID=Europe/Paris:20250610T180000
DTSTAMP:20260424T014612
CREATED:20250531T140729Z
LAST-MODIFIED:20250531T174822Z
UID:9808-1749574800-1749578400@tjslavojledenice.cz
SUMMARY:OP ml. přípravka (nadstavba o 3. místo): Ledenice B - Roudné
DESCRIPTION:
URL:https://tjslavojledenice.cz/events/op-ml-pripravka-nadstavba-o-3-misto-ledenice-b-roudne/
END:VEVENT
BEGIN:VEVENT
DTSTART;TZID=Europe/Paris:20250609T170000
DTEND;TZID=Europe/Paris:20250609T180000
DTSTAMP:20260424T014612
CREATED:20250531T140558Z
LAST-MODIFIED:20250531T140558Z
UID:9806-1749488400-1749492000@tjslavojledenice.cz
SUMMARY:OP ml. přípravka (finále nadstavby): Rudolfov - Ledenice
DESCRIPTION:
URL:https://tjslavojledenice.cz/events/op-ml-pripravka-finale-nadstavby-rudolfov-ledenice/
END:VEVENT
BEGIN:VEVENT
DTSTART;TZID=Europe/Paris:20250609T170000
DTEND;TZID=Europe/Paris:20250609T180000
DTSTAMP:20260424T014612
CREATED:20250218T090328Z
LAST-MODIFIED:20250324T122531Z
UID:9386-1749488400-1749492000@tjslavojledenice.cz
SUMMARY:OP ml. žáci (sk. B): Lišov B - Ledenice B
DESCRIPTION:
URL:https://tjslavojledenice.cz/events/op-ml-zaci-sk-a-lisov-b-ledenice-b/
END:VEVENT
BEGIN:VEVENT
DTSTART;TZID=Europe/Paris:20250608T153000
DTEND;TZID=Europe/Paris:20250608T170000
DTSTAMP:20260424T014612
CREATED:20250218T085938Z
LAST-MODIFIED:20250218T085938Z
UID:9382-1749396600-1749402000@tjslavojledenice.cz
SUMMARY:OP ml. žáci (sk. A): Slavia - Ledenice
DESCRIPTION:
URL:https://tjslavojledenice.cz/events/op-ml-zaci-sk-a-slavia-ledenice/
END:VEVENT
BEGIN:VEVENT
DTSTART;TZID=Europe/Paris:20250608T150000
DTEND;TZID=Europe/Paris:20250608T170000
DTSTAMP:20260424T014612
CREATED:20250218T083831Z
LAST-MODIFIED:20250218T083831Z
UID:9277-1749394800-1749402000@tjslavojledenice.cz
SUMMARY:I. B muži: Ledenice - Boršov
DESCRIPTION:
URL:https://tjslavojledenice.cz/events/i-b-muzi-ledenice-borsov-3/
END:VEVENT
BEGIN:VEVENT
DTSTART;TZID=Europe/Paris:20250607T100000
DTEND;TZID=Europe/Paris:20250607T120000
DTSTAMP:20260424T014612
CREATED:20250218T083141Z
LAST-MODIFIED:20250226T083940Z
UID:9274-1749290400-1749297600@tjslavojledenice.cz
SUMMARY:OP dorost: Ledenice - T. Sviny
DESCRIPTION:
URL:https://tjslavojledenice.cz/events/op-dorost-ledenice-t-sviny/
END:VEVENT
BEGIN:VEVENT
DTSTART;TZID=Europe/Paris:20250604T180000
DTEND;TZID=Europe/Paris:20250604T190000
DTSTAMP:20260424T014612
CREATED:20250531T140643Z
LAST-MODIFIED:20250531T140643Z
UID:9807-1749060000-1749063600@tjslavojledenice.cz
SUMMARY:OP ml. přípravka (nadstavba o 3. místo): Roudné - Ledenice B
DESCRIPTION:
URL:https://tjslavojledenice.cz/events/op-ml-pripravka-nadstavba-o-3-misto-roudne-ledenice-b/
END:VEVENT
BEGIN:VEVENT
DTSTART;TZID=Europe/Paris:20250603T170000
DTEND;TZID=Europe/Paris:20250603T180000
DTSTAMP:20260424T014612
CREATED:20250218T090757Z
LAST-MODIFIED:20250218T090757Z
UID:9432-1748970000-1748973600@tjslavojledenice.cz
SUMMARY:OS ml. žáci: Ledenice - Mokré
DESCRIPTION:
URL:https://tjslavojledenice.cz/events/os-ml-zaci-ledenice-mokre/
END:VEVENT
BEGIN:VEVENT
DTSTART;TZID=Europe/Paris:20250603T160000
DTEND;TZID=Europe/Paris:20250603T170000
DTSTAMP:20260424T014612
CREATED:20250531T140453Z
LAST-MODIFIED:20250531T140453Z
UID:9805-1748966400-1748970000@tjslavojledenice.cz
SUMMARY:OP ml. přípravka (finále nadstavby): Ledenice - Rudolfov
DESCRIPTION:
URL:https://tjslavojledenice.cz/events/op-ml-pripravka-finale-nadstavby-ledenice-rudolfov/
END:VEVENT
BEGIN:VEVENT
DTSTART;TZID=Europe/Paris:20250602T170000
DTEND;TZID=Europe/Paris:20250602T180000
DTSTAMP:20260424T014612
CREATED:20250218T090353Z
LAST-MODIFIED:20250324T122527Z
UID:9387-1748883600-1748887200@tjslavojledenice.cz
SUMMARY:OP ml. žáci (sk. B): Ledenice B - Včelná
DESCRIPTION:
URL:https://tjslavojledenice.cz/events/op-ml-zaci-sk-a-ledenice-b-vcelna/
END:VEVENT
BEGIN:VEVENT
DTSTART;TZID=Europe/Paris:20250601T150000
DTEND;TZID=Europe/Paris:20250601T170000
DTSTAMP:20260424T014612
CREATED:20250218T083818Z
LAST-MODIFIED:20250218T083818Z
UID:9276-1748790000-1748797200@tjslavojledenice.cz
SUMMARY:I. B muži: Ledenice - Č. Dub
DESCRIPTION:
URL:https://tjslavojledenice.cz/events/i-b-muzi-ledenice-c-dub/
END:VEVENT
BEGIN:VEVENT
DTSTART;TZID=Europe/Paris:20250601T100000
DTEND;TZID=Europe/Paris:20250601T150000
DTSTAMP:20260424T014612
CREATED:20250503T194651Z
LAST-MODIFIED:20250503T194651Z
UID:9747-1748772000-1748790000@tjslavojledenice.cz
SUMMARY:Turnaj Hluboká n. Vltavou U9
DESCRIPTION:
URL:https://tjslavojledenice.cz/events/turnaj-hluboka-n-vltavou-u9/
END:VEVENT
BEGIN:VEVENT
DTSTART;TZID=Europe/Paris:20250531T110000
DTEND;TZID=Europe/Paris:20250531T123000
DTSTAMP:20260424T014612
CREATED:20250218T090307Z
LAST-MODIFIED:20250324T122536Z
UID:9385-1748689200-1748694600@tjslavojledenice.cz
SUMMARY:OP ml. žáci (sk. B): D. Bukovsko - Ledenice B
DESCRIPTION:
URL:https://tjslavojledenice.cz/events/op-ml-zaci-sk-a-d-bukovsko-ledenice-b/
END:VEVENT
BEGIN:VEVENT
DTSTART;TZID=Europe/Paris:20250531T100000
DTEND;TZID=Europe/Paris:20250531T120000
DTSTAMP:20260424T014612
CREATED:20250218T083126Z
LAST-MODIFIED:20250218T083126Z
UID:9273-1748685600-1748692800@tjslavojledenice.cz
SUMMARY:OP dorost: Hrdějovice - Ledenice
DESCRIPTION:
URL:https://tjslavojledenice.cz/events/op-dorost-hrdejovice-ledenice/
END:VEVENT
BEGIN:VEVENT
DTSTART;TZID=Europe/Paris:20250530T170000
DTEND;TZID=Europe/Paris:20250530T180000
DTSTAMP:20260424T014612
CREATED:20250519T133723Z
LAST-MODIFIED:20250519T133723Z
UID:9773-1748624400-1748628000@tjslavojledenice.cz
SUMMARY:OP ml. přípravka (nadstavba): Ledenice B - Borovany A
DESCRIPTION:
URL:https://tjslavojledenice.cz/events/op-ml-pripravka-nadstavba-ledenice-b-borovany-a/
END:VEVENT
BEGIN:VEVENT
DTSTART;TZID=Europe/Paris:20250530T170000
DTEND;TZID=Europe/Paris:20250530T180000
DTSTAMP:20260424T014612
CREATED:20250218T090743Z
LAST-MODIFIED:20250218T090743Z
UID:9431-1748624400-1748628000@tjslavojledenice.cz
SUMMARY:OS ml. žáci: Římov - Ledenice
DESCRIPTION:
URL:https://tjslavojledenice.cz/events/os-ml-zaci-rimov-ledenice-2/
END:VEVENT
BEGIN:VEVENT
DTSTART;TZID=Europe/Paris:20250527T173000
DTEND;TZID=Europe/Paris:20250527T183000
DTSTAMP:20260424T014612
CREATED:20250519T133807Z
LAST-MODIFIED:20250519T133807Z
UID:9775-1748367000-1748370600@tjslavojledenice.cz
SUMMARY:OP ml. přípravka (nadstavba): Dynamo ČB B - Ledenice A
DESCRIPTION:
URL:https://tjslavojledenice.cz/events/op-ml-pripravka-nadstavba-dynamo-cb-b-ledenice-a/
END:VEVENT
BEGIN:VEVENT
DTSTART;TZID=Europe/Paris:20250526T170000
DTEND;TZID=Europe/Paris:20250526T180000
DTSTAMP:20260424T014612
CREATED:20250218T085918Z
LAST-MODIFIED:20250218T085918Z
UID:9381-1748278800-1748282400@tjslavojledenice.cz
SUMMARY:OP ml. žáci (sk. A): Ledenice - K. Újezd
DESCRIPTION:
URL:https://tjslavojledenice.cz/events/op-ml-zaci-sk-a-ledenice-k-ujezd/
END:VEVENT
BEGIN:VEVENT
DTSTART;TZID=Europe/Paris:20250525T080000
DTEND;TZID=Europe/Paris:20250525T170000
DTSTAMP:20260424T014612
CREATED:20250218T082511Z
LAST-MODIFIED:20250218T082511Z
UID:9254-1748160000-1748192400@tjslavojledenice.cz
SUMMARY:Turnaj OFS U8
DESCRIPTION:
URL:https://tjslavojledenice.cz/events/turnaj-ofs-u8-4/
END:VEVENT
BEGIN:VEVENT
DTSTART;TZID=Europe/Paris:20250524T101500
DTEND;TZID=Europe/Paris:20250524T120000
DTSTAMP:20260424T014612
CREATED:20250218T083803Z
LAST-MODIFIED:20250218T083803Z
UID:9307-1748081700-1748088000@tjslavojledenice.cz
SUMMARY:I. B muži: Křemže - Ledenice
DESCRIPTION:
URL:https://tjslavojledenice.cz/events/i-b-muzi-kremze-ledenice/
END:VEVENT
BEGIN:VEVENT
DTSTART;TZID=Europe/Paris:20250524T100000
DTEND;TZID=Europe/Paris:20250524T120000
DTSTAMP:20260424T014612
CREATED:20250218T083103Z
LAST-MODIFIED:20250226T083947Z
UID:9272-1748080800-1748088000@tjslavojledenice.cz
SUMMARY:OP dorost: Ledenice - Větřní
DESCRIPTION:
URL:https://tjslavojledenice.cz/events/op-dorost-ledenice-vetrni-2/
END:VEVENT
END:VCALENDAR