BEGIN:VCALENDAR
VERSION:2.0
PRODID:-//TJ Slavoj Ledenice - ECPv6.15.18//NONSGML v1.0//EN
CALSCALE:GREGORIAN
METHOD:PUBLISH
X-WR-CALNAME:TJ Slavoj Ledenice
X-ORIGINAL-URL:https://tjslavojledenice.cz
X-WR-CALDESC:Akce na TJ Slavoj Ledenice
REFRESH-INTERVAL;VALUE=DURATION:PT1H
X-Robots-Tag:noindex
X-PUBLISHED-TTL:PT1H
BEGIN:VTIMEZONE
TZID:Europe/Paris
BEGIN:DAYLIGHT
TZOFFSETFROM:+0100
TZOFFSETTO:+0200
TZNAME:CEST
DTSTART:20240331T010000
END:DAYLIGHT
BEGIN:STANDARD
TZOFFSETFROM:+0200
TZOFFSETTO:+0100
TZNAME:CET
DTSTART:20241027T010000
END:STANDARD
BEGIN:DAYLIGHT
TZOFFSETFROM:+0100
TZOFFSETTO:+0200
TZNAME:CEST
DTSTART:20250330T010000
END:DAYLIGHT
BEGIN:STANDARD
TZOFFSETFROM:+0200
TZOFFSETTO:+0100
TZNAME:CET
DTSTART:20251026T010000
END:STANDARD
BEGIN:DAYLIGHT
TZOFFSETFROM:+0100
TZOFFSETTO:+0200
TZNAME:CEST
DTSTART:20260329T010000
END:DAYLIGHT
BEGIN:STANDARD
TZOFFSETFROM:+0200
TZOFFSETTO:+0100
TZNAME:CET
DTSTART:20261025T010000
END:STANDARD
END:VTIMEZONE
BEGIN:VEVENT
DTSTART;TZID=Europe/Paris:20251017T170000
DTEND;TZID=Europe/Paris:20251017T180000
DTSTAMP:20260423T225137
CREATED:20250806T092058Z
LAST-MODIFIED:20250806T092058Z
UID:10144-1760720400-1760724000@tjslavojledenice.cz
SUMMARY:OP ml. přípravka (sk. D): Ledenice B - Nová Ves
DESCRIPTION:
URL:https://tjslavojledenice.cz/events/op-ml-pripravka-sk-d-ledenice-b-nova-ves/
END:VEVENT
BEGIN:VEVENT
DTSTART;TZID=Europe/Paris:20251017T170000
DTEND;TZID=Europe/Paris:20251017T180000
DTSTAMP:20260423T225137
CREATED:20250806T091559Z
LAST-MODIFIED:20250806T091559Z
UID:10129-1760720400-1760724000@tjslavojledenice.cz
SUMMARY:OP ml. přípravka (sk. A): Ledenice A - Č. Dvory
DESCRIPTION:
URL:https://tjslavojledenice.cz/events/op-ml-pripravka-sk-a-ledenice-a-c-dvory/
END:VEVENT
BEGIN:VEVENT
DTSTART;TZID=Europe/Paris:20251017T160000
DTEND;TZID=Europe/Paris:20251017T170000
DTSTAMP:20260423T225137
CREATED:20250806T091402Z
LAST-MODIFIED:20250806T091402Z
UID:10124-1760716800-1760720400@tjslavojledenice.cz
SUMMARY:OP st. přípravka: Ledenice - JFA
DESCRIPTION:
URL:https://tjslavojledenice.cz/events/op-st-pripravka-ledenice-jfa/
END:VEVENT
BEGIN:VEVENT
DTSTART;TZID=Europe/Paris:20251016T170000
DTEND;TZID=Europe/Paris:20251016T190000
DTSTAMP:20260423T225137
CREATED:20250806T090528Z
LAST-MODIFIED:20250806T090528Z
UID:10094-1760634000-1760641200@tjslavojledenice.cz
SUMMARY:OP st. žáci: Borovany - Ledenice
DESCRIPTION:
URL:https://tjslavojledenice.cz/events/op-st-zaci-borovany-ledenice/
END:VEVENT
BEGIN:VEVENT
DTSTART;TZID=Europe/Paris:20251015T170000
DTEND;TZID=Europe/Paris:20251015T190000
DTSTAMP:20260423T225137
CREATED:20250806T090957Z
LAST-MODIFIED:20250806T090957Z
UID:10114-1760547600-1760554800@tjslavojledenice.cz
SUMMARY:OP ml. žáci: Mladé - Ledenice
DESCRIPTION:
URL:https://tjslavojledenice.cz/events/op-ml-zaci-mlade-ledenice-2/
END:VEVENT
BEGIN:VEVENT
DTSTART;TZID=Europe/Paris:20251012T150000
DTEND;TZID=Europe/Paris:20251012T170000
DTSTAMP:20260423T225137
CREATED:20250806T085216Z
LAST-MODIFIED:20250806T085216Z
UID:10030-1760281200-1760288400@tjslavojledenice.cz
SUMMARY:7. liga muži: Ledenice - Přídolí
DESCRIPTION:
URL:https://tjslavojledenice.cz/events/7-liga-muzi-ledenice-pridoli/
END:VEVENT
BEGIN:VEVENT
DTSTART;TZID=Europe/Paris:20251012T100000
DTEND;TZID=Europe/Paris:20251012T120000
DTSTAMP:20260423T225137
CREATED:20250806T090116Z
LAST-MODIFIED:20250806T090116Z
UID:10062-1760263200-1760270400@tjslavojledenice.cz
SUMMARY:OP dorost: K. Újezd - Ledenice
DESCRIPTION:
URL:https://tjslavojledenice.cz/events/op-dorost-k-ujezd-ledenice-2/
END:VEVENT
BEGIN:VEVENT
DTSTART;TZID=Europe/Paris:20251010T170000
DTEND;TZID=Europe/Paris:20251010T180000
DTSTAMP:20260423T225137
CREATED:20250930T073121Z
LAST-MODIFIED:20250930T073121Z
UID:10362-1760115600-1760119200@tjslavojledenice.cz
SUMMARY:Příprava U7: Ledenice - Nemanice
DESCRIPTION:
URL:https://tjslavojledenice.cz/events/priprava-u7-ledenice-nemanice-2/
END:VEVENT
BEGIN:VEVENT
DTSTART;TZID=Europe/Paris:20251010T170000
DTEND;TZID=Europe/Paris:20251010T180000
DTSTAMP:20260423T225137
CREATED:20250806T091919Z
LAST-MODIFIED:20250806T091919Z
UID:10139-1760115600-1760119200@tjslavojledenice.cz
SUMMARY:OP ml. přípravka (sk. D): Olešnice - Ledenice B
DESCRIPTION:
URL:https://tjslavojledenice.cz/events/op-ml-pripravka-sk-d-olesnice-ledenice-b/
END:VEVENT
BEGIN:VEVENT
DTSTART;TZID=Europe/Paris:20251007T170000
DTEND;TZID=Europe/Paris:20251007T190000
DTSTAMP:20260423T225137
CREATED:20250806T091143Z
LAST-MODIFIED:20250806T091143Z
UID:10118-1759856400-1759863600@tjslavojledenice.cz
SUMMARY:OP st. přípravka: Včelná - Ledenice
DESCRIPTION:
URL:https://tjslavojledenice.cz/events/op-st-pripravka-vcelna-ledenice/
END:VEVENT
BEGIN:VEVENT
DTSTART;TZID=Europe/Paris:20251007T170000
DTEND;TZID=Europe/Paris:20251007T190000
DTSTAMP:20260423T225137
CREATED:20250806T090738Z
LAST-MODIFIED:20250806T090738Z
UID:10099-1759856400-1759863600@tjslavojledenice.cz
SUMMARY:OP ml. žáci: Ledenice - N. Hodějovice
DESCRIPTION:
URL:https://tjslavojledenice.cz/events/op-ml-zaci-ledenice-n-hodejovice-2/
END:VEVENT
BEGIN:VEVENT
DTSTART;TZID=Europe/Paris:20251006T170000
DTEND;TZID=Europe/Paris:20251006T190000
DTSTAMP:20260423T225137
CREATED:20250806T090332Z
LAST-MODIFIED:20250806T090332Z
UID:10068-1759770000-1759777200@tjslavojledenice.cz
SUMMARY:OP st. žáci: Ledenice - Hrdějovice
DESCRIPTION:
URL:https://tjslavojledenice.cz/events/op-st-zaci-ledenice-hrdejovice-2/
END:VEVENT
BEGIN:VEVENT
DTSTART;TZID=Europe/Paris:20251004T123000
DTEND;TZID=Europe/Paris:20251004T143000
DTSTAMP:20260423T225137
CREATED:20250806T085418Z
LAST-MODIFIED:20250806T085418Z
UID:10035-1759581000-1759588200@tjslavojledenice.cz
SUMMARY:7. liga muži: Včelná - Ledenice
DESCRIPTION:
URL:https://tjslavojledenice.cz/events/7-liga-muzi-vcelna-ledenice/
END:VEVENT
BEGIN:VEVENT
DTSTART;TZID=Europe/Paris:20251004T100000
DTEND;TZID=Europe/Paris:20251004T120000
DTSTAMP:20260423T225137
CREATED:20250806T085817Z
LAST-MODIFIED:20250806T085817Z
UID:10054-1759572000-1759579200@tjslavojledenice.cz
SUMMARY:OP dorost: Ledenice - Hrdějovice
DESCRIPTION:
URL:https://tjslavojledenice.cz/events/op-dorost-ledenice-hrdejovice-2/
END:VEVENT
BEGIN:VEVENT
DTSTART;TZID=Europe/Paris:20251003T170000
DTEND;TZID=Europe/Paris:20251003T190000
DTSTAMP:20260423T225137
CREATED:20250806T090942Z
LAST-MODIFIED:20250806T090942Z
UID:10113-1759510800-1759518000@tjslavojledenice.cz
SUMMARY:OP ml. žáci: H. Stropnice - Ledenice
DESCRIPTION:
URL:https://tjslavojledenice.cz/events/op-ml-zaci-h-stropnice-ledenice/
END:VEVENT
BEGIN:VEVENT
DTSTART;TZID=Europe/Paris:20251003T170000
DTEND;TZID=Europe/Paris:20251003T180000
DTSTAMP:20260423T225137
CREATED:20250806T092042Z
LAST-MODIFIED:20250806T092042Z
UID:10143-1759510800-1759514400@tjslavojledenice.cz
SUMMARY:OP ml. přípravka (sk. D): Ledenice B - Lišov B
DESCRIPTION:
URL:https://tjslavojledenice.cz/events/op-ml-pripravka-sk-d-ledenice-b-lisov-b/
END:VEVENT
BEGIN:VEVENT
DTSTART;TZID=Europe/Paris:20251003T170000
DTEND;TZID=Europe/Paris:20251003T180000
DTSTAMP:20260423T225137
CREATED:20250806T091540Z
LAST-MODIFIED:20250806T091540Z
UID:10127-1759510800-1759514400@tjslavojledenice.cz
SUMMARY:OP ml. přípravka (sk. A): Ledenice A - Římov
DESCRIPTION:
URL:https://tjslavojledenice.cz/events/op-ml-pripravka-sk-a-ledenice-a-rimov/
END:VEVENT
BEGIN:VEVENT
DTSTART;TZID=Europe/Paris:20251003T160000
DTEND;TZID=Europe/Paris:20251003T170000
DTSTAMP:20260423T225137
CREATED:20250806T091348Z
LAST-MODIFIED:20250806T091348Z
UID:10123-1759507200-1759510800@tjslavojledenice.cz
SUMMARY:OP st. přípravka: Ledenice - Nová Ves
DESCRIPTION:
URL:https://tjslavojledenice.cz/events/op-st-pripravka-ledenice-nova-ves/
END:VEVENT
BEGIN:VEVENT
DTSTART;TZID=Europe/Paris:20251002T170000
DTEND;TZID=Europe/Paris:20251002T180000
DTSTAMP:20260423T225137
CREATED:20250922T110234Z
LAST-MODIFIED:20250924T062531Z
UID:10353-1759424400-1759428000@tjslavojledenice.cz
SUMMARY:Příprava U11: Ledenice -Třeboň
DESCRIPTION:
URL:https://tjslavojledenice.cz/events/priprava-u11-ledenice-trebon/
END:VEVENT
BEGIN:VEVENT
DTSTART;TZID=Europe/Paris:20250929T170000
DTEND;TZID=Europe/Paris:20250929T190000
DTSTAMP:20260423T225137
CREATED:20250806T090313Z
LAST-MODIFIED:20250806T090313Z
UID:10067-1759165200-1759172400@tjslavojledenice.cz
SUMMARY:OP st. žáci: Ledenice - Nové Hrady
DESCRIPTION:
URL:https://tjslavojledenice.cz/events/op-st-zaci-ledenice-nove-hrady/
END:VEVENT
BEGIN:VEVENT
DTSTART;TZID=Europe/Paris:20250928T150000
DTEND;TZID=Europe/Paris:20250928T170000
DTSTAMP:20260423T225137
CREATED:20250806T085154Z
LAST-MODIFIED:20250806T085154Z
UID:10029-1759071600-1759078800@tjslavojledenice.cz
SUMMARY:7. liga muži: Ledenice - Jankov
DESCRIPTION:
URL:https://tjslavojledenice.cz/events/7-liga-muzi-ledenice-jankov/
END:VEVENT
BEGIN:VEVENT
DTSTART;TZID=Europe/Paris:20250928T100000
DTEND;TZID=Europe/Paris:20250928T120000
DTSTAMP:20260423T225137
CREATED:20250806T090057Z
LAST-MODIFIED:20250806T090057Z
UID:10061-1759053600-1759060800@tjslavojledenice.cz
SUMMARY:OP dorost: Planá - Ledenice
DESCRIPTION:
URL:https://tjslavojledenice.cz/events/op-dorost-plana-ledenice-4/
END:VEVENT
BEGIN:VEVENT
DTSTART;TZID=Europe/Paris:20250926T170000
DTEND;TZID=Europe/Paris:20250926T190000
DTSTAMP:20260423T225137
CREATED:20250916T103601Z
LAST-MODIFIED:20250916T103601Z
UID:10310-1758906000-1758913200@tjslavojledenice.cz
SUMMARY:Příprava U7: Ledenice - Nemanice
DESCRIPTION:
URL:https://tjslavojledenice.cz/events/priprava-u7-ledenice-nemanice/
END:VEVENT
BEGIN:VEVENT
DTSTART;TZID=Europe/Paris:20250926T170000
DTEND;TZID=Europe/Paris:20250926T190000
DTSTAMP:20260423T225137
CREATED:20250806T090503Z
LAST-MODIFIED:20250806T090503Z
UID:10072-1758906000-1758913200@tjslavojledenice.cz
SUMMARY:OP st. žáci: N. Hodějovice - Ledenice
DESCRIPTION:
URL:https://tjslavojledenice.cz/events/op-st-zaci-n-hodejovice-ledenice/
END:VEVENT
BEGIN:VEVENT
DTSTART;TZID=Europe/Paris:20250926T163000
DTEND;TZID=Europe/Paris:20250926T180000
DTSTAMP:20260423T225137
CREATED:20250919T104014Z
LAST-MODIFIED:20250919T104014Z
UID:10349-1758904200-1758909600@tjslavojledenice.cz
SUMMARY:Příprava U11: Ledenice - Nová Ves
DESCRIPTION:
URL:https://tjslavojledenice.cz/events/priprava-u11-ledenice-nova-ves/
END:VEVENT
BEGIN:VEVENT
DTSTART;TZID=Europe/Paris:20250924T170000
DTEND;TZID=Europe/Paris:20250924T180000
DTSTAMP:20260423T225137
CREATED:20250806T091903Z
LAST-MODIFIED:20250806T091903Z
UID:10138-1758733200-1758736800@tjslavojledenice.cz
SUMMARY:OP ml. přípravka (sk. D): Dříteň - Ledenice B
DESCRIPTION:
URL:https://tjslavojledenice.cz/events/op-ml-pripravka-sk-d-driten-ledenice-b/
END:VEVENT
BEGIN:VEVENT
DTSTART;TZID=Europe/Paris:20250923T170000
DTEND;TZID=Europe/Paris:20250923T190000
DTSTAMP:20260423T225137
CREATED:20250806T090722Z
LAST-MODIFIED:20250806T090722Z
UID:10098-1758646800-1758654000@tjslavojledenice.cz
SUMMARY:OP ml. žáci: Ledenice - Nová Ves
DESCRIPTION:
URL:https://tjslavojledenice.cz/events/op-ml-zaci-ledenice-nova-ves/
END:VEVENT
BEGIN:VEVENT
DTSTART;TZID=Europe/Paris:20250922T170000
DTEND;TZID=Europe/Paris:20250922T180000
DTSTAMP:20260423T225137
CREATED:20250806T091712Z
LAST-MODIFIED:20250806T091712Z
UID:10132-1758560400-1758564000@tjslavojledenice.cz
SUMMARY:OP ml. přípravka (sk. A): Hluboká - Ledenice A
DESCRIPTION:
URL:https://tjslavojledenice.cz/events/op-ml-pripravka-sk-a-hluboka-ledenice-a/
END:VEVENT
BEGIN:VEVENT
DTSTART;TZID=Europe/Paris:20250920T163000
DTEND;TZID=Europe/Paris:20250920T183000
DTSTAMP:20260423T225137
CREATED:20250806T085356Z
LAST-MODIFIED:20250806T085356Z
UID:10034-1758385800-1758393000@tjslavojledenice.cz
SUMMARY:7. liga muži: Frymburk - Ledenice
DESCRIPTION:
URL:https://tjslavojledenice.cz/events/7-liga-muzi-frymburk-ledenice-2/
END:VEVENT
BEGIN:VEVENT
DTSTART;TZID=Europe/Paris:20250919T170000
DTEND;TZID=Europe/Paris:20250919T190000
DTSTAMP:20260423T225137
CREATED:20250806T090052Z
LAST-MODIFIED:20250806T090052Z
UID:10060-1758301200-1758308400@tjslavojledenice.cz
SUMMARY:OP dorost: Sedlec - Ledenice
DESCRIPTION:
URL:https://tjslavojledenice.cz/events/op-dorost-sedlec-ledenice/
END:VEVENT
END:VCALENDAR