BEGIN:VCALENDAR
VERSION:2.0
PRODID:-//TJ Slavoj Ledenice - ECPv6.15.18//NONSGML v1.0//EN
CALSCALE:GREGORIAN
METHOD:PUBLISH
X-WR-CALNAME:TJ Slavoj Ledenice
X-ORIGINAL-URL:https://tjslavojledenice.cz
X-WR-CALDESC:Akce na TJ Slavoj Ledenice
REFRESH-INTERVAL;VALUE=DURATION:PT1H
X-Robots-Tag:noindex
X-PUBLISHED-TTL:PT1H
BEGIN:VTIMEZONE
TZID:Europe/Paris
BEGIN:DAYLIGHT
TZOFFSETFROM:+0100
TZOFFSETTO:+0200
TZNAME:CEST
DTSTART:20240331T010000
END:DAYLIGHT
BEGIN:STANDARD
TZOFFSETFROM:+0200
TZOFFSETTO:+0100
TZNAME:CET
DTSTART:20241027T010000
END:STANDARD
BEGIN:DAYLIGHT
TZOFFSETFROM:+0100
TZOFFSETTO:+0200
TZNAME:CEST
DTSTART:20250330T010000
END:DAYLIGHT
BEGIN:STANDARD
TZOFFSETFROM:+0200
TZOFFSETTO:+0100
TZNAME:CET
DTSTART:20251026T010000
END:STANDARD
BEGIN:DAYLIGHT
TZOFFSETFROM:+0100
TZOFFSETTO:+0200
TZNAME:CEST
DTSTART:20260329T010000
END:DAYLIGHT
BEGIN:STANDARD
TZOFFSETFROM:+0200
TZOFFSETTO:+0100
TZNAME:CET
DTSTART:20261025T010000
END:STANDARD
END:VTIMEZONE
BEGIN:VEVENT
DTSTART;TZID=Europe/Paris:20250903T170000
DTEND;TZID=Europe/Paris:20250903T190000
DTSTAMP:20260424T001848
CREATED:20250812T202115Z
LAST-MODIFIED:20250812T202115Z
UID:10182-1756918800-1756926000@tjslavojledenice.cz
SUMMARY:Pohár OFS U15: Hrdějovice - Ledenice
DESCRIPTION:
URL:https://tjslavojledenice.cz/events/pohar-ofs-u15-hrdejovice-ledenice/
END:VEVENT
BEGIN:VEVENT
DTSTART;TZID=Europe/Paris:20250905T160000
DTEND;TZID=Europe/Paris:20250905T170000
DTSTAMP:20260424T001848
CREATED:20250806T091303Z
LAST-MODIFIED:20250806T091303Z
UID:10121-1757088000-1757091600@tjslavojledenice.cz
SUMMARY:OP st. přípravka: Ledenice - Horní Stropnice
DESCRIPTION:
URL:https://tjslavojledenice.cz/events/op-st-pripravka-ledenice-horni-stropnice/
END:VEVENT
BEGIN:VEVENT
DTSTART;TZID=Europe/Paris:20250905T170000
DTEND;TZID=Europe/Paris:20250905T190000
DTSTAMP:20260424T001848
CREATED:20250806T090022Z
LAST-MODIFIED:20250806T090022Z
UID:10059-1757091600-1757098800@tjslavojledenice.cz
SUMMARY:OP dorost: N. Hodějovice - Ledenice
DESCRIPTION:
URL:https://tjslavojledenice.cz/events/op-dorost-n-hodejovice-ledenice-4/
END:VEVENT
BEGIN:VEVENT
DTSTART;TZID=Europe/Paris:20250905T170000
DTEND;TZID=Europe/Paris:20250905T190000
DTSTAMP:20260424T001848
CREATED:20250806T090420Z
LAST-MODIFIED:20250806T090420Z
UID:10070-1757091600-1757098800@tjslavojledenice.cz
SUMMARY:OP st. žáci: Srubec - Ledenice
DESCRIPTION:
URL:https://tjslavojledenice.cz/events/op-st-zaci-srubec-ledenice-2/
END:VEVENT
BEGIN:VEVENT
DTSTART;TZID=Europe/Paris:20250906T080000
DTEND;TZID=Europe/Paris:20250906T190000
DTSTAMP:20260424T001848
CREATED:20250813T123850Z
LAST-MODIFIED:20250813T123850Z
UID:10192-1757145600-1757185200@tjslavojledenice.cz
SUMMARY:Turnaj nohejbal - Joudové
DESCRIPTION:
URL:https://tjslavojledenice.cz/events/turnaj-nohejbal-joudove-2/
END:VEVENT
BEGIN:VEVENT
DTSTART;TZID=Europe/Paris:20250907T130000
DTEND;TZID=Europe/Paris:20250907T170000
DTSTAMP:20260424T001848
CREATED:20241125T094122Z
LAST-MODIFIED:20250902T062431Z
UID:8995-1757250000-1757264400@tjslavojledenice.cz
SUMMARY:Dětská olympiáda
DESCRIPTION:
URL:https://tjslavojledenice.cz/events/detska-olympiada-3/
END:VEVENT
BEGIN:VEVENT
DTSTART;TZID=Europe/Paris:20250907T170000
DTEND;TZID=Europe/Paris:20250907T190000
DTSTAMP:20260424T001848
CREATED:20250806T085334Z
LAST-MODIFIED:20250806T085334Z
UID:10033-1757264400-1757271600@tjslavojledenice.cz
SUMMARY:7. liga muži: Kaplice B - Ledenice
DESCRIPTION:
URL:https://tjslavojledenice.cz/events/7-liga-muzi-kaplice-b-ledenice-2/
END:VEVENT
BEGIN:VEVENT
DTSTART;TZID=Europe/Paris:20250908T170000
DTEND;TZID=Europe/Paris:20250908T190000
DTSTAMP:20260424T001848
CREATED:20250806T090257Z
LAST-MODIFIED:20250806T090257Z
UID:10066-1757350800-1757358000@tjslavojledenice.cz
SUMMARY:OP st. žáci: Ledenice - Římov
DESCRIPTION:
URL:https://tjslavojledenice.cz/events/op-st-zaci-ledenice-rimov/
END:VEVENT
BEGIN:VEVENT
DTSTART;TZID=Europe/Paris:20250910T120000
DTEND;TZID=Europe/Paris:20250910T170000
DTSTAMP:20260424T001848
CREATED:20250909T105419Z
LAST-MODIFIED:20250909T105419Z
UID:10300-1757505600-1757523600@tjslavojledenice.cz
SUMMARY:Planeo Cup U9 (Kamenice nad Lipou)
DESCRIPTION:
URL:https://tjslavojledenice.cz/events/planeo-cup-u9-kamenice-nad-lipou/
END:VEVENT
BEGIN:VEVENT
DTSTART;TZID=Europe/Paris:20250912T163000
DTEND;TZID=Europe/Paris:20250912T173000
DTSTAMP:20260424T001848
CREATED:20250806T091122Z
LAST-MODIFIED:20250806T091122Z
UID:10117-1757694600-1757698200@tjslavojledenice.cz
SUMMARY:OP st. přípravka: T. Sviny - Ledenice
DESCRIPTION:
URL:https://tjslavojledenice.cz/events/op-st-pripravka-t-sviny-ledenice/
END:VEVENT
BEGIN:VEVENT
DTSTART;TZID=Europe/Paris:20250912T163000
DTEND;TZID=Europe/Paris:20250912T173000
DTSTAMP:20260424T001848
CREATED:20250806T091656Z
LAST-MODIFIED:20250806T091656Z
UID:10131-1757694600-1757698200@tjslavojledenice.cz
SUMMARY:OP ml. přípravka (sk. A): Planá - Ledenice A
DESCRIPTION:
URL:https://tjslavojledenice.cz/events/op-ml-pripravka-sk-a-plana-ledenice-a/
END:VEVENT
BEGIN:VEVENT
DTSTART;TZID=Europe/Paris:20250912T170000
DTEND;TZID=Europe/Paris:20250912T180000
DTSTAMP:20260424T001848
CREATED:20250806T092028Z
LAST-MODIFIED:20250806T092028Z
UID:10142-1757696400-1757700000@tjslavojledenice.cz
SUMMARY:OP ml. přípravka (sk. D): Ledenice B - Nemanice/Úsilné
DESCRIPTION:
URL:https://tjslavojledenice.cz/events/op-ml-pripravka-sk-d-ledenice-b-nemanice-usilne/
END:VEVENT
BEGIN:VEVENT
DTSTART;TZID=Europe/Paris:20250913T090000
DTEND;TZID=Europe/Paris:20250913T110000
DTSTAMP:20260424T001848
CREATED:20250806T090927Z
LAST-MODIFIED:20250806T090927Z
UID:10112-1757754000-1757761200@tjslavojledenice.cz
SUMMARY:OP ml. žáci: Mokré - Ledenice
DESCRIPTION:
URL:https://tjslavojledenice.cz/events/op-ml-zaci-mokre-ledenice/
END:VEVENT
BEGIN:VEVENT
DTSTART;TZID=Europe/Paris:20250913T100000
DTEND;TZID=Europe/Paris:20250913T120000
DTSTAMP:20260424T001848
CREATED:20250806T085803Z
LAST-MODIFIED:20250806T085803Z
UID:10053-1757757600-1757764800@tjslavojledenice.cz
SUMMARY:OP dorost: Ledenice - Mladé
DESCRIPTION:
URL:https://tjslavojledenice.cz/events/op-dorost-ledenice-mlade-4/
END:VEVENT
BEGIN:VEVENT
DTSTART;TZID=Europe/Paris:20250914T150000
DTEND;TZID=Europe/Paris:20250914T170000
DTSTAMP:20260424T001848
CREATED:20250806T085139Z
LAST-MODIFIED:20250806T085139Z
UID:10028-1757862000-1757869200@tjslavojledenice.cz
SUMMARY:7. liga muži: Ledenice - Loučovice
DESCRIPTION:
URL:https://tjslavojledenice.cz/events/7-liga-muzi-ledenice-loucovice/
END:VEVENT
BEGIN:VEVENT
DTSTART;TZID=Europe/Paris:20250916T170000
DTEND;TZID=Europe/Paris:20250916T190000
DTSTAMP:20260424T001848
CREATED:20250806T090709Z
LAST-MODIFIED:20250806T090709Z
UID:10097-1758042000-1758049200@tjslavojledenice.cz
SUMMARY:OP ml. žáci: Ledenice - Srubec
DESCRIPTION:
URL:https://tjslavojledenice.cz/events/op-ml-zaci-ledenice-srubec/
END:VEVENT
BEGIN:VEVENT
DTSTART;TZID=Europe/Paris:20250917T120000
DTEND;TZID=Europe/Paris:20250917T170000
DTSTAMP:20260424T001848
CREATED:20250909T105430Z
LAST-MODIFIED:20250909T105430Z
UID:10301-1758110400-1758128400@tjslavojledenice.cz
SUMMARY:Planeo Cup U10 (Kamenice nad Lipou)
DESCRIPTION:
URL:https://tjslavojledenice.cz/events/planeo-cup-u10-kamenice-nad-lipou/
END:VEVENT
BEGIN:VEVENT
DTSTART;TZID=Europe/Paris:20250917T170000
DTEND;TZID=Europe/Paris:20250917T190000
DTSTAMP:20260424T001848
CREATED:20250806T090440Z
LAST-MODIFIED:20250806T090440Z
UID:10071-1758128400-1758135600@tjslavojledenice.cz
SUMMARY:OP st. žáci: Dubné/Žabovřesky - Ledenice
DESCRIPTION:
URL:https://tjslavojledenice.cz/events/op-st-zaci-dubne-zabovresky-ledenice/
END:VEVENT
BEGIN:VEVENT
DTSTART;TZID=Europe/Paris:20250918T170000
DTEND;TZID=Europe/Paris:20250918T180000
DTSTAMP:20260424T001848
CREATED:20250806T091847Z
LAST-MODIFIED:20250806T091847Z
UID:10136-1758214800-1758218400@tjslavojledenice.cz
SUMMARY:OP ml. přípravka (sk. D): Mladé - Ledenice B
DESCRIPTION:
URL:https://tjslavojledenice.cz/events/op-ml-pripravka-sk-d-mlade-ledenice-b/
END:VEVENT
BEGIN:VEVENT
DTSTART;TZID=Europe/Paris:20250919T170000
DTEND;TZID=Europe/Paris:20250919T180000
DTSTAMP:20260424T001848
CREATED:20250806T091322Z
LAST-MODIFIED:20250806T091322Z
UID:10122-1758301200-1758304800@tjslavojledenice.cz
SUMMARY:OP st. přípravka: Ledenice - Čtyři Dvory
DESCRIPTION:
URL:https://tjslavojledenice.cz/events/op-st-pripravka-ledenice-ctyri-dvory/
END:VEVENT
BEGIN:VEVENT
DTSTART;TZID=Europe/Paris:20250919T170000
DTEND;TZID=Europe/Paris:20250919T180000
DTSTAMP:20260424T001848
CREATED:20250806T091524Z
LAST-MODIFIED:20250806T091524Z
UID:10126-1758301200-1758304800@tjslavojledenice.cz
SUMMARY:OP ml. přípravka (sk. A): Ledenice A - Sedlec
DESCRIPTION:
URL:https://tjslavojledenice.cz/events/op-ml-pripravka-sk-a-ledenice-a-sedlec/
END:VEVENT
BEGIN:VEVENT
DTSTART;TZID=Europe/Paris:20250919T170000
DTEND;TZID=Europe/Paris:20250919T190000
DTSTAMP:20260424T001848
CREATED:20250806T090052Z
LAST-MODIFIED:20250806T090052Z
UID:10060-1758301200-1758308400@tjslavojledenice.cz
SUMMARY:OP dorost: Sedlec - Ledenice
DESCRIPTION:
URL:https://tjslavojledenice.cz/events/op-dorost-sedlec-ledenice/
END:VEVENT
BEGIN:VEVENT
DTSTART;TZID=Europe/Paris:20250920T163000
DTEND;TZID=Europe/Paris:20250920T183000
DTSTAMP:20260424T001848
CREATED:20250806T085356Z
LAST-MODIFIED:20250806T085356Z
UID:10034-1758385800-1758393000@tjslavojledenice.cz
SUMMARY:7. liga muži: Frymburk - Ledenice
DESCRIPTION:
URL:https://tjslavojledenice.cz/events/7-liga-muzi-frymburk-ledenice-2/
END:VEVENT
BEGIN:VEVENT
DTSTART;TZID=Europe/Paris:20250922T170000
DTEND;TZID=Europe/Paris:20250922T180000
DTSTAMP:20260424T001848
CREATED:20250806T091712Z
LAST-MODIFIED:20250806T091712Z
UID:10132-1758560400-1758564000@tjslavojledenice.cz
SUMMARY:OP ml. přípravka (sk. A): Hluboká - Ledenice A
DESCRIPTION:
URL:https://tjslavojledenice.cz/events/op-ml-pripravka-sk-a-hluboka-ledenice-a/
END:VEVENT
BEGIN:VEVENT
DTSTART;TZID=Europe/Paris:20250923T170000
DTEND;TZID=Europe/Paris:20250923T190000
DTSTAMP:20260424T001848
CREATED:20250806T090722Z
LAST-MODIFIED:20250806T090722Z
UID:10098-1758646800-1758654000@tjslavojledenice.cz
SUMMARY:OP ml. žáci: Ledenice - Nová Ves
DESCRIPTION:
URL:https://tjslavojledenice.cz/events/op-ml-zaci-ledenice-nova-ves/
END:VEVENT
BEGIN:VEVENT
DTSTART;TZID=Europe/Paris:20250924T170000
DTEND;TZID=Europe/Paris:20250924T180000
DTSTAMP:20260424T001848
CREATED:20250806T091903Z
LAST-MODIFIED:20250806T091903Z
UID:10138-1758733200-1758736800@tjslavojledenice.cz
SUMMARY:OP ml. přípravka (sk. D): Dříteň - Ledenice B
DESCRIPTION:
URL:https://tjslavojledenice.cz/events/op-ml-pripravka-sk-d-driten-ledenice-b/
END:VEVENT
BEGIN:VEVENT
DTSTART;TZID=Europe/Paris:20250926T163000
DTEND;TZID=Europe/Paris:20250926T180000
DTSTAMP:20260424T001848
CREATED:20250919T104014Z
LAST-MODIFIED:20250919T104014Z
UID:10349-1758904200-1758909600@tjslavojledenice.cz
SUMMARY:Příprava U11: Ledenice - Nová Ves
DESCRIPTION:
URL:https://tjslavojledenice.cz/events/priprava-u11-ledenice-nova-ves/
END:VEVENT
BEGIN:VEVENT
DTSTART;TZID=Europe/Paris:20250926T170000
DTEND;TZID=Europe/Paris:20250926T190000
DTSTAMP:20260424T001848
CREATED:20250806T090503Z
LAST-MODIFIED:20250806T090503Z
UID:10072-1758906000-1758913200@tjslavojledenice.cz
SUMMARY:OP st. žáci: N. Hodějovice - Ledenice
DESCRIPTION:
URL:https://tjslavojledenice.cz/events/op-st-zaci-n-hodejovice-ledenice/
END:VEVENT
BEGIN:VEVENT
DTSTART;TZID=Europe/Paris:20250926T170000
DTEND;TZID=Europe/Paris:20250926T190000
DTSTAMP:20260424T001848
CREATED:20250916T103601Z
LAST-MODIFIED:20250916T103601Z
UID:10310-1758906000-1758913200@tjslavojledenice.cz
SUMMARY:Příprava U7: Ledenice - Nemanice
DESCRIPTION:
URL:https://tjslavojledenice.cz/events/priprava-u7-ledenice-nemanice/
END:VEVENT
BEGIN:VEVENT
DTSTART;TZID=Europe/Paris:20250928T100000
DTEND;TZID=Europe/Paris:20250928T120000
DTSTAMP:20260424T001848
CREATED:20250806T090057Z
LAST-MODIFIED:20250806T090057Z
UID:10061-1759053600-1759060800@tjslavojledenice.cz
SUMMARY:OP dorost: Planá - Ledenice
DESCRIPTION:
URL:https://tjslavojledenice.cz/events/op-dorost-plana-ledenice-4/
END:VEVENT
END:VCALENDAR