BEGIN:VCALENDAR
VERSION:2.0
PRODID:-//TJ Slavoj Ledenice - ECPv6.15.18//NONSGML v1.0//EN
CALSCALE:GREGORIAN
METHOD:PUBLISH
X-WR-CALNAME:TJ Slavoj Ledenice
X-ORIGINAL-URL:https://tjslavojledenice.cz
X-WR-CALDESC:Akce na TJ Slavoj Ledenice
REFRESH-INTERVAL;VALUE=DURATION:PT1H
X-Robots-Tag:noindex
X-PUBLISHED-TTL:PT1H
BEGIN:VTIMEZONE
TZID:Europe/Paris
BEGIN:DAYLIGHT
TZOFFSETFROM:+0100
TZOFFSETTO:+0200
TZNAME:CEST
DTSTART:20250330T010000
END:DAYLIGHT
BEGIN:STANDARD
TZOFFSETFROM:+0200
TZOFFSETTO:+0100
TZNAME:CET
DTSTART:20251026T010000
END:STANDARD
BEGIN:DAYLIGHT
TZOFFSETFROM:+0100
TZOFFSETTO:+0200
TZNAME:CEST
DTSTART:20260329T010000
END:DAYLIGHT
BEGIN:STANDARD
TZOFFSETFROM:+0200
TZOFFSETTO:+0100
TZNAME:CET
DTSTART:20261025T010000
END:STANDARD
BEGIN:DAYLIGHT
TZOFFSETFROM:+0100
TZOFFSETTO:+0200
TZNAME:CEST
DTSTART:20270328T010000
END:DAYLIGHT
BEGIN:STANDARD
TZOFFSETFROM:+0200
TZOFFSETTO:+0100
TZNAME:CET
DTSTART:20271031T010000
END:STANDARD
END:VTIMEZONE
BEGIN:VEVENT
DTSTART;TZID=Europe/Paris:20260501T170000
DTEND;TZID=Europe/Paris:20260501T180000
DTSTAMP:20260423T132949
CREATED:20260210T132552Z
LAST-MODIFIED:20260210T132552Z
UID:10731-1777654800-1777658400@tjslavojledenice.cz
SUMMARY:OP U9\, sk. D: Ledenice B - N. Hodějovice B
DESCRIPTION:
URL:https://tjslavojledenice.cz/events/op-u9-sk-d-ledenice-b-n-hodejovice-b/
END:VEVENT
BEGIN:VEVENT
DTSTART;TZID=Europe/Paris:20260501T170000
DTEND;TZID=Europe/Paris:20260501T183000
DTSTAMP:20260423T132949
CREATED:20260210T133254Z
LAST-MODIFIED:20260210T133254Z
UID:10763-1777654800-1777660200@tjslavojledenice.cz
SUMMARY:OP U13: Srubec - Ledenice
DESCRIPTION:
URL:https://tjslavojledenice.cz/events/op-u13-srubec-ledenice/
END:VEVENT
BEGIN:VEVENT
DTSTART;TZID=Europe/Paris:20260502T100000
DTEND;TZID=Europe/Paris:20260502T120000
DTSTAMP:20260423T132949
CREATED:20260210T131604Z
LAST-MODIFIED:20260210T131604Z
UID:10690-1777716000-1777723200@tjslavojledenice.cz
SUMMARY:OP dorost: Hrdějovice - Ledenice
DESCRIPTION:
URL:https://tjslavojledenice.cz/events/op-dorost-hrdejovice-ledenice-2/
END:VEVENT
BEGIN:VEVENT
DTSTART;TZID=Europe/Paris:20260503T150000
DTEND;TZID=Europe/Paris:20260503T170000
DTSTAMP:20260423T132949
CREATED:20260210T131133Z
LAST-MODIFIED:20260210T131133Z
UID:10664-1777820400-1777827600@tjslavojledenice.cz
SUMMARY:7. liga muži: TJ Slavoj Ledenice - Frymburk
DESCRIPTION:
URL:https://tjslavojledenice.cz/events/7-liga-muzi-tj-slavoj-ledenice-frymburk/
END:VEVENT
BEGIN:VEVENT
DTSTART;TZID=Europe/Paris:20260506T170000
DTEND;TZID=Europe/Paris:20260506T180000
DTSTAMP:20260423T132949
CREATED:20260210T132053Z
LAST-MODIFIED:20260420T153336Z
UID:10714-1778086800-1778090400@tjslavojledenice.cz
SUMMARY:OP U9\, sk. A: Ledenice A - Hluboká n. Vltavou
DESCRIPTION:
URL:https://tjslavojledenice.cz/events/op-u9-sk-a-ledenice-a-hluboka-n-vltavou/
END:VEVENT
BEGIN:VEVENT
DTSTART;TZID=Europe/Paris:20260507T160000
DTEND;TZID=Europe/Paris:20260507T170000
DTSTAMP:20260423T132949
CREATED:20260210T133901Z
LAST-MODIFIED:20260210T133901Z
UID:10779-1778169600-1778173200@tjslavojledenice.cz
SUMMARY:OP U11: Ledenice - Srubec
DESCRIPTION:
URL:https://tjslavojledenice.cz/events/op-u11-ledenice-srubec/
END:VEVENT
BEGIN:VEVENT
DTSTART;TZID=Europe/Paris:20260507T173000
DTEND;TZID=Europe/Paris:20260507T183000
DTSTAMP:20260423T132949
CREATED:20260210T132701Z
LAST-MODIFIED:20260210T132701Z
UID:10734-1778175000-1778178600@tjslavojledenice.cz
SUMMARY:OP U9\, sk. D: Nemanice/Úsilné - Ledenice B
DESCRIPTION:
URL:https://tjslavojledenice.cz/events/op-u9-sk-d-nemanice-usilne-ledenice-b/
END:VEVENT
BEGIN:VEVENT
DTSTART;TZID=Europe/Paris:20260508T173000
DTEND;TZID=Europe/Paris:20260508T190000
DTSTAMP:20260423T132949
CREATED:20260210T133236Z
LAST-MODIFIED:20260210T133236Z
UID:10765-1778261400-1778266800@tjslavojledenice.cz
SUMMARY:OP U13: N. Ves - Ledenice
DESCRIPTION:
URL:https://tjslavojledenice.cz/events/op-u13-n-ves-ledenice/
END:VEVENT
BEGIN:VEVENT
DTSTART;TZID=Europe/Paris:20260509T080000
DTEND;TZID=Europe/Paris:20260509T170000
DTSTAMP:20260423T132949
CREATED:20260214T095206Z
LAST-MODIFIED:20260214T095206Z
UID:10818-1778313600-1778346000@tjslavojledenice.cz
SUMMARY:Hasiči - 60-100ky
DESCRIPTION:
URL:https://tjslavojledenice.cz/events/hasici-60-100ky/
END:VEVENT
BEGIN:VEVENT
DTSTART;TZID=Europe/Paris:20260509T080000
DTEND;TZID=Europe/Paris:20260509T170000
DTSTAMP:20260423T132949
CREATED:20260215T081136Z
LAST-MODIFIED:20260215T081136Z
UID:10823-1778313600-1778346000@tjslavojledenice.cz
SUMMARY:Karlštejn Tournaments U9
DESCRIPTION:
URL:https://tjslavojledenice.cz/events/karlstejn-tournaments-u9/
END:VEVENT
BEGIN:VEVENT
DTSTART;TZID=Europe/Paris:20260510T100000
DTEND;TZID=Europe/Paris:20260510T120000
DTSTAMP:20260423T132949
CREATED:20260210T131621Z
LAST-MODIFIED:20260226T075459Z
UID:10691-1778407200-1778414400@tjslavojledenice.cz
SUMMARY:OP dorost: Ledenice - K. Újezd
DESCRIPTION:
URL:https://tjslavojledenice.cz/events/op-dorost-ledenice-k-ujezd-2/
END:VEVENT
BEGIN:VEVENT
DTSTART;TZID=Europe/Paris:20260510T170000
DTEND;TZID=Europe/Paris:20260510T190000
DTSTAMP:20260423T132949
CREATED:20260210T131154Z
LAST-MODIFIED:20260210T131154Z
UID:10665-1778432400-1778439600@tjslavojledenice.cz
SUMMARY:7. liga muži: Jankov - TJ Slavoj Ledenice
DESCRIPTION:
URL:https://tjslavojledenice.cz/events/7-liga-muzi-jankov-tj-slavoj-ledenice/
END:VEVENT
BEGIN:VEVENT
DTSTART;TZID=Europe/Paris:20260512T170000
DTEND;TZID=Europe/Paris:20260512T180000
DTSTAMP:20260423T132949
CREATED:20260210T134041Z
LAST-MODIFIED:20260210T134041Z
UID:10784-1778605200-1778608800@tjslavojledenice.cz
SUMMARY:OP U11: N. Ves - Ledenice
DESCRIPTION:
URL:https://tjslavojledenice.cz/events/op-u11-n-ves-ledenice/
END:VEVENT
BEGIN:VEVENT
DTSTART;TZID=Europe/Paris:20260512T170000
DTEND;TZID=Europe/Paris:20260512T183000
DTSTAMP:20260423T132949
CREATED:20260210T133102Z
LAST-MODIFIED:20260210T133102Z
UID:10744-1778605200-1778610600@tjslavojledenice.cz
SUMMARY:OP U13: Ledenice - Horní Stropnice
DESCRIPTION:
URL:https://tjslavojledenice.cz/events/op-u13-ledenice-horni-stropnice/
END:VEVENT
BEGIN:VEVENT
DTSTART;TZID=Europe/Paris:20260514T170000
DTEND;TZID=Europe/Paris:20260514T180000
DTSTAMP:20260423T132949
CREATED:20260210T132115Z
LAST-MODIFIED:20260210T132115Z
UID:10715-1778778000-1778781600@tjslavojledenice.cz
SUMMARY:OP U9\, sk. A: Římov - Ledenice A
DESCRIPTION:
URL:https://tjslavojledenice.cz/events/op-u9-sk-a-rimov-ledenice-a/
END:VEVENT
BEGIN:VEVENT
DTSTART;TZID=Europe/Paris:20260515T160000
DTEND;TZID=Europe/Paris:20260515T173000
DTSTAMP:20260423T132949
CREATED:20260417T125705Z
LAST-MODIFIED:20260417T125705Z
UID:10992-1778860800-1778866200@tjslavojledenice.cz
SUMMARY:Příprava U11: Ledenice - Lišov (7+1)
DESCRIPTION:
URL:https://tjslavojledenice.cz/events/priprava-u11-ledenice-lisov-71/
END:VEVENT
BEGIN:VEVENT
DTSTART;TZID=Europe/Paris:20260515T170000
DTEND;TZID=Europe/Paris:20260515T180000
DTSTAMP:20260423T132949
CREATED:20260210T132610Z
LAST-MODIFIED:20260210T132610Z
UID:10732-1778864400-1778868000@tjslavojledenice.cz
SUMMARY:OP U9\, sk. D: Ledenice B - Mladé
DESCRIPTION:
URL:https://tjslavojledenice.cz/events/op-u9-sk-d-ledenice-b-mlade/
END:VEVENT
BEGIN:VEVENT
DTSTART;TZID=Europe/Paris:20260517T100000
DTEND;TZID=Europe/Paris:20260517T120000
DTSTAMP:20260423T132949
CREATED:20260210T131647Z
LAST-MODIFIED:20260210T131647Z
UID:10692-1779012000-1779019200@tjslavojledenice.cz
SUMMARY:OP dorost: Hluboká/Č. Dvory - Ledenice
DESCRIPTION:
URL:https://tjslavojledenice.cz/events/op-dorost-hluboka-c-dvory-ledenice/
END:VEVENT
BEGIN:VEVENT
DTSTART;TZID=Europe/Paris:20260517T150000
DTEND;TZID=Europe/Paris:20260517T170000
DTSTAMP:20260423T132949
CREATED:20260210T131208Z
LAST-MODIFIED:20260210T131208Z
UID:10666-1779030000-1779037200@tjslavojledenice.cz
SUMMARY:7. liga muži: TJ Slavoj Ledenice - Včelná
DESCRIPTION:
URL:https://tjslavojledenice.cz/events/7-liga-muzi-tj-slavoj-ledenice-vcelna/
END:VEVENT
BEGIN:VEVENT
DTSTART;TZID=Europe/Paris:20260520T170000
DTEND;TZID=Europe/Paris:20260520T183000
DTSTAMP:20260423T132949
CREATED:20260210T133220Z
LAST-MODIFIED:20260210T133220Z
UID:10766-1779296400-1779301800@tjslavojledenice.cz
SUMMARY:OP U13: N. Hodějovice - Ledenice
DESCRIPTION:
URL:https://tjslavojledenice.cz/events/op-u13-n-hodejovice-ledenice/
END:VEVENT
BEGIN:VEVENT
DTSTART;TZID=Europe/Paris:20260522T160000
DTEND;TZID=Europe/Paris:20260522T170000
DTSTAMP:20260423T132949
CREATED:20260210T134102Z
LAST-MODIFIED:20260210T134102Z
UID:10798-1779465600-1779469200@tjslavojledenice.cz
SUMMARY:OP U11: Ledenice - Včelná
DESCRIPTION:
URL:https://tjslavojledenice.cz/events/op-u11-ledenice-vcelna/
END:VEVENT
BEGIN:VEVENT
DTSTART;TZID=Europe/Paris:20260522T170000
DTEND;TZID=Europe/Paris:20260522T180000
DTSTAMP:20260423T132949
CREATED:20260210T132812Z
LAST-MODIFIED:20260210T132812Z
UID:10737-1779469200-1779472800@tjslavojledenice.cz
SUMMARY:OP U9\, sk. D: Ledenice B - Dříteň
DESCRIPTION:
URL:https://tjslavojledenice.cz/events/op-u9-sk-d-ledenice-b-driten/
END:VEVENT
BEGIN:VEVENT
DTSTART;TZID=Europe/Paris:20260523T100000
DTEND;TZID=Europe/Paris:20260523T120000
DTSTAMP:20260423T132949
CREATED:20260210T131706Z
LAST-MODIFIED:20260210T131706Z
UID:10693-1779530400-1779537600@tjslavojledenice.cz
SUMMARY:OP dorost: Ledenice - Jankov/Lipí
DESCRIPTION:
URL:https://tjslavojledenice.cz/events/op-dorost-ledenice-jankov-lipi/
END:VEVENT
BEGIN:VEVENT
DTSTART;TZID=Europe/Paris:20260523T133000
DTEND;TZID=Europe/Paris:20260523T170000
DTSTAMP:20260423T132949
CREATED:20260210T131231Z
LAST-MODIFIED:20260210T131231Z
UID:10667-1779543000-1779555600@tjslavojledenice.cz
SUMMARY:7. liga muži: Přídolí - TJ Slavoj Ledenice
DESCRIPTION:
URL:https://tjslavojledenice.cz/events/7-liga-muzi-pridoli-tj-slavoj-ledenice/
END:VEVENT
BEGIN:VEVENT
DTSTART;TZID=Europe/Paris:20260525T170000
DTEND;TZID=Europe/Paris:20260525T180000
DTSTAMP:20260423T132949
CREATED:20260210T132726Z
LAST-MODIFIED:20260210T132726Z
UID:10735-1779728400-1779732000@tjslavojledenice.cz
SUMMARY:OP U9\, sk. D: Lišov B - Ledenice B
DESCRIPTION:
URL:https://tjslavojledenice.cz/events/op-u9-sk-d-lisov-b-ledenice-b/
END:VEVENT
BEGIN:VEVENT
DTSTART;TZID=Europe/Paris:20260526T170000
DTEND;TZID=Europe/Paris:20260526T183000
DTSTAMP:20260423T132949
CREATED:20260210T133148Z
LAST-MODIFIED:20260210T133148Z
UID:10745-1779814800-1779820200@tjslavojledenice.cz
SUMMARY:OP U13: Ledenice - Mladé
DESCRIPTION:
URL:https://tjslavojledenice.cz/events/op-u13-ledenice-mlade/
END:VEVENT
BEGIN:VEVENT
DTSTART;TZID=Europe/Paris:20260527T163000
DTEND;TZID=Europe/Paris:20260527T183000
DTSTAMP:20260423T132949
CREATED:20260210T134124Z
LAST-MODIFIED:20260210T134124Z
UID:10799-1779899400-1779906600@tjslavojledenice.cz
SUMMARY:OP U11: JFA - Ledenice
DESCRIPTION:
URL:https://tjslavojledenice.cz/events/op-u11-jfa-ledenice/
END:VEVENT
BEGIN:VEVENT
DTSTART;TZID=Europe/Paris:20260528T163000
DTEND;TZID=Europe/Paris:20260528T173000
DTSTAMP:20260423T132949
CREATED:20260210T132152Z
LAST-MODIFIED:20260210T132152Z
UID:10717-1779985800-1779989400@tjslavojledenice.cz
SUMMARY:OP U9\, sk. A: Č. Dvory - Ledenice A
DESCRIPTION:
URL:https://tjslavojledenice.cz/events/op-u9-sk-a-c-dvory-ledenice-a/
END:VEVENT
BEGIN:VEVENT
DTSTART;VALUE=DATE:20260529
DTEND;VALUE=DATE:20260601
DTSTAMP:20260423T132949
CREATED:20250916T112742Z
LAST-MODIFIED:20250916T112742Z
UID:10332-1780012800-1780271999@tjslavojledenice.cz
SUMMARY:Balaton Trophy U10 (Siofók\, Maďarsko)
DESCRIPTION:
URL:https://tjslavojledenice.cz/events/balaton-trophy-u10-siofok-madarsko/
END:VEVENT
BEGIN:VEVENT
DTSTART;TZID=Europe/Paris:20260531T100000
DTEND;TZID=Europe/Paris:20260531T120000
DTSTAMP:20260423T132949
CREATED:20260210T131725Z
LAST-MODIFIED:20260210T131725Z
UID:10694-1780221600-1780228800@tjslavojledenice.cz
SUMMARY:OP dorost: N. Hrady - Ledenice
DESCRIPTION:
URL:https://tjslavojledenice.cz/events/op-dorost-n-hrady-ledenice/
END:VEVENT
END:VCALENDAR