BEGIN:VCALENDAR
VERSION:2.0
PRODID:-//TJ Slavoj Ledenice - ECPv6.15.18//NONSGML v1.0//EN
CALSCALE:GREGORIAN
METHOD:PUBLISH
X-ORIGINAL-URL:https://tjslavojledenice.cz
X-WR-CALDESC:Akce na TJ Slavoj Ledenice
REFRESH-INTERVAL;VALUE=DURATION:PT1H
X-Robots-Tag:noindex
X-PUBLISHED-TTL:PT1H
BEGIN:VTIMEZONE
TZID:Europe/Paris
BEGIN:DAYLIGHT
TZOFFSETFROM:+0100
TZOFFSETTO:+0200
TZNAME:CEST
DTSTART:20250330T010000
END:DAYLIGHT
BEGIN:STANDARD
TZOFFSETFROM:+0200
TZOFFSETTO:+0100
TZNAME:CET
DTSTART:20251026T010000
END:STANDARD
BEGIN:DAYLIGHT
TZOFFSETFROM:+0100
TZOFFSETTO:+0200
TZNAME:CEST
DTSTART:20260329T010000
END:DAYLIGHT
BEGIN:STANDARD
TZOFFSETFROM:+0200
TZOFFSETTO:+0100
TZNAME:CET
DTSTART:20261025T010000
END:STANDARD
BEGIN:DAYLIGHT
TZOFFSETFROM:+0100
TZOFFSETTO:+0200
TZNAME:CEST
DTSTART:20270328T010000
END:DAYLIGHT
BEGIN:STANDARD
TZOFFSETFROM:+0200
TZOFFSETTO:+0100
TZNAME:CET
DTSTART:20271031T010000
END:STANDARD
END:VTIMEZONE
BEGIN:VEVENT
DTSTART;VALUE=DATE:20260320
DTEND;VALUE=DATE:20260323
DTSTAMP:20260423T133307
CREATED:20260312T143425Z
LAST-MODIFIED:20260312T143425Z
UID:10886-1773964800-1774223999@tjslavojledenice.cz
SUMMARY:Soustředění U13: Mrhal
DESCRIPTION:
URL:https://tjslavojledenice.cz/events/soustredeni-u13-mrhal/
END:VEVENT
BEGIN:VEVENT
DTSTART;TZID=Europe/Paris:20260321T100000
DTEND;TZID=Europe/Paris:20260321T120000
DTSTAMP:20260423T133307
CREATED:20260210T131436Z
LAST-MODIFIED:20260210T131436Z
UID:10685-1774087200-1774094400@tjslavojledenice.cz
SUMMARY:OP dorost: Ledenice - Temelín
DESCRIPTION:
URL:https://tjslavojledenice.cz/events/op-dorost-ledenice-temelin/
END:VEVENT
BEGIN:VEVENT
DTSTART;TZID=Europe/Paris:20260321T120000
DTEND;TZID=Europe/Paris:20260321T180000
DTSTAMP:20260423T133307
CREATED:20260205T101747Z
LAST-MODIFIED:20260205T101747Z
UID:10641-1774094400-1774116000@tjslavojledenice.cz
SUMMARY:Borovany Cup U11
DESCRIPTION:
URL:https://tjslavojledenice.cz/events/borovany-cup-u11/
LOCATION:Fotbalový areál FK Borovany\, Trocnovská 703\, Borovany\, Jihočeský\, 373 12\, Česká republika
END:VEVENT
BEGIN:VEVENT
DTSTART;TZID=Europe/Paris:20260321T140000
DTEND;TZID=Europe/Paris:20260321T170000
DTSTAMP:20260423T133307
CREATED:20260312T143413Z
LAST-MODIFIED:20260317T171057Z
UID:10887-1774101600-1774112400@tjslavojledenice.cz
SUMMARY:Turnaj Borovany U13
DESCRIPTION:
URL:https://tjslavojledenice.cz/events/turnaj-borovany-u13/
END:VEVENT
BEGIN:VEVENT
DTSTART;TZID=Europe/Paris:20260322T080000
DTEND;TZID=Europe/Paris:20260322T130000
DTSTAMP:20260423T133307
CREATED:20250916T112318Z
LAST-MODIFIED:20260215T081903Z
UID:10322-1774166400-1774184400@tjslavojledenice.cz
SUMMARY:Jihočeská zimní halová liga U11 - 5. kolo
DESCRIPTION:
URL:https://tjslavojledenice.cz/events/jihoceska-zimni-halova-liga-u11-5-kolo/
LOCATION:SH Třeboň
END:VEVENT
BEGIN:VEVENT
DTSTART;TZID=Europe/Paris:20260322T150000
DTEND;TZID=Europe/Paris:20260322T170000
DTSTAMP:20260423T133307
CREATED:20260210T130940Z
LAST-MODIFIED:20260210T130940Z
UID:10658-1774191600-1774198800@tjslavojledenice.cz
SUMMARY:7. liga muži: TJ Slavoj Ledenice - Roudné B
DESCRIPTION:
URL:https://tjslavojledenice.cz/events/7-liga-muzi-tj-slavoj-ledenice-roudne-b/
END:VEVENT
BEGIN:VEVENT
DTSTART;TZID=Europe/Paris:20260324T163000
DTEND;TZID=Europe/Paris:20260324T180000
DTSTAMP:20260423T133307
CREATED:20260302T185702Z
LAST-MODIFIED:20260302T185722Z
UID:10854-1774369800-1774375200@tjslavojledenice.cz
SUMMARY:Příprava U11: Ledenice - Mladé
DESCRIPTION:
URL:https://tjslavojledenice.cz/events/priprava-u11-ledenice/
END:VEVENT
BEGIN:VEVENT
DTSTART;TZID=Europe/Paris:20260327T160000
DTEND;TZID=Europe/Paris:20260327T170000
DTSTAMP:20260423T133307
CREATED:20260317T170903Z
LAST-MODIFIED:20260317T170903Z
UID:10896-1774627200-1774630800@tjslavojledenice.cz
SUMMARY:Příprava U11: Ledenice - Třeboň
DESCRIPTION:
URL:https://tjslavojledenice.cz/events/priprava-u11-ledenice-trebon-2/
END:VEVENT
BEGIN:VEVENT
DTSTART;TZID=Europe/Paris:20260327T170000
DTEND;TZID=Europe/Paris:20260327T180000
DTSTAMP:20260423T133307
CREATED:20260210T131902Z
LAST-MODIFIED:20260210T131902Z
UID:10708-1774630800-1774634400@tjslavojledenice.cz
SUMMARY:OP U9\, sk. A: Ledenice A - Rudolfov
DESCRIPTION:
URL:https://tjslavojledenice.cz/events/op-u9-sk-a-ledenice-a-rudolfov/
END:VEVENT
BEGIN:VEVENT
DTSTART;TZID=Europe/Paris:20260328T100000
DTEND;TZID=Europe/Paris:20260328T120000
DTSTAMP:20260423T133307
CREATED:20260210T133749Z
LAST-MODIFIED:20260210T133749Z
UID:10775-1774692000-1774699200@tjslavojledenice.cz
SUMMARY:OP U15: Římov - Ledenice
DESCRIPTION:
URL:https://tjslavojledenice.cz/events/op-u15-rimov-ledenice/
END:VEVENT
BEGIN:VEVENT
DTSTART;TZID=Europe/Paris:20260328T150000
DTEND;TZID=Europe/Paris:20260328T170000
DTSTAMP:20260423T133307
CREATED:20260210T130959Z
LAST-MODIFIED:20260210T130959Z
UID:10659-1774710000-1774717200@tjslavojledenice.cz
SUMMARY:7. liga muži: SK Mladé - TJ Slavoj Ledenice
DESCRIPTION:
URL:https://tjslavojledenice.cz/events/7-liga-muzi-sk-mlade-tj-slavoj-ledenice/
END:VEVENT
BEGIN:VEVENT
DTSTART;TZID=Europe/Paris:20260330T170000
DTEND;TZID=Europe/Paris:20260330T190000
DTSTAMP:20260423T133307
CREATED:20260210T133806Z
LAST-MODIFIED:20260325T175937Z
UID:10777-1774890000-1774897200@tjslavojledenice.cz
SUMMARY:OP U15: Ledenice - Dubné/Žabovřesky
DESCRIPTION:
URL:https://tjslavojledenice.cz/events/op-u13-ledenice-dubne-zabovresky/
END:VEVENT
BEGIN:VEVENT
DTSTART;TZID=Europe/Paris:20260331T160000
DTEND;TZID=Europe/Paris:20260331T170000
DTSTAMP:20260423T133307
CREATED:20260210T133914Z
LAST-MODIFIED:20260303T070855Z
UID:10780-1774972800-1774976400@tjslavojledenice.cz
SUMMARY:OP U11: Ledenice - Dubné/Lipí
DESCRIPTION:
URL:https://tjslavojledenice.cz/events/op-u11-ledenice-dubne-lipi/
END:VEVENT
BEGIN:VEVENT
DTSTART;TZID=Europe/Paris:20260401T170000
DTEND;TZID=Europe/Paris:20260401T180000
DTSTAMP:20260423T133307
CREATED:20260210T131921Z
LAST-MODIFIED:20260316T093908Z
UID:10709-1775062800-1775066400@tjslavojledenice.cz
SUMMARY:OP U9\, sk. A: Ledenice A - Loko ČB
DESCRIPTION:
URL:https://tjslavojledenice.cz/events/op-u9-sk-a-ledenice-a-loko-cb/
END:VEVENT
BEGIN:VEVENT
DTSTART;TZID=Europe/Paris:20260404T100000
DTEND;TZID=Europe/Paris:20260404T120000
DTSTAMP:20260423T133307
CREATED:20260210T131453Z
LAST-MODIFIED:20260210T131453Z
UID:10686-1775296800-1775304000@tjslavojledenice.cz
SUMMARY:OP dorost: Ledenice - N. Hodějovice
DESCRIPTION:
URL:https://tjslavojledenice.cz/events/op-dorost-ledenice-n-hodejovice-4/
END:VEVENT
BEGIN:VEVENT
DTSTART;TZID=Europe/Paris:20260405T150000
DTEND;TZID=Europe/Paris:20260405T170000
DTSTAMP:20260423T133307
CREATED:20260210T131015Z
LAST-MODIFIED:20260210T131015Z
UID:10660-1775401200-1775408400@tjslavojledenice.cz
SUMMARY:7. liga muži: TJ Slavoj Ledenice - Nová Ves
DESCRIPTION:
URL:https://tjslavojledenice.cz/events/7-liga-muzi-tj-slavoj-ledenice-nova-ves/
END:VEVENT
BEGIN:VEVENT
DTSTART;TZID=Europe/Paris:20260407T170000
DTEND;TZID=Europe/Paris:20260407T180000
DTSTAMP:20260423T133307
CREATED:20260210T133002Z
LAST-MODIFIED:20260210T133002Z
UID:10741-1775581200-1775584800@tjslavojledenice.cz
SUMMARY:OP U13: Ledenice - Hrdějovice
DESCRIPTION:
URL:https://tjslavojledenice.cz/events/op-u13-ledenice-hrdejovice/
END:VEVENT
BEGIN:VEVENT
DTSTART;TZID=Europe/Paris:20260408T170000
DTEND;TZID=Europe/Paris:20260408T190000
DTSTAMP:20260423T133307
CREATED:20260210T133756Z
LAST-MODIFIED:20260319T181642Z
UID:10778-1775667600-1775674800@tjslavojledenice.cz
SUMMARY:OP U15: Ledenice - N. Hodějovice
DESCRIPTION:
URL:https://tjslavojledenice.cz/events/op-u13-ledenice-n-hodejovice/
END:VEVENT
BEGIN:VEVENT
DTSTART;TZID=Europe/Paris:20260409T170000
DTEND;TZID=Europe/Paris:20260409T180000
DTSTAMP:20260423T133307
CREATED:20260210T131937Z
LAST-MODIFIED:20260210T131937Z
UID:10710-1775754000-1775757600@tjslavojledenice.cz
SUMMARY:OP U9\, sk. A: N. Hodějovice - Ledenice A
DESCRIPTION:
URL:https://tjslavojledenice.cz/events/op-u9-sk-a-n-hodejovice-ledenice-a/
END:VEVENT
BEGIN:VEVENT
DTSTART;TZID=Europe/Paris:20260410T160000
DTEND;TZID=Europe/Paris:20260410T170000
DTSTAMP:20260423T133307
CREATED:20260402T084829Z
LAST-MODIFIED:20260402T084829Z
UID:10938-1775836800-1775840400@tjslavojledenice.cz
SUMMARY:OP U11: Ledenice - Loko Č. Budějovice
DESCRIPTION:
URL:https://tjslavojledenice.cz/events/op-u11-ledenice-loko-c-budejovice/
END:VEVENT
BEGIN:VEVENT
DTSTART;TZID=Europe/Paris:20260410T170000
DTEND;TZID=Europe/Paris:20260410T190000
DTSTAMP:20260423T133307
CREATED:20260210T131515Z
LAST-MODIFIED:20260210T131515Z
UID:10687-1775840400-1775847600@tjslavojledenice.cz
SUMMARY:OP dorost: Mladé - Ledenice
DESCRIPTION:
URL:https://tjslavojledenice.cz/events/op-dorost-mlade-ledenice-3/
END:VEVENT
BEGIN:VEVENT
DTSTART;TZID=Europe/Paris:20260411T163000
DTEND;TZID=Europe/Paris:20260411T183000
DTSTAMP:20260423T133307
CREATED:20260210T131040Z
LAST-MODIFIED:20260210T131040Z
UID:10661-1775925000-1775932200@tjslavojledenice.cz
SUMMARY:7. liga muži: Český Krumlov B - TJ Slavoj Ledenice
DESCRIPTION:
URL:https://tjslavojledenice.cz/events/7-liga-muzi-cesky-krumlov-b-tj-slavoj-ledenice/
END:VEVENT
BEGIN:VEVENT
DTSTART;TZID=Europe/Paris:20260414T170000
DTEND;TZID=Europe/Paris:20260414T180000
DTSTAMP:20260423T133307
CREATED:20260210T133934Z
LAST-MODIFIED:20260210T133934Z
UID:10781-1776186000-1776189600@tjslavojledenice.cz
SUMMARY:OP U11: H. Stropnice - Ledenice
DESCRIPTION:
URL:https://tjslavojledenice.cz/events/op-u11-h-stropnice-ledenice/
END:VEVENT
BEGIN:VEVENT
DTSTART;TZID=Europe/Paris:20260416T170000
DTEND;TZID=Europe/Paris:20260416T183000
DTSTAMP:20260423T133307
CREATED:20260210T132947Z
LAST-MODIFIED:20260331T164155Z
UID:10740-1776358800-1776364200@tjslavojledenice.cz
SUMMARY:OP U13: Ledenice - T. Sviny
DESCRIPTION:
URL:https://tjslavojledenice.cz/events/op-u13-t-sviny-ledenice/
END:VEVENT
BEGIN:VEVENT
DTSTART;TZID=Europe/Paris:20260417T160000
DTEND;TZID=Europe/Paris:20260417T170000
DTSTAMP:20260423T133307
CREATED:20260210T132528Z
LAST-MODIFIED:20260210T132528Z
UID:10730-1776441600-1776445200@tjslavojledenice.cz
SUMMARY:OP U9\, sk. D: Ledenice B - Borek
DESCRIPTION:
URL:https://tjslavojledenice.cz/events/op-u9-sk-d-ledenice-b-borek/
END:VEVENT
BEGIN:VEVENT
DTSTART;TZID=Europe/Paris:20260417T170000
DTEND;TZID=Europe/Paris:20260417T180000
DTSTAMP:20260423T133307
CREATED:20260210T131956Z
LAST-MODIFIED:20260210T131956Z
UID:10711-1776445200-1776448800@tjslavojledenice.cz
SUMMARY:OP U9\, sk. A: Ledenice A - SK Dynamo Č. Budějovice
DESCRIPTION:
URL:https://tjslavojledenice.cz/events/op-u9-sk-a-ledenice-a-sk-dynamo-c-budejovice/
END:VEVENT
BEGIN:VEVENT
DTSTART;TZID=Europe/Paris:20260417T170000
DTEND;TZID=Europe/Paris:20260417T190000
DTSTAMP:20260423T133307
CREATED:20260210T133749Z
LAST-MODIFIED:20260325T180222Z
UID:10776-1776445200-1776452400@tjslavojledenice.cz
SUMMARY:OP U15: N. Hrady - Ledenice
DESCRIPTION:
URL:https://tjslavojledenice.cz/events/op-u13-n-hrady-ledenice-2/
END:VEVENT
BEGIN:VEVENT
DTSTART;TZID=Europe/Paris:20260418T001000
DTEND;TZID=Europe/Paris:20260418T120000
DTSTAMP:20260423T133307
CREATED:20260210T131529Z
LAST-MODIFIED:20260210T131529Z
UID:10688-1776471000-1776513600@tjslavojledenice.cz
SUMMARY:OP dorost: Ledenice - Sedlec
DESCRIPTION:
URL:https://tjslavojledenice.cz/events/op-dorost-ledenice-sedlec/
END:VEVENT
BEGIN:VEVENT
DTSTART;TZID=Europe/Paris:20260418T140000
DTEND;TZID=Europe/Paris:20260418T160000
DTSTAMP:20260423T133307
CREATED:20260210T133022Z
LAST-MODIFIED:20260210T133022Z
UID:10742-1776520800-1776528000@tjslavojledenice.cz
SUMMARY:OP U13: N. Hrady - Ledenice
DESCRIPTION:
URL:https://tjslavojledenice.cz/events/op-u13-n-hrady-ledenice/
END:VEVENT
BEGIN:VEVENT
DTSTART;TZID=Europe/Paris:20260419T150000
DTEND;TZID=Europe/Paris:20260419T170000
DTSTAMP:20260423T133307
CREATED:20260210T131055Z
LAST-MODIFIED:20260210T131055Z
UID:10662-1776610800-1776618000@tjslavojledenice.cz
SUMMARY:7. liga muži: TJ Slavoj Ledenice - Kaplice B
DESCRIPTION:
URL:https://tjslavojledenice.cz/events/7-liga-muzi-tj-slavoj-ledenice-kaplice-b/
END:VEVENT
END:VCALENDAR