BEGIN:VCALENDAR
VERSION:2.0
PRODID:-//TJ Slavoj Ledenice - ECPv6.15.18//NONSGML v1.0//EN
CALSCALE:GREGORIAN
METHOD:PUBLISH
X-WR-CALNAME:TJ Slavoj Ledenice
X-ORIGINAL-URL:https://tjslavojledenice.cz
X-WR-CALDESC:Akce na TJ Slavoj Ledenice
REFRESH-INTERVAL;VALUE=DURATION:PT1H
X-Robots-Tag:noindex
X-PUBLISHED-TTL:PT1H
BEGIN:VTIMEZONE
TZID:Europe/Paris
BEGIN:DAYLIGHT
TZOFFSETFROM:+0100
TZOFFSETTO:+0200
TZNAME:CEST
DTSTART:20230326T010000
END:DAYLIGHT
BEGIN:STANDARD
TZOFFSETFROM:+0200
TZOFFSETTO:+0100
TZNAME:CET
DTSTART:20231029T010000
END:STANDARD
BEGIN:DAYLIGHT
TZOFFSETFROM:+0100
TZOFFSETTO:+0200
TZNAME:CEST
DTSTART:20240331T010000
END:DAYLIGHT
BEGIN:STANDARD
TZOFFSETFROM:+0200
TZOFFSETTO:+0100
TZNAME:CET
DTSTART:20241027T010000
END:STANDARD
BEGIN:DAYLIGHT
TZOFFSETFROM:+0100
TZOFFSETTO:+0200
TZNAME:CEST
DTSTART:20250330T010000
END:DAYLIGHT
BEGIN:STANDARD
TZOFFSETFROM:+0200
TZOFFSETTO:+0100
TZNAME:CET
DTSTART:20251026T010000
END:STANDARD
END:VTIMEZONE
BEGIN:VEVENT
DTSTART;TZID=Europe/Paris:20240901T101500
DTEND;TZID=Europe/Paris:20240901T120000
DTSTAMP:20260424T070736
CREATED:20240716T082304Z
LAST-MODIFIED:20240716T082304Z
UID:8467-1725185700-1725192000@tjslavojledenice.cz
SUMMARY:OP dorost: Ledenice - Borovany
DESCRIPTION:
URL:https://tjslavojledenice.cz/events/op-dorost-ledenice-borovany-3/
END:VEVENT
BEGIN:VEVENT
DTSTART;TZID=Europe/Paris:20240830T170000
DTEND;TZID=Europe/Paris:20240830T180000
DTSTAMP:20260424T070736
CREATED:20240716T080608Z
LAST-MODIFIED:20240716T080608Z
UID:8388-1725037200-1725040800@tjslavojledenice.cz
SUMMARY:OP ml. přípravka\, sk. B: Ledenice B - Loko Č. Budějovice
DESCRIPTION:
URL:https://tjslavojledenice.cz/events/op-ml-pripravka-sk-b-ledenice-b-loko-c-budejovice/
END:VEVENT
BEGIN:VEVENT
DTSTART;TZID=Europe/Paris:20240830T160000
DTEND;TZID=Europe/Paris:20240830T170000
DTSTAMP:20260424T070736
CREATED:20240716T080210Z
LAST-MODIFIED:20240716T080210Z
UID:8379-1725033600-1725037200@tjslavojledenice.cz
SUMMARY:OP ml. přípravka\, sk. A: Ledenice A - Borovany A
DESCRIPTION:
URL:https://tjslavojledenice.cz/events/op-ml-pripravka-sk-a-ledenice-a-borovany-a/
END:VEVENT
BEGIN:VEVENT
DTSTART;TZID=Europe/Paris:20240828T170000
DTEND;TZID=Europe/Paris:20240828T180000
DTSTAMP:20260424T070736
CREATED:20240716T081127Z
LAST-MODIFIED:20240716T081127Z
UID:8416-1724864400-1724868000@tjslavojledenice.cz
SUMMARY:OP ml. žáci A: Hrdějovice - Ledenice A
DESCRIPTION:
URL:https://tjslavojledenice.cz/events/op-ml-zaci-a-hrdejovice-ledenice-a/
END:VEVENT
BEGIN:VEVENT
DTSTART;TZID=Europe/Paris:20240828T160000
DTEND;TZID=Europe/Paris:20240828T170000
DTSTAMP:20260424T070736
CREATED:20240531T103102Z
LAST-MODIFIED:20240807T125237Z
UID:8214-1724860800-1724864400@tjslavojledenice.cz
SUMMARY:Příprava: TJ Slavoj Ledenice B žlutí U9 - TJ Slavoj Ledenice B modří U9
DESCRIPTION:
URL:https://tjslavojledenice.cz/events/priprava-tj-slavoj-ledenice-a-u9-fk-borovany-a-u9-3/
END:VEVENT
BEGIN:VEVENT
DTSTART;TZID=Europe/Paris:20240828T160000
DTEND;TZID=Europe/Paris:20240828T170000
DTSTAMP:20260424T070736
CREATED:20240531T103039Z
LAST-MODIFIED:20240807T125303Z
UID:8212-1724860800-1724864400@tjslavojledenice.cz
SUMMARY:Příprava: TJ Slavoj Ledenice A U9 - TJ Slavoj Ledenice U11
DESCRIPTION:
URL:https://tjslavojledenice.cz/events/priprava-tj-slavoj-ledenice-a-u9-fk-borovany-a-u9-2/
END:VEVENT
BEGIN:VEVENT
DTSTART;TZID=Europe/Paris:20240826T170000
DTEND;TZID=Europe/Paris:20240826T180000
DTSTAMP:20260424T070736
CREATED:20240716T081515Z
LAST-MODIFIED:20240716T081515Z
UID:8426-1724691600-1724695200@tjslavojledenice.cz
SUMMARY:OP ml. žáci\, sk. B: Ledenice B - Mokré
DESCRIPTION:
URL:https://tjslavojledenice.cz/events/op-ml-zaci-sk-b-ledenice-b-mokre/
END:VEVENT
BEGIN:VEVENT
DTSTART;TZID=Europe/Paris:20240824T133000
DTEND;TZID=Europe/Paris:20240824T153000
DTSTAMP:20260424T070736
CREATED:20240716T075714Z
LAST-MODIFIED:20240716T075714Z
UID:8354-1724506200-1724513400@tjslavojledenice.cz
SUMMARY:7. liga muži: Č. Krumlov B - Ledenice
DESCRIPTION:
URL:https://tjslavojledenice.cz/events/7-liga-muzi-c-krumlov-b-ledenice/
END:VEVENT
BEGIN:VEVENT
DTSTART;TZID=Europe/Paris:20240823T170000
DTEND;TZID=Europe/Paris:20240823T180000
DTSTAMP:20260424T070736
CREATED:20240531T103013Z
LAST-MODIFIED:20240531T103013Z
UID:8210-1724432400-1724436000@tjslavojledenice.cz
SUMMARY:Příprava: TJ Slavoj Ledenice B U9 - FK Borovany B U9
DESCRIPTION:
URL:https://tjslavojledenice.cz/events/priprava-tj-slavoj-ledenice-b-u9-fk-borovany-b-u9/
END:VEVENT
BEGIN:VEVENT
DTSTART;TZID=Europe/Paris:20240823T160000
DTEND;TZID=Europe/Paris:20240823T170000
DTSTAMP:20260424T070736
CREATED:20240531T102944Z
LAST-MODIFIED:20240531T102944Z
UID:8208-1724428800-1724432400@tjslavojledenice.cz
SUMMARY:Příprava: TJ Slavoj Ledenice A U9 - FK Borovany A U9
DESCRIPTION:
URL:https://tjslavojledenice.cz/events/priprava-tj-slavoj-ledenice-a-u9-fk-borovany-a-u9/
END:VEVENT
BEGIN:VEVENT
DTSTART;TZID=Europe/Paris:20240818T150000
DTEND;TZID=Europe/Paris:20240818T170000
DTSTAMP:20260424T070736
CREATED:20240716T075646Z
LAST-MODIFIED:20240716T075646Z
UID:8353-1723993200-1724000400@tjslavojledenice.cz
SUMMARY:7. liga muži: Ledenice - Mladé
DESCRIPTION:
URL:https://tjslavojledenice.cz/events/7-liga-muzi-ledenice-mlade/
END:VEVENT
BEGIN:VEVENT
DTSTART;TZID=Europe/Paris:20240802T170000
DTEND;TZID=Europe/Paris:20240802T190000
DTSTAMP:20260424T070736
CREATED:20240716T185840Z
LAST-MODIFIED:20240716T185840Z
UID:8504-1722618000-1722625200@tjslavojledenice.cz
SUMMARY:Příprava muži: Ledenice - Roudné U19
DESCRIPTION:
URL:https://tjslavojledenice.cz/events/priprava-muzi-ledenice-roudne-u19/
END:VEVENT
BEGIN:VEVENT
DTSTART;TZID=Europe/Paris:20240725T170000
DTEND;TZID=Europe/Paris:20240725T190000
DTSTAMP:20260424T070736
CREATED:20240716T185809Z
LAST-MODIFIED:20240716T185809Z
UID:8503-1721926800-1721934000@tjslavojledenice.cz
SUMMARY:Příprava muži: Srubec - Ledenice
DESCRIPTION:
URL:https://tjslavojledenice.cz/events/priprava-muzi-srubec-ledenice/
END:VEVENT
BEGIN:VEVENT
DTSTART;VALUE=DATE:20240628
DTEND;VALUE=DATE:20240703
DTSTAMP:20260424T070736
CREATED:20240223T090342Z
LAST-MODIFIED:20240223T090342Z
UID:7836-1719532800-1719964799@tjslavojledenice.cz
SUMMARY:Soustředění dorost a mladší přípravka (Hlincová Hora)
DESCRIPTION:
URL:https://tjslavojledenice.cz/events/soustredeni-dorost-a-mladsi-pripravka-hlincova-hora/
END:VEVENT
BEGIN:VEVENT
DTSTART;TZID=Europe/Paris:20240619T180000
DTEND;TZID=Europe/Paris:20240619T190000
DTSTAMP:20260424T070736
CREATED:20240415T044844Z
LAST-MODIFIED:20240415T044844Z
UID:8019-1718820000-1718823600@tjslavojledenice.cz
SUMMARY:Veteránská liga: Ledenice - Slavia
DESCRIPTION:
URL:https://tjslavojledenice.cz/events/veteranska-liga-ledenice-slavia/
END:VEVENT
BEGIN:VEVENT
DTSTART;TZID=Europe/Paris:20240615T170000
DTEND;TZID=Europe/Paris:20240615T190000
DTSTAMP:20260424T070736
CREATED:20240222T091019Z
LAST-MODIFIED:20240222T091019Z
UID:7741-1718470800-1718478000@tjslavojledenice.cz
SUMMARY:I. B muži: Větřní - Ledenice
DESCRIPTION:
URL:https://tjslavojledenice.cz/events/i-b-muzi-vetrni-ledenice-2/
END:VEVENT
BEGIN:VEVENT
DTSTART;TZID=Europe/Paris:20240615T101500
DTEND;TZID=Europe/Paris:20240615T120000
DTSTAMP:20260424T070736
CREATED:20240603T114008Z
LAST-MODIFIED:20240603T114008Z
UID:8233-1718446500-1718452800@tjslavojledenice.cz
SUMMARY:Nadstavba st. žáci: Ledenice - Nová Ves
DESCRIPTION:
URL:https://tjslavojledenice.cz/events/nadstavba-st-zaci-ledenice-nova-ves/
END:VEVENT
BEGIN:VEVENT
DTSTART;TZID=Europe/Paris:20240614T163000
DTEND;TZID=Europe/Paris:20240614T173000
DTSTAMP:20260424T070736
CREATED:20240222T092526Z
LAST-MODIFIED:20240222T092526Z
UID:7798-1718382600-1718386200@tjslavojledenice.cz
SUMMARY:OS ml. žáci: T. Sviny - Ledenice
DESCRIPTION:
URL:https://tjslavojledenice.cz/events/os-ml-zaci-t-sviny-ledenice-3/
END:VEVENT
BEGIN:VEVENT
DTSTART;TZID=Europe/Paris:20240613T160000
DTEND;TZID=Europe/Paris:20240613T190000
DTSTAMP:20260424T070736
CREATED:20240604T040616Z
LAST-MODIFIED:20240604T040616Z
UID:8236-1718294400-1718305200@tjslavojledenice.cz
SUMMARY:Minidoplácná volejbal
DESCRIPTION:
URL:https://tjslavojledenice.cz/events/minidoplacna-volejbal/
END:VEVENT
BEGIN:VEVENT
DTSTART;TZID=Europe/Paris:20240612T170000
DTEND;TZID=Europe/Paris:20240612T180000
DTSTAMP:20260424T070736
CREATED:20240222T091632Z
LAST-MODIFIED:20240222T091632Z
UID:7752-1718211600-1718215200@tjslavojledenice.cz
SUMMARY:OP mladší žáci: Včelná - Ledenice
DESCRIPTION:
URL:https://tjslavojledenice.cz/events/op-mladsi-zaci-vcelna-ledenice/
END:VEVENT
BEGIN:VEVENT
DTSTART;TZID=Europe/Paris:20240610T190000
DTEND;TZID=Europe/Paris:20240610T200000
DTSTAMP:20260424T070736
CREATED:20240415T044820Z
LAST-MODIFIED:20240415T044820Z
UID:8018-1718046000-1718049600@tjslavojledenice.cz
SUMMARY:Veteránská liga: Planá - Ledenice
DESCRIPTION:
URL:https://tjslavojledenice.cz/events/veteranska-liga-plana-ledenice/
END:VEVENT
BEGIN:VEVENT
DTSTART;TZID=Europe/Paris:20240610T173000
DTEND;TZID=Europe/Paris:20240610T183000
DTSTAMP:20260424T070736
CREATED:20240422T145839Z
LAST-MODIFIED:20240422T145839Z
UID:8074-1718040600-1718044200@tjslavojledenice.cz
SUMMARY:OP ženy II (volejbal): Ledenice B - T. Sviny B
DESCRIPTION:
URL:https://tjslavojledenice.cz/events/op-zeny-ii-volejbal-ledenice-b-t-sviny-b/
END:VEVENT
BEGIN:VEVENT
DTSTART;TZID=Europe/Paris:20240609T150000
DTEND;TZID=Europe/Paris:20240609T170000
DTSTAMP:20260424T070736
CREATED:20240222T090953Z
LAST-MODIFIED:20240222T090953Z
UID:7729-1717945200-1717952400@tjslavojledenice.cz
SUMMARY:I. B muži: Ledenice - Chvalšiny
DESCRIPTION:
URL:https://tjslavojledenice.cz/events/i-b-muzi-ledenice-chvalsiny-2/
END:VEVENT
BEGIN:VEVENT
DTSTART;TZID=Europe/Paris:20240608T140000
DTEND;TZID=Europe/Paris:20240608T170000
DTSTAMP:20260424T070736
CREATED:20240603T113947Z
LAST-MODIFIED:20240603T113947Z
UID:8232-1717855200-1717866000@tjslavojledenice.cz
SUMMARY:Nadstavba st. žáci: Nová Ves - Ledenice
DESCRIPTION:
URL:https://tjslavojledenice.cz/events/nadstavba-st-zaci-nova-ves-ledenice/
END:VEVENT
BEGIN:VEVENT
DTSTART;TZID=Europe/Paris:20240608T080000
DTEND;TZID=Europe/Paris:20240608T130000
DTSTAMP:20260424T070736
CREATED:20240124T132611Z
LAST-MODIFIED:20240520T153450Z
UID:7644-1717833600-1717851600@tjslavojledenice.cz
SUMMARY:Turnaj předpřípravka: Hluboká nad Vltavou
DESCRIPTION:
URL:https://tjslavojledenice.cz/events/turnaj-ml-pripravka-lokalita-bude-upresnena-4/
END:VEVENT
BEGIN:VEVENT
DTSTART;TZID=Europe/Paris:20240607T170000
DTEND;TZID=Europe/Paris:20240607T180000
DTSTAMP:20260424T070736
CREATED:20240124T132322Z
LAST-MODIFIED:20240124T132322Z
UID:7637-1717779600-1717783200@tjslavojledenice.cz
SUMMARY:OP ml. přípravka: Lišov - TJ Slavoj Ledenice
DESCRIPTION:
URL:https://tjslavojledenice.cz/events/op-ml-pripravka-lisov-tj-slavoj-ledenice/
END:VEVENT
BEGIN:VEVENT
DTSTART;TZID=Europe/Paris:20240606T170000
DTEND;TZID=Europe/Paris:20240606T180000
DTSTAMP:20260424T070736
CREATED:20240222T091601Z
LAST-MODIFIED:20240423T111645Z
UID:7751-1717693200-1717696800@tjslavojledenice.cz
SUMMARY:OP mladší žáci: Ledenice - Včelná
DESCRIPTION:
URL:https://tjslavojledenice.cz/events/op-mladsi-zaci-ledenice-vcelna/
END:VEVENT
BEGIN:VEVENT
DTSTART;TZID=Europe/Paris:20240605T190000
DTEND;TZID=Europe/Paris:20240605T200000
DTSTAMP:20260424T070736
CREATED:20240415T044751Z
LAST-MODIFIED:20240603T101054Z
UID:8017-1717614000-1717617600@tjslavojledenice.cz
SUMMARY:Veteránská liga: Ledenice - Roudné
DESCRIPTION:
URL:https://tjslavojledenice.cz/events/veteranska-liga-ledenice-roudne/
END:VEVENT
BEGIN:VEVENT
DTSTART;TZID=Europe/Paris:20240605T170000
DTEND;TZID=Europe/Paris:20240605T190000
DTSTAMP:20260424T070736
CREATED:20240222T093120Z
LAST-MODIFIED:20240603T101015Z
UID:7808-1717606800-1717614000@tjslavojledenice.cz
SUMMARY:OP dorost: Ledenice - Lipí/K. Újezd
DESCRIPTION:
URL:https://tjslavojledenice.cz/events/op-dorost-ledenice-lipi-k-ujezd/
END:VEVENT
BEGIN:VEVENT
DTSTART;TZID=Europe/Paris:20240604T170000
DTEND;TZID=Europe/Paris:20240604T180000
DTSTAMP:20260424T070736
CREATED:20240222T092501Z
LAST-MODIFIED:20240222T092501Z
UID:7797-1717520400-1717524000@tjslavojledenice.cz
SUMMARY:OS ml. žáci: Ledenice - T. Sviny
DESCRIPTION:
URL:https://tjslavojledenice.cz/events/os-ml-zaci-ledenice-t-sviny-2/
END:VEVENT
END:VCALENDAR