BEGIN:VCALENDAR
VERSION:2.0
PRODID:-//TJ Slavoj Ledenice - ECPv6.15.18//NONSGML v1.0//EN
CALSCALE:GREGORIAN
METHOD:PUBLISH
X-WR-CALNAME:TJ Slavoj Ledenice
X-ORIGINAL-URL:https://tjslavojledenice.cz
X-WR-CALDESC:Akce na TJ Slavoj Ledenice
REFRESH-INTERVAL;VALUE=DURATION:PT1H
X-Robots-Tag:noindex
X-PUBLISHED-TTL:PT1H
BEGIN:VTIMEZONE
TZID:Europe/Paris
BEGIN:DAYLIGHT
TZOFFSETFROM:+0100
TZOFFSETTO:+0200
TZNAME:CEST
DTSTART:20230326T010000
END:DAYLIGHT
BEGIN:STANDARD
TZOFFSETFROM:+0200
TZOFFSETTO:+0100
TZNAME:CET
DTSTART:20231029T010000
END:STANDARD
BEGIN:DAYLIGHT
TZOFFSETFROM:+0100
TZOFFSETTO:+0200
TZNAME:CEST
DTSTART:20240331T010000
END:DAYLIGHT
BEGIN:STANDARD
TZOFFSETFROM:+0200
TZOFFSETTO:+0100
TZNAME:CET
DTSTART:20241027T010000
END:STANDARD
BEGIN:DAYLIGHT
TZOFFSETFROM:+0100
TZOFFSETTO:+0200
TZNAME:CEST
DTSTART:20250330T010000
END:DAYLIGHT
BEGIN:STANDARD
TZOFFSETFROM:+0200
TZOFFSETTO:+0100
TZNAME:CET
DTSTART:20251026T010000
END:STANDARD
END:VTIMEZONE
BEGIN:VEVENT
DTSTART;TZID=Europe/Paris:20240608T080000
DTEND;TZID=Europe/Paris:20240608T130000
DTSTAMP:20260424T081806
CREATED:20240124T132611Z
LAST-MODIFIED:20240520T153450Z
UID:7644-1717833600-1717851600@tjslavojledenice.cz
SUMMARY:Turnaj předpřípravka: Hluboká nad Vltavou
DESCRIPTION:
URL:https://tjslavojledenice.cz/events/turnaj-ml-pripravka-lokalita-bude-upresnena-4/
END:VEVENT
BEGIN:VEVENT
DTSTART;TZID=Europe/Paris:20240607T170000
DTEND;TZID=Europe/Paris:20240607T180000
DTSTAMP:20260424T081806
CREATED:20240124T132322Z
LAST-MODIFIED:20240124T132322Z
UID:7637-1717779600-1717783200@tjslavojledenice.cz
SUMMARY:OP ml. přípravka: Lišov - TJ Slavoj Ledenice
DESCRIPTION:
URL:https://tjslavojledenice.cz/events/op-ml-pripravka-lisov-tj-slavoj-ledenice/
END:VEVENT
BEGIN:VEVENT
DTSTART;TZID=Europe/Paris:20240606T170000
DTEND;TZID=Europe/Paris:20240606T180000
DTSTAMP:20260424T081806
CREATED:20240222T091601Z
LAST-MODIFIED:20240423T111645Z
UID:7751-1717693200-1717696800@tjslavojledenice.cz
SUMMARY:OP mladší žáci: Ledenice - Včelná
DESCRIPTION:
URL:https://tjslavojledenice.cz/events/op-mladsi-zaci-ledenice-vcelna/
END:VEVENT
BEGIN:VEVENT
DTSTART;TZID=Europe/Paris:20240605T190000
DTEND;TZID=Europe/Paris:20240605T200000
DTSTAMP:20260424T081806
CREATED:20240415T044751Z
LAST-MODIFIED:20240603T101054Z
UID:8017-1717614000-1717617600@tjslavojledenice.cz
SUMMARY:Veteránská liga: Ledenice - Roudné
DESCRIPTION:
URL:https://tjslavojledenice.cz/events/veteranska-liga-ledenice-roudne/
END:VEVENT
BEGIN:VEVENT
DTSTART;TZID=Europe/Paris:20240605T170000
DTEND;TZID=Europe/Paris:20240605T190000
DTSTAMP:20260424T081806
CREATED:20240222T093120Z
LAST-MODIFIED:20240603T101015Z
UID:7808-1717606800-1717614000@tjslavojledenice.cz
SUMMARY:OP dorost: Ledenice - Lipí/K. Újezd
DESCRIPTION:
URL:https://tjslavojledenice.cz/events/op-dorost-ledenice-lipi-k-ujezd/
END:VEVENT
BEGIN:VEVENT
DTSTART;TZID=Europe/Paris:20240604T170000
DTEND;TZID=Europe/Paris:20240604T180000
DTSTAMP:20260424T081806
CREATED:20240222T092501Z
LAST-MODIFIED:20240222T092501Z
UID:7797-1717520400-1717524000@tjslavojledenice.cz
SUMMARY:OS ml. žáci: Ledenice - T. Sviny
DESCRIPTION:
URL:https://tjslavojledenice.cz/events/os-ml-zaci-ledenice-t-sviny-2/
END:VEVENT
BEGIN:VEVENT
DTSTART;TZID=Europe/Paris:20240603T173000
DTEND;TZID=Europe/Paris:20240603T183000
DTSTAMP:20260424T081806
CREATED:20240422T150006Z
LAST-MODIFIED:20240422T150006Z
UID:8077-1717435800-1717439400@tjslavojledenice.cz
SUMMARY:OP ženy II (volejbal): SKP Č. Budějovice - Ledenice B
DESCRIPTION:
URL:https://tjslavojledenice.cz/events/op-zeny-ii-volejbal-skp-c-budejovice-ledenice-b/
END:VEVENT
BEGIN:VEVENT
DTSTART;TZID=Europe/Paris:20240602T101500
DTEND;TZID=Europe/Paris:20240602T120000
DTSTAMP:20260424T081806
CREATED:20240520T153210Z
LAST-MODIFIED:20240522T065423Z
UID:8171-1717323300-1717329600@tjslavojledenice.cz
SUMMARY:Nadstavba OP st. žáci: Ledenice - Temelín
DESCRIPTION: 
URL:https://tjslavojledenice.cz/events/nadstavba-op-st-zaci-ledenice-temelin/
END:VEVENT
BEGIN:VEVENT
DTSTART;TZID=Europe/Paris:20240601T170000
DTEND;TZID=Europe/Paris:20240601T190000
DTSTAMP:20260424T081806
CREATED:20240222T090938Z
LAST-MODIFIED:20240222T090938Z
UID:7728-1717261200-1717268400@tjslavojledenice.cz
SUMMARY:I. B muži: Mladé - Ledenice
DESCRIPTION:
URL:https://tjslavojledenice.cz/events/i-b-muzi-mlade-ledenice-2/
END:VEVENT
BEGIN:VEVENT
DTSTART;TZID=Europe/Paris:20240601T093000
DTEND;TZID=Europe/Paris:20240601T120000
DTSTAMP:20260424T081806
CREATED:20240222T093144Z
LAST-MODIFIED:20240222T093144Z
UID:7810-1717234200-1717243200@tjslavojledenice.cz
SUMMARY:OP dorost: Lipí/K. Újezd - Ledenice
DESCRIPTION:
URL:https://tjslavojledenice.cz/events/op-dorost-lipi-k-ujezd-ledenice/
END:VEVENT
BEGIN:VEVENT
DTSTART;TZID=Europe/Paris:20240531T163000
DTEND;TZID=Europe/Paris:20240531T173000
DTSTAMP:20260424T081806
CREATED:20240430T084618Z
LAST-MODIFIED:20240430T084618Z
UID:8105-1717173000-1717176600@tjslavojledenice.cz
SUMMARY:Příprava ml. přípravka: TJ Slavoj Ledenice A - FK Borovany A
DESCRIPTION:
URL:https://tjslavojledenice.cz/events/priprava-ml-pripravka-tj-slavoj-ledenice-a-fk-borovany-a/
END:VEVENT
BEGIN:VEVENT
DTSTART;TZID=Europe/Paris:20240531T163000
DTEND;TZID=Europe/Paris:20240531T173000
DTSTAMP:20260424T081806
CREATED:20240430T084600Z
LAST-MODIFIED:20240430T084600Z
UID:8104-1717173000-1717176600@tjslavojledenice.cz
SUMMARY:Příprava ml. přípravka: TJ Slavoj Ledenice B - FK Borovany B
DESCRIPTION:
URL:https://tjslavojledenice.cz/events/priprava-ml-pripravka-tj-slavoj-ledenice-b-fk-borovany-b-2/
END:VEVENT
BEGIN:VEVENT
DTSTART;TZID=Europe/Paris:20240530T170000
DTEND;TZID=Europe/Paris:20240530T180000
DTSTAMP:20260424T081806
CREATED:20240411T100021Z
LAST-MODIFIED:20240411T100021Z
UID:7969-1717088400-1717092000@tjslavojledenice.cz
SUMMARY:KP muži II (volejbal): Meteor ČB - Ledenice
DESCRIPTION:
URL:https://tjslavojledenice.cz/events/kp-muzi-ii-volejbal-meteor-cb-ledenice/
END:VEVENT
BEGIN:VEVENT
DTSTART;TZID=Europe/Paris:20240529T193000
DTEND;TZID=Europe/Paris:20240529T203000
DTSTAMP:20260424T081806
CREATED:20240421T182346Z
LAST-MODIFIED:20240421T182346Z
UID:8067-1717011000-1717014600@tjslavojledenice.cz
SUMMARY:KP ženy II (volejbal): Ledenice - Křemže
DESCRIPTION:
URL:https://tjslavojledenice.cz/events/kp-zeny-ii-volejbal-ledenice-kremze/
END:VEVENT
BEGIN:VEVENT
DTSTART;TZID=Europe/Paris:20240529T170000
DTEND;TZID=Europe/Paris:20240529T180000
DTSTAMP:20260424T081806
CREATED:20240222T091543Z
LAST-MODIFIED:20240222T091543Z
UID:7750-1717002000-1717005600@tjslavojledenice.cz
SUMMARY:OP mladší žáci: N. Hodějovice - Ledenice
DESCRIPTION:
URL:https://tjslavojledenice.cz/events/op-mladsi-zaci-n-hodejovice-ledenice/
END:VEVENT
BEGIN:VEVENT
DTSTART;TZID=Europe/Paris:20240528T171500
DTEND;TZID=Europe/Paris:20240528T191500
DTSTAMP:20260424T081806
CREATED:20240520T153322Z
LAST-MODIFIED:20240520T153322Z
UID:8173-1716916500-1716923700@tjslavojledenice.cz
SUMMARY:Nadstavba OP st. žáci: Temelín - Ledenice
DESCRIPTION:
URL:https://tjslavojledenice.cz/events/nadstavba-op-st-zaci-temelin-ledenice/
END:VEVENT
BEGIN:VEVENT
DTSTART;TZID=Europe/Paris:20240528T163000
DTEND;TZID=Europe/Paris:20240528T173000
DTSTAMP:20260424T081806
CREATED:20240222T092448Z
LAST-MODIFIED:20240222T092448Z
UID:7789-1716913800-1716917400@tjslavojledenice.cz
SUMMARY:OS ml. žáci: Slavia B - Ledenice
DESCRIPTION:
URL:https://tjslavojledenice.cz/events/os-ml-zaci-slavia-b-ledenice/
END:VEVENT
BEGIN:VEVENT
DTSTART;TZID=Europe/Paris:20240527T180000
DTEND;TZID=Europe/Paris:20240527T190000
DTSTAMP:20260424T081806
CREATED:20240415T044729Z
LAST-MODIFIED:20240415T044729Z
UID:8016-1716832800-1716836400@tjslavojledenice.cz
SUMMARY:Veteránská liga: Černý Dub - Ledenice
DESCRIPTION:
URL:https://tjslavojledenice.cz/events/veteranska-liga-cerny-dub-ledenice/
END:VEVENT
BEGIN:VEVENT
DTSTART;TZID=Europe/Paris:20240527T173000
DTEND;TZID=Europe/Paris:20240527T183000
DTSTAMP:20260424T081806
CREATED:20240422T145937Z
LAST-MODIFIED:20240422T145937Z
UID:8076-1716831000-1716834600@tjslavojledenice.cz
SUMMARY:OP ženy II (volejbal): Křemže - Ledenice B
DESCRIPTION:
URL:https://tjslavojledenice.cz/events/op-zeny-ii-volejbal-kremze-ledenice-b/
END:VEVENT
BEGIN:VEVENT
DTSTART;TZID=Europe/Paris:20240526T150000
DTEND;TZID=Europe/Paris:20240526T170000
DTSTAMP:20260424T081806
CREATED:20240222T090917Z
LAST-MODIFIED:20240222T090917Z
UID:7727-1716735600-1716742800@tjslavojledenice.cz
SUMMARY:I. B muži: Ledenice - Loučovice
DESCRIPTION:
URL:https://tjslavojledenice.cz/events/i-b-muzi-ledenice-loucovice/
END:VEVENT
BEGIN:VEVENT
DTSTART;TZID=Europe/Paris:20240525T101500
DTEND;TZID=Europe/Paris:20240525T120000
DTSTAMP:20260424T081806
CREATED:20240222T093056Z
LAST-MODIFIED:20240222T093056Z
UID:7807-1716632100-1716638400@tjslavojledenice.cz
SUMMARY:OP dorost: Ledenice - H. Stropnice
DESCRIPTION:
URL:https://tjslavojledenice.cz/events/op-dorost-ledenice-h-stropnice-2/
END:VEVENT
BEGIN:VEVENT
DTSTART;TZID=Europe/Paris:20240524T170000
DTEND;TZID=Europe/Paris:20240524T180000
DTSTAMP:20260424T081806
CREATED:20240430T084354Z
LAST-MODIFIED:20240430T084354Z
UID:8103-1716570000-1716573600@tjslavojledenice.cz
SUMMARY:Příprava ml. přípravka: TJ Slavoj Ledenice B - FK Borovany B
DESCRIPTION:
URL:https://tjslavojledenice.cz/events/priprava-ml-pripravka-tj-slavoj-ledenice-b-fk-borovany-b/
END:VEVENT
BEGIN:VEVENT
DTSTART;TZID=Europe/Paris:20240524T170000
DTEND;TZID=Europe/Paris:20240524T180000
DTSTAMP:20260424T081806
CREATED:20240222T091522Z
LAST-MODIFIED:20240222T091522Z
UID:7749-1716570000-1716573600@tjslavojledenice.cz
SUMMARY:OP mladší žáci: Velešín - Ledenice
DESCRIPTION:
URL:https://tjslavojledenice.cz/events/op-mladsi-zaci-velesin-ledenice/
END:VEVENT
BEGIN:VEVENT
DTSTART;TZID=Europe/Paris:20240524T160000
DTEND;TZID=Europe/Paris:20240524T170000
DTSTAMP:20260424T081806
CREATED:20240124T132302Z
LAST-MODIFIED:20240124T132302Z
UID:7636-1716566400-1716570000@tjslavojledenice.cz
SUMMARY:OP ml. přípravka: TJ Slavoj Ledenice - Lišov
DESCRIPTION:
URL:https://tjslavojledenice.cz/events/op-ml-pripravka-tj-slavoj-ledenice-lisov/
END:VEVENT
BEGIN:VEVENT
DTSTART;TZID=Europe/Paris:20240523T173000
DTEND;TZID=Europe/Paris:20240523T183000
DTSTAMP:20260424T081806
CREATED:20240411T100000Z
LAST-MODIFIED:20240411T100000Z
UID:7968-1716485400-1716489000@tjslavojledenice.cz
SUMMARY:KP muži II (volejbal): Hluboká - Ledenice
DESCRIPTION:
URL:https://tjslavojledenice.cz/events/kp-muzi-ii-volejbal-hluboka-ledenice/
END:VEVENT
BEGIN:VEVENT
DTSTART;TZID=Europe/Paris:20240523T173000
DTEND;TZID=Europe/Paris:20240523T183000
DTSTAMP:20260424T081806
CREATED:20240124T132241Z
LAST-MODIFIED:20240124T132241Z
UID:7625-1716485400-1716489000@tjslavojledenice.cz
SUMMARY:OP ml. přípravka: Nemanice - TJ Slavoj Ledenice
DESCRIPTION:
URL:https://tjslavojledenice.cz/events/op-ml-pripravka-nemanice-tj-slavoj-ledenice/
END:VEVENT
BEGIN:VEVENT
DTSTART;TZID=Europe/Paris:20240522T180000
DTEND;TZID=Europe/Paris:20240522T190000
DTSTAMP:20260424T081806
CREATED:20240415T044649Z
LAST-MODIFIED:20240415T044649Z
UID:8009-1716400800-1716404400@tjslavojledenice.cz
SUMMARY:Veteránská liga: Ledenice - Dynamo ČB
DESCRIPTION:
URL:https://tjslavojledenice.cz/events/veteranska-liga-ledenice-dynamo-cb/
END:VEVENT
BEGIN:VEVENT
DTSTART;TZID=Europe/Paris:20240521T170000
DTEND;TZID=Europe/Paris:20240521T180000
DTSTAMP:20260424T081806
CREATED:20240222T092426Z
LAST-MODIFIED:20240222T092426Z
UID:7788-1716310800-1716314400@tjslavojledenice.cz
SUMMARY:OS ml. žáci: Ledenice - Srubec
DESCRIPTION:
URL:https://tjslavojledenice.cz/events/os-ml-zaci-ledenice-srubec/
END:VEVENT
BEGIN:VEVENT
DTSTART;TZID=Europe/Paris:20240520T173000
DTEND;TZID=Europe/Paris:20240520T183000
DTSTAMP:20260424T081806
CREATED:20240422T145916Z
LAST-MODIFIED:20240422T145916Z
UID:8075-1716226200-1716229800@tjslavojledenice.cz
SUMMARY:OP ženy II (volejbal): T. Sviny - Ledenice B
DESCRIPTION:
URL:https://tjslavojledenice.cz/events/op-zeny-ii-volejbal-t-sviny-ledenice-b/
END:VEVENT
BEGIN:VEVENT
DTSTART;TZID=Europe/Paris:20240518T170000
DTEND;TZID=Europe/Paris:20240518T190000
DTSTAMP:20260424T081806
CREATED:20240222T090855Z
LAST-MODIFIED:20240222T090855Z
UID:7726-1716051600-1716058800@tjslavojledenice.cz
SUMMARY:I. B muži: Frymburk - Ledenice
DESCRIPTION:
URL:https://tjslavojledenice.cz/events/i-b-muzi-frymburk-ledenice-2/
END:VEVENT
END:VCALENDAR