BEGIN:VCALENDAR
VERSION:2.0
PRODID:-//TJ Slavoj Ledenice - ECPv6.15.18//NONSGML v1.0//EN
CALSCALE:GREGORIAN
METHOD:PUBLISH
X-WR-CALNAME:TJ Slavoj Ledenice
X-ORIGINAL-URL:https://tjslavojledenice.cz
X-WR-CALDESC:Akce na TJ Slavoj Ledenice
REFRESH-INTERVAL;VALUE=DURATION:PT1H
X-Robots-Tag:noindex
X-PUBLISHED-TTL:PT1H
BEGIN:VTIMEZONE
TZID:Europe/Paris
BEGIN:DAYLIGHT
TZOFFSETFROM:+0100
TZOFFSETTO:+0200
TZNAME:CEST
DTSTART:20230326T010000
END:DAYLIGHT
BEGIN:STANDARD
TZOFFSETFROM:+0200
TZOFFSETTO:+0100
TZNAME:CET
DTSTART:20231029T010000
END:STANDARD
BEGIN:DAYLIGHT
TZOFFSETFROM:+0100
TZOFFSETTO:+0200
TZNAME:CEST
DTSTART:20240331T010000
END:DAYLIGHT
BEGIN:STANDARD
TZOFFSETFROM:+0200
TZOFFSETTO:+0100
TZNAME:CET
DTSTART:20241027T010000
END:STANDARD
BEGIN:DAYLIGHT
TZOFFSETFROM:+0100
TZOFFSETTO:+0200
TZNAME:CEST
DTSTART:20250330T010000
END:DAYLIGHT
BEGIN:STANDARD
TZOFFSETFROM:+0200
TZOFFSETTO:+0100
TZNAME:CET
DTSTART:20251026T010000
END:STANDARD
END:VTIMEZONE
BEGIN:VEVENT
DTSTART;TZID=Europe/Paris:20240515T183000
DTEND;TZID=Europe/Paris:20240515T193000
DTSTAMP:20260424T125729
CREATED:20240415T044532Z
LAST-MODIFIED:20240415T044549Z
UID:8008-1715797800-1715801400@tjslavojledenice.cz
SUMMARY:Veteránská liga: Slavia ČB - Ledenice
DESCRIPTION:
URL:https://tjslavojledenice.cz/events/veteranska-liga-slavia-cb-ledenice/
END:VEVENT
BEGIN:VEVENT
DTSTART;TZID=Europe/Paris:20240514T154500
DTEND;TZID=Europe/Paris:20240514T164500
DTSTAMP:20260424T125729
CREATED:20240124T132217Z
LAST-MODIFIED:20240510T053007Z
UID:7624-1715701500-1715705100@tjslavojledenice.cz
SUMMARY:OP ml. přípravka: TJ Slavoj Ledenice - Boršov
DESCRIPTION:
URL:https://tjslavojledenice.cz/events/op-ml-pripravka-tj-slavoj-ledenice-borsov/
END:VEVENT
BEGIN:VEVENT
DTSTART;TZID=Europe/Paris:20240513T190000
DTEND;TZID=Europe/Paris:20240513T200000
DTSTAMP:20260424T125729
CREATED:20240421T182324Z
LAST-MODIFIED:20240421T182324Z
UID:8066-1715626800-1715630400@tjslavojledenice.cz
SUMMARY:KP ženy II (volejbal): Ledenice - Prachatice
DESCRIPTION:
URL:https://tjslavojledenice.cz/events/kp-zeny-ii-volejbal-ledenice-prachatice/
END:VEVENT
BEGIN:VEVENT
DTSTART;TZID=Europe/Paris:20240513T173000
DTEND;TZID=Europe/Paris:20240513T183000
DTSTAMP:20260424T125729
CREATED:20240422T145816Z
LAST-MODIFIED:20240422T145816Z
UID:8073-1715621400-1715625000@tjslavojledenice.cz
SUMMARY:OP ženy II (volejbal): Ledenice B - SKP Č. Budějovice
DESCRIPTION:
URL:https://tjslavojledenice.cz/events/op-zeny-ii-volejbal-ledenice-b-skp-c-budejovice/
END:VEVENT
BEGIN:VEVENT
DTSTART;TZID=Europe/Paris:20240513T170000
DTEND;TZID=Europe/Paris:20240513T190000
DTSTAMP:20260424T125729
CREATED:20240222T092113Z
LAST-MODIFIED:20240222T092113Z
UID:7754-1715619600-1715626800@tjslavojledenice.cz
SUMMARY:OP st. žáci: Lišov B - Ledenice
DESCRIPTION:
URL:https://tjslavojledenice.cz/events/op-st-zaci-lisov-b-ledenice/
END:VEVENT
BEGIN:VEVENT
DTSTART;TZID=Europe/Paris:20240512T150000
DTEND;TZID=Europe/Paris:20240512T170000
DTSTAMP:20260424T125729
CREATED:20240222T090836Z
LAST-MODIFIED:20240222T090836Z
UID:7725-1715526000-1715533200@tjslavojledenice.cz
SUMMARY:I. B muži: Ledenice - Lhenice
DESCRIPTION:
URL:https://tjslavojledenice.cz/events/i-b-muzi-ledenice-lhenice/
END:VEVENT
BEGIN:VEVENT
DTSTART;TZID=Europe/Paris:20240512T100000
DTEND;TZID=Europe/Paris:20240512T120000
DTSTAMP:20260424T125729
CREATED:20240222T092052Z
LAST-MODIFIED:20240222T092052Z
UID:7773-1715508000-1715515200@tjslavojledenice.cz
SUMMARY:OP st. žáci: N. Hrady - Ledenice
DESCRIPTION:
URL:https://tjslavojledenice.cz/events/op-st-zaci-n-hrady-ledenice/
END:VEVENT
BEGIN:VEVENT
DTSTART;TZID=Europe/Paris:20240511T101500
DTEND;TZID=Europe/Paris:20240511T120000
DTSTAMP:20260424T125729
CREATED:20240222T093019Z
LAST-MODIFIED:20240222T093019Z
UID:7805-1715422500-1715428800@tjslavojledenice.cz
SUMMARY:OP dorost: Ledenice - Velešín
DESCRIPTION:
URL:https://tjslavojledenice.cz/events/op-dorost-ledenice-velesin-2/
END:VEVENT
BEGIN:VEVENT
DTSTART;TZID=Europe/Paris:20240510T160000
DTEND;TZID=Europe/Paris:20240510T170000
DTSTAMP:20260424T125729
CREATED:20240124T132204Z
LAST-MODIFIED:20240124T132204Z
UID:7623-1715356800-1715360400@tjslavojledenice.cz
SUMMARY:OP ml. přípravka: TJ Slavoj Ledenice - Trhové Sviny
DESCRIPTION:
URL:https://tjslavojledenice.cz/events/op-ml-pripravka-tj-slavoj-ledenice-trhove-sviny/
END:VEVENT
BEGIN:VEVENT
DTSTART;TZID=Europe/Paris:20240508T180000
DTEND;TZID=Europe/Paris:20240508T190000
DTSTAMP:20260424T125729
CREATED:20240415T044459Z
LAST-MODIFIED:20240415T044459Z
UID:8007-1715191200-1715194800@tjslavojledenice.cz
SUMMARY:Veteránská liga: Ledenice - Planá
DESCRIPTION:
URL:https://tjslavojledenice.cz/events/veteranska-liga-ledenice-plana/
END:VEVENT
BEGIN:VEVENT
DTSTART;TZID=Europe/Paris:20240508T170000
DTEND;TZID=Europe/Paris:20240508T180000
DTSTAMP:20260424T125729
CREATED:20240222T091325Z
LAST-MODIFIED:20240222T091325Z
UID:7747-1715187600-1715191200@tjslavojledenice.cz
SUMMARY:OP mladší žáci: Křemže - Ledenice
DESCRIPTION:
URL:https://tjslavojledenice.cz/events/op-mladsi-zaci-kremze-ledenice/
END:VEVENT
BEGIN:VEVENT
DTSTART;TZID=Europe/Paris:20240507T170000
DTEND;TZID=Europe/Paris:20240507T180000
DTSTAMP:20260424T125729
CREATED:20240222T092343Z
LAST-MODIFIED:20240222T092343Z
UID:7786-1715101200-1715104800@tjslavojledenice.cz
SUMMARY:OS ml. žáci: Ledenice - H. Stropnice
DESCRIPTION:
URL:https://tjslavojledenice.cz/events/os-ml-zaci-ledenice-h-stropnice-2/
END:VEVENT
BEGIN:VEVENT
DTSTART;TZID=Europe/Paris:20240506T173000
DTEND;TZID=Europe/Paris:20240506T183000
DTSTAMP:20260424T125729
CREATED:20240422T145741Z
LAST-MODIFIED:20240422T145741Z
UID:8072-1715016600-1715020200@tjslavojledenice.cz
SUMMARY:OP ženy II (volejbal): Ledenice B - Křemže
DESCRIPTION:
URL:https://tjslavojledenice.cz/events/op-zeny-ii-volejbal-ledenice-b-kremze/
END:VEVENT
BEGIN:VEVENT
DTSTART;TZID=Europe/Paris:20240505T150000
DTEND;TZID=Europe/Paris:20240505T170000
DTSTAMP:20260424T125729
CREATED:20240222T090823Z
LAST-MODIFIED:20240222T090823Z
UID:7724-1714921200-1714928400@tjslavojledenice.cz
SUMMARY:I. B muži: T. Sviny B - Ledenice
DESCRIPTION:
URL:https://tjslavojledenice.cz/events/i-b-muzi-t-sviny-b-ledenice-2/
END:VEVENT
BEGIN:VEVENT
DTSTART;TZID=Europe/Paris:20240505T101500
DTEND;TZID=Europe/Paris:20240505T120000
DTSTAMP:20260424T125729
CREATED:20240222T092036Z
LAST-MODIFIED:20240222T092036Z
UID:7772-1714904100-1714910400@tjslavojledenice.cz
SUMMARY:OP st. žáci: Ledenice - Planá
DESCRIPTION:
URL:https://tjslavojledenice.cz/events/op-st-zaci-ledenice-plana/
END:VEVENT
BEGIN:VEVENT
DTSTART;TZID=Europe/Paris:20240504T080000
DTEND;TZID=Europe/Paris:20240504T170000
DTSTAMP:20260424T125729
CREATED:20240124T132603Z
LAST-MODIFIED:20240430T084717Z
UID:7643-1714809600-1714842000@tjslavojledenice.cz
SUMMARY:Turnaj předpřípravka: Dubné
DESCRIPTION:
URL:https://tjslavojledenice.cz/events/turnaj-ml-pripravka-lokalita-bude-upresnena-3/
END:VEVENT
BEGIN:VEVENT
DTSTART;TZID=Europe/Paris:20240504T080000
DTEND;TZID=Europe/Paris:20240504T170000
DTSTAMP:20260424T125729
CREATED:20231002T195701Z
LAST-MODIFIED:20231002T195701Z
UID:7197-1714809600-1714842000@tjslavojledenice.cz
SUMMARY:Rezervace hřiště - hasiči
DESCRIPTION:
URL:https://tjslavojledenice.cz/events/rezervace-hriste-hasici/
LOCATION:Ledenice\, Sokolská 639\, Ledenice\, 373 11\, Česká republika
END:VEVENT
BEGIN:VEVENT
DTSTART;TZID=Europe/Paris:20240503T170000
DTEND;TZID=Europe/Paris:20240503T190000
DTSTAMP:20260424T125729
CREATED:20240222T093001Z
LAST-MODIFIED:20240222T093001Z
UID:7804-1714755600-1714762800@tjslavojledenice.cz
SUMMARY:OP dorost: N. Hodějovice - Ledenice
DESCRIPTION:
URL:https://tjslavojledenice.cz/events/op-dorost-n-hodejovice-ledenice-2/
END:VEVENT
BEGIN:VEVENT
DTSTART;TZID=Europe/Paris:20240502T173000
DTEND;TZID=Europe/Paris:20240502T183000
DTSTAMP:20260424T125729
CREATED:20240411T095904Z
LAST-MODIFIED:20240411T095904Z
UID:7966-1714671000-1714674600@tjslavojledenice.cz
SUMMARY:KP muži II (volejbal): Ledenice - Slovan ČB
DESCRIPTION:
URL:https://tjslavojledenice.cz/events/kp-muzi-ii-volejbal-ledenice-slovan-cb/
END:VEVENT
BEGIN:VEVENT
DTSTART;TZID=Europe/Paris:20240502T170000
DTEND;TZID=Europe/Paris:20240502T180000
DTSTAMP:20260424T125729
CREATED:20240222T091301Z
LAST-MODIFIED:20240222T091301Z
UID:7746-1714669200-1714672800@tjslavojledenice.cz
SUMMARY:OP mladší žáci: Ledenice - N. Hrady
DESCRIPTION:
URL:https://tjslavojledenice.cz/events/op-mladsi-zaci-ledenice-n-hrady/
END:VEVENT
BEGIN:VEVENT
DTSTART;TZID=Europe/Paris:20240502T163000
DTEND;TZID=Europe/Paris:20240502T173000
DTSTAMP:20260424T125729
CREATED:20240124T132138Z
LAST-MODIFIED:20240124T132138Z
UID:7622-1714667400-1714671000@tjslavojledenice.cz
SUMMARY:OP ml. přípravka: Slavia Č. Budějovice - TJ Slavoj Ledenice
DESCRIPTION:
URL:https://tjslavojledenice.cz/events/op-ml-pripravka-slavia-c-budejovice-tj-slavoj-ledenice/
END:VEVENT
BEGIN:VEVENT
DTSTART;TZID=Europe/Paris:20240501T193000
DTEND;TZID=Europe/Paris:20240501T203000
DTSTAMP:20260424T125729
CREATED:20240421T182306Z
LAST-MODIFIED:20240421T182306Z
UID:8065-1714591800-1714595400@tjslavojledenice.cz
SUMMARY:KP ženy II (volejbal): Ledenice - Loko Č. Budějovice
DESCRIPTION:
URL:https://tjslavojledenice.cz/events/kp-zeny-ii-volejbal-ledenice-loko-c-budejovice/
END:VEVENT
BEGIN:VEVENT
DTSTART;TZID=Europe/Paris:20240430T170000
DTEND;TZID=Europe/Paris:20240430T180000
DTSTAMP:20260424T125729
CREATED:20240222T092325Z
LAST-MODIFIED:20240222T092325Z
UID:7785-1714496400-1714500000@tjslavojledenice.cz
SUMMARY:OS ml. žáci: Borovany - Ledenice
DESCRIPTION:
URL:https://tjslavojledenice.cz/events/os-ml-zaci-borovany-ledenice/
END:VEVENT
BEGIN:VEVENT
DTSTART;TZID=Europe/Paris:20240429T183000
DTEND;TZID=Europe/Paris:20240429T193000
DTSTAMP:20260424T125729
CREATED:20240415T044432Z
LAST-MODIFIED:20240415T044432Z
UID:8006-1714415400-1714419000@tjslavojledenice.cz
SUMMARY:Veteránská liga: Roudné - Ledenice
DESCRIPTION:
URL:https://tjslavojledenice.cz/events/veteranska-liga-roudne-ledenice/
END:VEVENT
BEGIN:VEVENT
DTSTART;TZID=Europe/Paris:20240428T150000
DTEND;TZID=Europe/Paris:20240428T170000
DTSTAMP:20260424T125729
CREATED:20240222T090805Z
LAST-MODIFIED:20240222T090805Z
UID:7723-1714316400-1714323600@tjslavojledenice.cz
SUMMARY:I. B muži: Ledenice - Kaplice B
DESCRIPTION:
URL:https://tjslavojledenice.cz/events/i-b-muzi-ledenice-kaplice-b-2/
END:VEVENT
BEGIN:VEVENT
DTSTART;TZID=Europe/Paris:20240427T101500
DTEND;TZID=Europe/Paris:20240427T120000
DTSTAMP:20260424T125729
CREATED:20240222T092940Z
LAST-MODIFIED:20240222T092940Z
UID:7803-1714212900-1714219200@tjslavojledenice.cz
SUMMARY:OP dorost: Ledenice - Borovany
DESCRIPTION:
URL:https://tjslavojledenice.cz/events/op-dorost-ledenice-borovany-2/
END:VEVENT
BEGIN:VEVENT
DTSTART;TZID=Europe/Paris:20240426T170000
DTEND;TZID=Europe/Paris:20240426T180000
DTSTAMP:20260424T125729
CREATED:20240222T091234Z
LAST-MODIFIED:20240222T091234Z
UID:7745-1714150800-1714154400@tjslavojledenice.cz
SUMMARY:OP mladší žáci: H. Stropnice - Ledenice
DESCRIPTION:
URL:https://tjslavojledenice.cz/events/op-mladsi-zaci-h-stropnice-ledenice/
END:VEVENT
BEGIN:VEVENT
DTSTART;TZID=Europe/Paris:20240426T160000
DTEND;TZID=Europe/Paris:20240426T170000
DTSTAMP:20260424T125729
CREATED:20240124T132111Z
LAST-MODIFIED:20240124T132111Z
UID:7621-1714147200-1714150800@tjslavojledenice.cz
SUMMARY:OP ml. přípravka: TJ Slavoj Ledenice - Včelná
DESCRIPTION:
URL:https://tjslavojledenice.cz/events/op-ml-pripravka-tj-slavoj-ledenice-vcelna/
END:VEVENT
BEGIN:VEVENT
DTSTART;TZID=Europe/Paris:20240425T180000
DTEND;TZID=Europe/Paris:20240425T190000
DTSTAMP:20260424T125729
CREATED:20240411T095803Z
LAST-MODIFIED:20240411T095843Z
UID:7965-1714068000-1714071600@tjslavojledenice.cz
SUMMARY:KP muži II (volejbal): Soběslav - Ledenice
DESCRIPTION:
URL:https://tjslavojledenice.cz/events/kp-muzi-ii-volejbal-slovan-cb-ledenice/
END:VEVENT
BEGIN:VEVENT
DTSTART;TZID=Europe/Paris:20240424T183000
DTEND;TZID=Europe/Paris:20240424T193000
DTSTAMP:20260424T125729
CREATED:20240415T044402Z
LAST-MODIFIED:20240415T044402Z
UID:8005-1713983400-1713987000@tjslavojledenice.cz
SUMMARY:Veteránská liga: Ledenice - Černý Dub
DESCRIPTION:
URL:https://tjslavojledenice.cz/events/veteranska-liga-ledenice-cerny-dub/
END:VEVENT
END:VCALENDAR