BEGIN:VCALENDAR
VERSION:2.0
PRODID:-//TJ Slavoj Ledenice - ECPv6.15.18//NONSGML v1.0//EN
CALSCALE:GREGORIAN
METHOD:PUBLISH
X-WR-CALNAME:TJ Slavoj Ledenice
X-ORIGINAL-URL:https://tjslavojledenice.cz
X-WR-CALDESC:Akce na TJ Slavoj Ledenice
REFRESH-INTERVAL;VALUE=DURATION:PT1H
X-Robots-Tag:noindex
X-PUBLISHED-TTL:PT1H
BEGIN:VTIMEZONE
TZID:Europe/Paris
BEGIN:DAYLIGHT
TZOFFSETFROM:+0100
TZOFFSETTO:+0200
TZNAME:CEST
DTSTART:20240331T010000
END:DAYLIGHT
BEGIN:STANDARD
TZOFFSETFROM:+0200
TZOFFSETTO:+0100
TZNAME:CET
DTSTART:20241027T010000
END:STANDARD
BEGIN:DAYLIGHT
TZOFFSETFROM:+0100
TZOFFSETTO:+0200
TZNAME:CEST
DTSTART:20250330T010000
END:DAYLIGHT
BEGIN:STANDARD
TZOFFSETFROM:+0200
TZOFFSETTO:+0100
TZNAME:CET
DTSTART:20251026T010000
END:STANDARD
BEGIN:DAYLIGHT
TZOFFSETFROM:+0100
TZOFFSETTO:+0200
TZNAME:CEST
DTSTART:20260329T010000
END:DAYLIGHT
BEGIN:STANDARD
TZOFFSETFROM:+0200
TZOFFSETTO:+0100
TZNAME:CET
DTSTART:20261025T010000
END:STANDARD
END:VTIMEZONE
BEGIN:VEVENT
DTSTART;TZID=Europe/Paris:20250405T100000
DTEND;TZID=Europe/Paris:20250405T123000
DTSTAMP:20260424T175227
CREATED:20250218T082821Z
LAST-MODIFIED:20250226T084037Z
UID:9264-1743847200-1743856200@tjslavojledenice.cz
SUMMARY:OP dorost: Ledenice - Velešín
DESCRIPTION:
URL:https://tjslavojledenice.cz/events/op-dorost-ledenice-velesin-3/
END:VEVENT
BEGIN:VEVENT
DTSTART;TZID=Europe/Paris:20250405T080000
DTEND;TZID=Europe/Paris:20250405T170000
DTSTAMP:20260424T175227
CREATED:20250218T082453Z
LAST-MODIFIED:20250218T082453Z
UID:9252-1743840000-1743872400@tjslavojledenice.cz
SUMMARY:Turnaj OFS U8
DESCRIPTION:
URL:https://tjslavojledenice.cz/events/turnaj-ofs-u8-2/
END:VEVENT
BEGIN:VEVENT
DTSTART;TZID=Europe/Paris:20250404T170000
DTEND;TZID=Europe/Paris:20250404T180000
DTSTAMP:20260424T175227
CREATED:20250218T084357Z
LAST-MODIFIED:20250218T084357Z
UID:9331-1743786000-1743789600@tjslavojledenice.cz
SUMMARY:OP ml. přípravka (sk. B): Ledenice B - Rudolfov B
DESCRIPTION:
URL:https://tjslavojledenice.cz/events/op-ml-pripravka-sk-b-ledenice-b-rudolfov-b/
END:VEVENT
BEGIN:VEVENT
DTSTART;TZID=Europe/Paris:20250404T160000
DTEND;TZID=Europe/Paris:20250404T170000
DTSTAMP:20260424T175227
CREATED:20250218T084036Z
LAST-MODIFIED:20250815T083902Z
UID:9325-1743782400-1743786000@tjslavojledenice.cz
SUMMARY:OP ml. přípravka (sk. A): Ledenice - Nová Ves
DESCRIPTION:
URL:https://tjslavojledenice.cz/events/op-ml-pripravka-sk-a-ledenice-nova-ves/
END:VEVENT
BEGIN:VEVENT
DTSTART;TZID=Europe/Paris:20250403T170000
DTEND;TZID=Europe/Paris:20250403T180000
DTSTAMP:20260424T175227
CREATED:20250218T090505Z
LAST-MODIFIED:20250401T081438Z
UID:9424-1743699600-1743703200@tjslavojledenice.cz
SUMMARY:OS ml. žáci: Ledenice - K. Újezd
DESCRIPTION:
URL:https://tjslavojledenice.cz/events/os-ml-zaci-ledenice-k-ujezd/
END:VEVENT
BEGIN:VEVENT
DTSTART;TZID=Europe/Paris:20250402T163000
DTEND;TZID=Europe/Paris:20250402T173000
DTSTAMP:20260424T175227
CREATED:20250218T085654Z
LAST-MODIFIED:20250318T100128Z
UID:9373-1743611400-1743615000@tjslavojledenice.cz
SUMMARY:OP ml. žáci (sk. A): Ledenice - JFA
DESCRIPTION:
URL:https://tjslavojledenice.cz/events/op-ml-zaci-sk-a-jfa-ledenice/
END:VEVENT
BEGIN:VEVENT
DTSTART;TZID=Europe/Paris:20250330T100000
DTEND;TZID=Europe/Paris:20250330T120000
DTSTAMP:20260424T175227
CREATED:20250218T082758Z
LAST-MODIFIED:20250218T082758Z
UID:9263-1743328800-1743336000@tjslavojledenice.cz
SUMMARY:OP dorost: Borovany - Ledenice
DESCRIPTION:
URL:https://tjslavojledenice.cz/events/op-dorost-borovany-ledenice-3/
END:VEVENT
BEGIN:VEVENT
DTSTART;TZID=Europe/Paris:20250329T150000
DTEND;TZID=Europe/Paris:20250329T170000
DTSTAMP:20260424T175227
CREATED:20250218T083533Z
LAST-MODIFIED:20250218T083533Z
UID:9298-1743260400-1743267600@tjslavojledenice.cz
SUMMARY:I. B muži: Mladé - Ledenice
DESCRIPTION:
URL:https://tjslavojledenice.cz/events/i-b-muzi-mlade-ledenice-3/
END:VEVENT
BEGIN:VEVENT
DTSTART;TZID=Europe/Paris:20250329T080000
DTEND;TZID=Europe/Paris:20250329T170000
DTSTAMP:20260424T175227
CREATED:20250112T111546Z
LAST-MODIFIED:20250112T111546Z
UID:9090-1743235200-1743267600@tjslavojledenice.cz
SUMMARY:Turnaj Karlštejn - U9
DESCRIPTION:
URL:https://tjslavojledenice.cz/events/turnaj-karlstejn-u9/
END:VEVENT
BEGIN:VEVENT
DTSTART;TZID=Europe/Paris:20250326T170000
DTEND;TZID=Europe/Paris:20250326T180000
DTSTAMP:20260424T175227
CREATED:20250218T085634Z
LAST-MODIFIED:20250218T085634Z
UID:9372-1743008400-1743012000@tjslavojledenice.cz
SUMMARY:OP ml. žáci (sk. A): Borovany - Ledenice
DESCRIPTION:
URL:https://tjslavojledenice.cz/events/op-ml-zaci-sk-a-borovany-ledenice/
END:VEVENT
BEGIN:VEVENT
DTSTART;TZID=Europe/Paris:20250325T170000
DTEND;TZID=Europe/Paris:20250325T180000
DTSTAMP:20260424T175227
CREATED:20250218T090443Z
LAST-MODIFIED:20250218T090443Z
UID:9388-1742922000-1742925600@tjslavojledenice.cz
SUMMARY:OS ml. žáci: Ledenice - Lišov
DESCRIPTION:
URL:https://tjslavojledenice.cz/events/os-ml-zaci-ledenice-lisov-2/
END:VEVENT
BEGIN:VEVENT
DTSTART;TZID=Europe/Paris:20250325T163000
DTEND;TZID=Europe/Paris:20250325T173000
DTSTAMP:20260424T175227
CREATED:20250218T084330Z
LAST-MODIFIED:20250218T084330Z
UID:9323-1742920200-1742923800@tjslavojledenice.cz
SUMMARY:OP ml. přípravka (sk. B): Loko Č. Budějovice - Ledenice B
DESCRIPTION:
URL:https://tjslavojledenice.cz/events/op-ml-pripravka-sk-b-loko-c-budejovice-ledenice-b/
END:VEVENT
BEGIN:VEVENT
DTSTART;TZID=Europe/Paris:20250325T162000
DTEND;TZID=Europe/Paris:20250325T173000
DTSTAMP:20260424T175227
CREATED:20250218T084020Z
LAST-MODIFIED:20250218T084020Z
UID:9324-1742919600-1742923800@tjslavojledenice.cz
SUMMARY:OP ml. přípravka (sk. A): Borovany - Ledenice
DESCRIPTION:
URL:https://tjslavojledenice.cz/events/op-ml-pripravka-sk-a-borovany-ledenice/
END:VEVENT
BEGIN:VEVENT
DTSTART;TZID=Europe/Paris:20250324T170000
DTEND;TZID=Europe/Paris:20250324T180000
DTSTAMP:20260424T175227
CREATED:20250218T090031Z
LAST-MODIFIED:20250324T122610Z
UID:9384-1742835600-1742839200@tjslavojledenice.cz
SUMMARY:OP ml. žáci (sk. B): Ledenice B - Lišov B
DESCRIPTION:
URL:https://tjslavojledenice.cz/events/op-ml-zaci-sk-a-ledenice-b-lisov-b/
END:VEVENT
BEGIN:VEVENT
DTSTART;TZID=Europe/Paris:20250323T150000
DTEND;TZID=Europe/Paris:20250323T170000
DTSTAMP:20260424T175227
CREATED:20250218T083518Z
LAST-MODIFIED:20250218T093821Z
UID:9297-1742742000-1742749200@tjslavojledenice.cz
SUMMARY:I. B muži: Ledenice - Roudné B
DESCRIPTION:
URL:https://tjslavojledenice.cz/events/i-b-muzi-ledenice-roudne-b-3/
END:VEVENT
BEGIN:VEVENT
DTSTART;TZID=Europe/Paris:20250322T100000
DTEND;TZID=Europe/Paris:20250322T123000
DTSTAMP:20260424T175227
CREATED:20250218T082732Z
LAST-MODIFIED:20250226T084046Z
UID:9262-1742637600-1742646600@tjslavojledenice.cz
SUMMARY:OP dorost: Ledenice - Dříteň
DESCRIPTION:
URL:https://tjslavojledenice.cz/events/op-dorost-ledenice-driten-3/
END:VEVENT
BEGIN:VEVENT
DTSTART;VALUE=DATE:20250321
DTEND;VALUE=DATE:20250324
DTSTAMP:20260424T175227
CREATED:20250313T113430Z
LAST-MODIFIED:20250313T113430Z
UID:9517-1742515200-1742774399@tjslavojledenice.cz
SUMMARY:Soustředění U13 (H. Hora)
DESCRIPTION:
URL:https://tjslavojledenice.cz/events/soustredeni-u13-h-hora/
END:VEVENT
BEGIN:VEVENT
DTSTART;TZID=Europe/Paris:20250316T090000
DTEND;TZID=Europe/Paris:20250316T150000
DTSTAMP:20260424T175227
CREATED:20250205T140909Z
LAST-MODIFIED:20250314T084512Z
UID:9204-1742115600-1742137200@tjslavojledenice.cz
SUMMARY:Borovany Cup U7
DESCRIPTION:
URL:https://tjslavojledenice.cz/events/borovany-cup-u7/
END:VEVENT
BEGIN:VEVENT
DTSTART;TZID=Europe/Paris:20250316T090000
DTEND;TZID=Europe/Paris:20250316T150000
DTSTAMP:20260424T175227
CREATED:20250205T140851Z
LAST-MODIFIED:20250314T084515Z
UID:9203-1742115600-1742137200@tjslavojledenice.cz
SUMMARY:Borovany Cup U9
DESCRIPTION:
URL:https://tjslavojledenice.cz/events/borovany-cup-u9/
END:VEVENT
BEGIN:VEVENT
DTSTART;TZID=Europe/Paris:20250312T160000
DTEND;TZID=Europe/Paris:20250312T170000
DTSTAMP:20260424T175227
CREATED:20250309T065735Z
LAST-MODIFIED:20250309T065735Z
UID:9508-1741795200-1741798800@tjslavojledenice.cz
SUMMARY:Příprava U9: Ledenice B - Slavia Č. Budějovice B
DESCRIPTION:
URL:https://tjslavojledenice.cz/events/priprava-u9-ledenice-b-slavia-c-budejovice-b/
END:VEVENT
BEGIN:VEVENT
DTSTART;TZID=Europe/Paris:20250312T160000
DTEND;TZID=Europe/Paris:20250312T170000
DTSTAMP:20260424T175227
CREATED:20250309T065713Z
LAST-MODIFIED:20250309T065713Z
UID:9507-1741795200-1741798800@tjslavojledenice.cz
SUMMARY:Příprava U9: Ledenice - Slavia Č. Budějovice
DESCRIPTION:
URL:https://tjslavojledenice.cz/events/priprava-u9-ledenice-slavia-c-budejovice/
END:VEVENT
BEGIN:VEVENT
DTSTART;TZID=Europe/Paris:20250312T160000
DTEND;TZID=Europe/Paris:20250312T170000
DTSTAMP:20260424T175227
CREATED:20250110T092338Z
LAST-MODIFIED:20250120T113642Z
UID:9081-1741795200-1741798800@tjslavojledenice.cz
SUMMARY:Příprava U13: Ledenice - T. Sviny (UMT Borovany)
DESCRIPTION:
URL:https://tjslavojledenice.cz/events/priprava-u13-ledenice-t-sviny-umt-borovany/
END:VEVENT
BEGIN:VEVENT
DTSTART;TZID=Europe/Paris:20250309T150000
DTEND;TZID=Europe/Paris:20250309T170000
DTSTAMP:20260424T175227
CREATED:20250218T082326Z
LAST-MODIFIED:20250218T082326Z
UID:9249-1741532400-1741539600@tjslavojledenice.cz
SUMMARY:Souboj generací: Ledenice U19 - Joudové
DESCRIPTION:
URL:https://tjslavojledenice.cz/events/souboj-generaci-ledenice-u19-joudove/
END:VEVENT
BEGIN:VEVENT
DTSTART;TZID=Europe/Paris:20250309T090000
DTEND;TZID=Europe/Paris:20250309T143000
DTSTAMP:20260424T175227
CREATED:20250218T082429Z
LAST-MODIFIED:20250305T053722Z
UID:9251-1741510800-1741530600@tjslavojledenice.cz
SUMMARY:Turnaj OFS U8 (Ledenice)
DESCRIPTION:
URL:https://tjslavojledenice.cz/events/turnaj-ofs-u8/
END:VEVENT
BEGIN:VEVENT
DTSTART;TZID=Europe/Paris:20250308T200000
DTEND;TZID=Europe/Paris:20250308T235900
DTSTAMP:20260424T175227
CREATED:20240205T073036Z
LAST-MODIFIED:20240301T110424Z
UID:7686-1741464000-1741478340@tjslavojledenice.cz
SUMMARY:Sportovní ples
DESCRIPTION:
URL:https://tjslavojledenice.cz/events/sportovni-ples-2/
END:VEVENT
BEGIN:VEVENT
DTSTART;TZID=Europe/Paris:20250308T080000
DTEND;TZID=Europe/Paris:20250308T170000
DTSTAMP:20260424T175227
CREATED:20240919T124201Z
LAST-MODIFIED:20240919T124201Z
UID:8695-1741420800-1741453200@tjslavojledenice.cz
SUMMARY:Jihočeská zimní halová liga U9 (5. kolo)
DESCRIPTION:
URL:https://tjslavojledenice.cz/events/jihoceska-zimni-halova-liga-u9-5-kolo/
LOCATION:Staré Hodějovice
END:VEVENT
BEGIN:VEVENT
DTSTART;TZID=Europe/Paris:20250306T170000
DTEND;TZID=Europe/Paris:20250306T180000
DTSTAMP:20260424T175227
CREATED:20250113T071417Z
LAST-MODIFIED:20250113T071417Z
UID:9093-1741280400-1741284000@tjslavojledenice.cz
SUMMARY:Příprava U13: Borovany B - Ledenice B
DESCRIPTION:
URL:https://tjslavojledenice.cz/events/priprava-u13-borovany-b-ledenice-b-2/
END:VEVENT
BEGIN:VEVENT
DTSTART;TZID=Europe/Paris:20250305T170000
DTEND;TZID=Europe/Paris:20250305T180000
DTSTAMP:20260424T175227
CREATED:20250226T061306Z
LAST-MODIFIED:20250226T061306Z
UID:9472-1741194000-1741197600@tjslavojledenice.cz
SUMMARY:Příprava U9: Třeboň - Ledenice
DESCRIPTION:
URL:https://tjslavojledenice.cz/events/priprava-u9-trebon-ledenice/
END:VEVENT
BEGIN:VEVENT
DTSTART;TZID=Europe/Paris:20250302T103000
DTEND;TZID=Europe/Paris:20250302T120000
DTSTAMP:20260424T175227
CREATED:20250221T115853Z
LAST-MODIFIED:20250221T115853Z
UID:9450-1740911400-1740916800@tjslavojledenice.cz
SUMMARY:Příprava dorost: Ledenice - Stráž n. Nežárkou (UMT Borovany)
DESCRIPTION:
URL:https://tjslavojledenice.cz/events/priprava-dorost-ledenice-straz-n-nezarkou-umt-borovany/
END:VEVENT
BEGIN:VEVENT
DTSTART;TZID=Europe/Paris:20250301T080000
DTEND;TZID=Europe/Paris:20250301T170000
DTSTAMP:20260424T175227
CREATED:20241202T123001Z
LAST-MODIFIED:20241202T155459Z
UID:9010-1740816000-1740848400@tjslavojledenice.cz
SUMMARY:S-Centrum Cup U9 (Benešov u Prahy)
DESCRIPTION:
URL:https://tjslavojledenice.cz/events/s-centrum-cup-u9-benesov-u-prahy/
END:VEVENT
END:VCALENDAR