BEGIN:VCALENDAR
VERSION:2.0
PRODID:-//TJ Slavoj Ledenice - ECPv6.15.18//NONSGML v1.0//EN
CALSCALE:GREGORIAN
METHOD:PUBLISH
X-WR-CALNAME:TJ Slavoj Ledenice
X-ORIGINAL-URL:https://tjslavojledenice.cz
X-WR-CALDESC:Akce na TJ Slavoj Ledenice
REFRESH-INTERVAL;VALUE=DURATION:PT1H
X-Robots-Tag:noindex
X-PUBLISHED-TTL:PT1H
BEGIN:VTIMEZONE
TZID:Europe/Paris
BEGIN:DAYLIGHT
TZOFFSETFROM:+0100
TZOFFSETTO:+0200
TZNAME:CEST
DTSTART:20230326T010000
END:DAYLIGHT
BEGIN:STANDARD
TZOFFSETFROM:+0200
TZOFFSETTO:+0100
TZNAME:CET
DTSTART:20231029T010000
END:STANDARD
BEGIN:DAYLIGHT
TZOFFSETFROM:+0100
TZOFFSETTO:+0200
TZNAME:CEST
DTSTART:20240331T010000
END:DAYLIGHT
BEGIN:STANDARD
TZOFFSETFROM:+0200
TZOFFSETTO:+0100
TZNAME:CET
DTSTART:20241027T010000
END:STANDARD
BEGIN:DAYLIGHT
TZOFFSETFROM:+0100
TZOFFSETTO:+0200
TZNAME:CEST
DTSTART:20250330T010000
END:DAYLIGHT
BEGIN:STANDARD
TZOFFSETFROM:+0200
TZOFFSETTO:+0100
TZNAME:CET
DTSTART:20251026T010000
END:STANDARD
END:VTIMEZONE
BEGIN:VEVENT
DTSTART;TZID=Europe/Paris:20240417T160000
DTEND;TZID=Europe/Paris:20240417T170000
DTSTAMP:20260424T175222
CREATED:20240124T132056Z
LAST-MODIFIED:20240124T132056Z
UID:7620-1713369600-1713373200@tjslavojledenice.cz
SUMMARY:OP ml. přípravka: Borovany - TJ Slavoj Ledenice
DESCRIPTION:
URL:https://tjslavojledenice.cz/events/op-ml-pripravka-borovany-tj-slavoj-ledenice/
END:VEVENT
BEGIN:VEVENT
DTSTART;TZID=Europe/Paris:20240417T150000
DTEND;TZID=Europe/Paris:20240417T180000
DTSTAMP:20260424T175222
CREATED:20240223T171143Z
LAST-MODIFIED:20240223T171143Z
UID:7841-1713366000-1713376800@tjslavojledenice.cz
SUMMARY:Rezervace tartan a 1/2 hřiště - MŠ Ledenice
DESCRIPTION:
URL:https://tjslavojledenice.cz/events/rezervace-tartan-a-1-2-hriste-ms-ledenice/
END:VEVENT
BEGIN:VEVENT
DTSTART;TZID=Europe/Paris:20240416T170000
DTEND;TZID=Europe/Paris:20240416T180000
DTSTAMP:20260424T175222
CREATED:20240222T092259Z
LAST-MODIFIED:20240222T092259Z
UID:7784-1713286800-1713290400@tjslavojledenice.cz
SUMMARY:OS ml. žáci: Ledenice - D. Voda
DESCRIPTION:
URL:https://tjslavojledenice.cz/events/os-ml-zaci-ledenice-d-voda/
END:VEVENT
BEGIN:VEVENT
DTSTART;TZID=Europe/Paris:20240415T180000
DTEND;TZID=Europe/Paris:20240415T190000
DTSTAMP:20260424T175222
CREATED:20240415T044318Z
LAST-MODIFIED:20240415T044318Z
UID:8004-1713204000-1713207600@tjslavojledenice.cz
SUMMARY:Veteránská liga: Dynamo ČB - Ledenice
DESCRIPTION:
URL:https://tjslavojledenice.cz/events/veteranska-liga-dynamo-cb-ledenice/
END:VEVENT
BEGIN:VEVENT
DTSTART;TZID=Europe/Paris:20240414T163000
DTEND;TZID=Europe/Paris:20240414T183000
DTSTAMP:20260424T175222
CREATED:20240222T090729Z
LAST-MODIFIED:20240222T090729Z
UID:7721-1713112200-1713119400@tjslavojledenice.cz
SUMMARY:I. B muži: Č. Krumlov B - Ledenice
DESCRIPTION:
URL:https://tjslavojledenice.cz/events/i-b-muzi-c-krumlov-b-ledenice/
END:VEVENT
BEGIN:VEVENT
DTSTART;TZID=Europe/Paris:20240413T180000
DTEND;TZID=Europe/Paris:20240413T220000
DTSTAMP:20260424T175222
CREATED:20240223T100206Z
LAST-MODIFIED:20240223T100243Z
UID:7839-1713031200-1713045600@tjslavojledenice.cz
SUMMARY:Volební valná hromada TJ Slavoj Ledenice
DESCRIPTION:
URL:https://tjslavojledenice.cz/events/volebni-valna-hromada-tj-slavoj-ledenice/
END:VEVENT
BEGIN:VEVENT
DTSTART;TZID=Europe/Paris:20240413T140000
DTEND;TZID=Europe/Paris:20240413T150000
DTSTAMP:20260424T175222
CREATED:20240222T092240Z
LAST-MODIFIED:20240222T092240Z
UID:7783-1713016800-1713020400@tjslavojledenice.cz
SUMMARY:OS ml. žáci: N. Hrady - Ledenice
DESCRIPTION:
URL:https://tjslavojledenice.cz/events/os-ml-zaci-n-hrady-ledenice/
END:VEVENT
BEGIN:VEVENT
DTSTART;TZID=Europe/Paris:20240413T100000
DTEND;TZID=Europe/Paris:20240413T120000
DTSTAMP:20260424T175222
CREATED:20240222T092906Z
LAST-MODIFIED:20240222T092906Z
UID:7813-1713002400-1713009600@tjslavojledenice.cz
SUMMARY:OP dorost: Planá - Ledenice
DESCRIPTION:
URL:https://tjslavojledenice.cz/events/op-dorost-plana-ledenice-2/
END:VEVENT
BEGIN:VEVENT
DTSTART;TZID=Europe/Paris:20240412T160000
DTEND;TZID=Europe/Paris:20240412T170000
DTSTAMP:20260424T175222
CREATED:20240124T132031Z
LAST-MODIFIED:20240124T132031Z
UID:7619-1712937600-1712941200@tjslavojledenice.cz
SUMMARY:OP ml. přípravka: TJ Slavoj Ledenice - Roudné
DESCRIPTION:
URL:https://tjslavojledenice.cz/events/op-ml-pripravka-tj-slavoj-ledenice-roudne/
END:VEVENT
BEGIN:VEVENT
DTSTART;TZID=Europe/Paris:20240410T170000
DTEND;TZID=Europe/Paris:20240410T190000
DTSTAMP:20260424T175222
CREATED:20240222T091923Z
LAST-MODIFIED:20240222T091923Z
UID:7769-1712768400-1712775600@tjslavojledenice.cz
SUMMARY:OP st. žáci: Ledenice - Mokré
DESCRIPTION:
URL:https://tjslavojledenice.cz/events/op-st-zaci-ledenice-mokre/
END:VEVENT
BEGIN:VEVENT
DTSTART;TZID=Europe/Paris:20240407T150000
DTEND;TZID=Europe/Paris:20240407T170000
DTSTAMP:20260424T175222
CREATED:20240222T090706Z
LAST-MODIFIED:20240222T090706Z
UID:7720-1712502000-1712509200@tjslavojledenice.cz
SUMMARY:I. B muži: Ledenice - Olešnice
DESCRIPTION:
URL:https://tjslavojledenice.cz/events/i-b-muzi-ledenice-olesnice-2/
END:VEVENT
BEGIN:VEVENT
DTSTART;TZID=Europe/Paris:20240406T101500
DTEND;TZID=Europe/Paris:20240406T120000
DTSTAMP:20260424T175222
CREATED:20240222T092849Z
LAST-MODIFIED:20240222T092849Z
UID:7812-1712398500-1712404800@tjslavojledenice.cz
SUMMARY:OP dorost: Ledenice - Lišov
DESCRIPTION:
URL:https://tjslavojledenice.cz/events/op-dorost-ledenice-lisov-2/
END:VEVENT
BEGIN:VEVENT
DTSTART;TZID=Europe/Paris:20240406T080000
DTEND;TZID=Europe/Paris:20240406T170000
DTSTAMP:20260424T175222
CREATED:20240124T132555Z
LAST-MODIFIED:20240124T132555Z
UID:7642-1712390400-1712422800@tjslavojledenice.cz
SUMMARY:Turnaj ml. přípravka: Lokalita bude upřesněna
DESCRIPTION:
URL:https://tjslavojledenice.cz/events/turnaj-ml-pripravka-lokalita-bude-upresnena-2/
END:VEVENT
BEGIN:VEVENT
DTSTART;TZID=Europe/Paris:20240404T170000
DTEND;TZID=Europe/Paris:20240404T180000
DTSTAMP:20260424T175222
CREATED:20240222T091132Z
LAST-MODIFIED:20240222T091132Z
UID:7743-1712250000-1712253600@tjslavojledenice.cz
SUMMARY:OP mladší žáci: Ledenice - Srubec
DESCRIPTION:
URL:https://tjslavojledenice.cz/events/op-mladsi-zaci-ledenice-srubec/
END:VEVENT
BEGIN:VEVENT
DTSTART;TZID=Europe/Paris:20240404T170000
DTEND;TZID=Europe/Paris:20240404T180000
DTSTAMP:20260424T175222
CREATED:20240124T132016Z
LAST-MODIFIED:20240124T132016Z
UID:7618-1712250000-1712253600@tjslavojledenice.cz
SUMMARY:OP ml. přípravka: Nová Ves - TJ Slavoj Ledenice
DESCRIPTION:
URL:https://tjslavojledenice.cz/events/op-ml-pripravka-nova-ves-tj-slavoj-ledenice/
END:VEVENT
BEGIN:VEVENT
DTSTART;TZID=Europe/Paris:20240403T173000
DTEND;TZID=Europe/Paris:20240403T193000
DTSTAMP:20260424T175222
CREATED:20240222T091816Z
LAST-MODIFIED:20240222T091816Z
UID:7768-1712165400-1712172600@tjslavojledenice.cz
SUMMARY:OP st. žáci: Nemanice/D. Voda - Ledenice
DESCRIPTION:
URL:https://tjslavojledenice.cz/events/op-st-zaci-nemanice-d-voda-ledenice/
END:VEVENT
BEGIN:VEVENT
DTSTART;TZID=Europe/Paris:20240402T170000
DTEND;TZID=Europe/Paris:20240402T180000
DTSTAMP:20260424T175222
CREATED:20240222T092221Z
LAST-MODIFIED:20240222T092221Z
UID:7756-1712077200-1712080800@tjslavojledenice.cz
SUMMARY:OS ml. žáci: Ledenice - Roudné
DESCRIPTION:
URL:https://tjslavojledenice.cz/events/os-ml-zaci-ledenice-roudne/
END:VEVENT
BEGIN:VEVENT
DTSTART;TZID=Europe/Paris:20240402T160000
DTEND;TZID=Europe/Paris:20240402T170000
DTSTAMP:20260424T175222
CREATED:20240124T131954Z
LAST-MODIFIED:20240124T131954Z
UID:7617-1712073600-1712077200@tjslavojledenice.cz
SUMMARY:OP ml. přípravka: TJ Slavoj Ledenice - SK Dynamo České Budějovice
DESCRIPTION:
URL:https://tjslavojledenice.cz/events/op-ml-pripravka-tj-slavoj-ledenice-sk-dynamo-ceske-budejovice/
END:VEVENT
BEGIN:VEVENT
DTSTART;TZID=Europe/Paris:20240331T150000
DTEND;TZID=Europe/Paris:20240331T170000
DTSTAMP:20260424T175222
CREATED:20240222T090651Z
LAST-MODIFIED:20240222T090651Z
UID:7719-1711897200-1711904400@tjslavojledenice.cz
SUMMARY:I. B muži: Roudné B - Ledenice
DESCRIPTION:
URL:https://tjslavojledenice.cz/events/i-b-muzi-roudne-b-ledenice-2/
END:VEVENT
BEGIN:VEVENT
DTSTART;TZID=Europe/Paris:20240331T140000
DTEND;TZID=Europe/Paris:20240331T170000
DTSTAMP:20260424T175222
CREATED:20240222T092826Z
LAST-MODIFIED:20240222T092826Z
UID:7799-1711893600-1711904400@tjslavojledenice.cz
SUMMARY:OP dorost: Dříteň - Ledenice
DESCRIPTION:
URL:https://tjslavojledenice.cz/events/op-dorost-driten-ledenice-2/
END:VEVENT
BEGIN:VEVENT
DTSTART;TZID=Europe/Paris:20240329T170000
DTEND;TZID=Europe/Paris:20240329T190000
DTSTAMP:20260424T175222
CREATED:20240222T091731Z
LAST-MODIFIED:20240222T091731Z
UID:7753-1711731600-1711738800@tjslavojledenice.cz
SUMMARY:OP st. žáci: Ledenice - N. Ves
DESCRIPTION:
URL:https://tjslavojledenice.cz/events/op-st-zaci-ledenice-n-ves-2/
END:VEVENT
BEGIN:VEVENT
DTSTART;TZID=Europe/Paris:20240328T170000
DTEND;TZID=Europe/Paris:20240328T180000
DTSTAMP:20260424T175222
CREATED:20240222T092203Z
LAST-MODIFIED:20240222T092203Z
UID:7755-1711645200-1711648800@tjslavojledenice.cz
SUMMARY:OS ml. žáci: Římov - Ledenice
DESCRIPTION:
URL:https://tjslavojledenice.cz/events/os-ml-zaci-rimov-ledenice/
END:VEVENT
BEGIN:VEVENT
DTSTART;TZID=Europe/Paris:20240328T160000
DTEND;TZID=Europe/Paris:20240328T170000
DTSTAMP:20260424T175222
CREATED:20240124T131935Z
LAST-MODIFIED:20240303T100357Z
UID:7616-1711641600-1711645200@tjslavojledenice.cz
SUMMARY:OP ml. přípravka: TJ Slavoj Ledenice - Dobrá Voda
DESCRIPTION:
URL:https://tjslavojledenice.cz/events/op-ml-pripravka-tj-slavoj-ledenice-dobra-voda/
END:VEVENT
BEGIN:VEVENT
DTSTART;TZID=Europe/Paris:20240326T170000
DTEND;TZID=Europe/Paris:20240326T180000
DTSTAMP:20260424T175222
CREATED:20240222T091114Z
LAST-MODIFIED:20240222T091114Z
UID:7718-1711472400-1711476000@tjslavojledenice.cz
SUMMARY:OP mladší žáci: Borovany - Ledenice
DESCRIPTION:
URL:https://tjslavojledenice.cz/events/op-mladsi-zaci-borovany-ledenice/
END:VEVENT
BEGIN:VEVENT
DTSTART;TZID=Europe/Paris:20240324T150000
DTEND;TZID=Europe/Paris:20240324T170000
DTSTAMP:20260424T175222
CREATED:20240222T090620Z
LAST-MODIFIED:20240222T090620Z
UID:7716-1711292400-1711299600@tjslavojledenice.cz
SUMMARY:I. B muži: Ledenice - Hluboká B
DESCRIPTION:
URL:https://tjslavojledenice.cz/events/i-b-muzi-ledenice-hluboka-b/
END:VEVENT
BEGIN:VEVENT
DTSTART;TZID=Europe/Paris:20240324T100000
DTEND;TZID=Europe/Paris:20240324T150000
DTSTAMP:20260424T175222
CREATED:20240123T195241Z
LAST-MODIFIED:20240215T135241Z
UID:7614-1711274400-1711292400@tjslavojledenice.cz
SUMMARY:Turnaj ml. přípravka v Borovanech
DESCRIPTION:Účast: Ledenice\, Borovany\, Meteor Tábor\, Dobrá Voda\, Nová Ves
URL:https://tjslavojledenice.cz/events/priprava-ml-pripravka-ledenice-meteor-tabor/
END:VEVENT
BEGIN:VEVENT
DTSTART;TZID=Europe/Paris:20240324T080000
DTEND;TZID=Europe/Paris:20240324T160000
DTSTAMP:20260424T175222
CREATED:20240222T093312Z
LAST-MODIFIED:20240222T093312Z
UID:7826-1711267200-1711296000@tjslavojledenice.cz
SUMMARY:Volejbalový turnaj mládeže - Loko České Budějovice
DESCRIPTION:
URL:https://tjslavojledenice.cz/events/volejbalovy-turnaj-mladeze-loko-ceske-budejovice/
END:VEVENT
BEGIN:VEVENT
DTSTART;TZID=Europe/Paris:20240323T150000
DTEND;TZID=Europe/Paris:20240323T170000
DTSTAMP:20260424T175222
CREATED:20240222T092737Z
LAST-MODIFIED:20240222T092737Z
UID:7809-1711206000-1711213200@tjslavojledenice.cz
SUMMARY:Pohár OFS žáci\, semifinále: Dynamo Č. Budějovice holky - Ledenice
DESCRIPTION:
URL:https://tjslavojledenice.cz/events/pohar-ofs-zaci-semifinale-dynamo-c-budejovice-holky-ledenice/
END:VEVENT
BEGIN:VEVENT
DTSTART;VALUE=DATE:20240322
DTEND;VALUE=DATE:20240325
DTSTAMP:20260424T175222
CREATED:20240110T052147Z
LAST-MODIFIED:20240110T052147Z
UID:7590-1711065600-1711324799@tjslavojledenice.cz
SUMMARY:Soustředění mladší přípravka
DESCRIPTION:
URL:https://tjslavojledenice.cz/events/soustredeni-mladsi-pripravka/
END:VEVENT
BEGIN:VEVENT
DTSTART;TZID=Europe/Paris:20240320T170000
DTEND;TZID=Europe/Paris:20240320T180000
DTSTAMP:20260424T175222
CREATED:20240313T161826Z
LAST-MODIFIED:20240313T161826Z
UID:7900-1710954000-1710957600@tjslavojledenice.cz
SUMMARY:Příprava: TJ Slavoj Ledenice U7 - TJ Jiskra Třeboň U7
DESCRIPTION:
URL:https://tjslavojledenice.cz/events/priprava-tj-slavoj-ledenice-u7-tj-jiskra-trebon-u7/
END:VEVENT
END:VCALENDAR