BEGIN:VCALENDAR
VERSION:2.0
PRODID:-//TJ Slavoj Ledenice - ECPv6.15.18//NONSGML v1.0//EN
CALSCALE:GREGORIAN
METHOD:PUBLISH
X-ORIGINAL-URL:https://tjslavojledenice.cz
X-WR-CALDESC:Akce na TJ Slavoj Ledenice
REFRESH-INTERVAL;VALUE=DURATION:PT1H
X-Robots-Tag:noindex
X-PUBLISHED-TTL:PT1H
BEGIN:VTIMEZONE
TZID:Europe/Paris
BEGIN:DAYLIGHT
TZOFFSETFROM:+0100
TZOFFSETTO:+0200
TZNAME:CEST
DTSTART:20240331T010000
END:DAYLIGHT
BEGIN:STANDARD
TZOFFSETFROM:+0200
TZOFFSETTO:+0100
TZNAME:CET
DTSTART:20241027T010000
END:STANDARD
BEGIN:DAYLIGHT
TZOFFSETFROM:+0100
TZOFFSETTO:+0200
TZNAME:CEST
DTSTART:20250330T010000
END:DAYLIGHT
BEGIN:STANDARD
TZOFFSETFROM:+0200
TZOFFSETTO:+0100
TZNAME:CET
DTSTART:20251026T010000
END:STANDARD
BEGIN:DAYLIGHT
TZOFFSETFROM:+0100
TZOFFSETTO:+0200
TZNAME:CEST
DTSTART:20260329T010000
END:DAYLIGHT
BEGIN:STANDARD
TZOFFSETFROM:+0200
TZOFFSETTO:+0100
TZNAME:CET
DTSTART:20261025T010000
END:STANDARD
BEGIN:DAYLIGHT
TZOFFSETFROM:+0100
TZOFFSETTO:+0200
TZNAME:CEST
DTSTART:20270328T010000
END:DAYLIGHT
BEGIN:STANDARD
TZOFFSETFROM:+0200
TZOFFSETTO:+0100
TZNAME:CET
DTSTART:20271031T010000
END:STANDARD
END:VTIMEZONE
BEGIN:VEVENT
DTSTART;TZID=Europe/Paris:20251021T170000
DTEND;TZID=Europe/Paris:20251021T180000
DTSTAMP:20260424T002139
CREATED:20251017T062507Z
LAST-MODIFIED:20251017T062507Z
UID:10387-1761066000-1761069600@tjslavojledenice.cz
SUMMARY:Příprava U7: Nemanice - Ledenice
DESCRIPTION:
URL:https://tjslavojledenice.cz/events/priprava-u7-nemanice-ledenice/
END:VEVENT
BEGIN:VEVENT
DTSTART;TZID=Europe/Paris:20251022T163000
DTEND;TZID=Europe/Paris:20251022T190000
DTSTAMP:20260424T002139
CREATED:20250806T090548Z
LAST-MODIFIED:20251010T103047Z
UID:10095-1761150600-1761159600@tjslavojledenice.cz
SUMMARY:OP st. žáci: Hrdějovice - Ledenice
DESCRIPTION:
URL:https://tjslavojledenice.cz/events/op-st-zaci-hrdejovice-ledenice/
END:VEVENT
BEGIN:VEVENT
DTSTART;TZID=Europe/Paris:20251022T180000
DTEND;TZID=Europe/Paris:20251022T190000
DTSTAMP:20260424T002139
CREATED:20250806T091732Z
LAST-MODIFIED:20250806T091732Z
UID:10133-1761156000-1761159600@tjslavojledenice.cz
SUMMARY:OP ml. přípravka (sk. A): Roudné - Ledenice A
DESCRIPTION:
URL:https://tjslavojledenice.cz/events/op-ml-pripravka-sk-a-roudne-ledenice-a/
END:VEVENT
BEGIN:VEVENT
DTSTART;TZID=Europe/Paris:20251023T170000
DTEND;TZID=Europe/Paris:20251023T180000
DTSTAMP:20260424T002139
CREATED:20250806T091205Z
LAST-MODIFIED:20250806T091205Z
UID:10119-1761238800-1761242400@tjslavojledenice.cz
SUMMARY:OP st. přípravka: Borovany - Ledenice
DESCRIPTION:
URL:https://tjslavojledenice.cz/events/op-st-pripravka-borovany-ledenice/
END:VEVENT
BEGIN:VEVENT
DTSTART;TZID=Europe/Paris:20251025T100000
DTEND;TZID=Europe/Paris:20251025T120000
DTSTAMP:20260424T002139
CREATED:20250806T090134Z
LAST-MODIFIED:20250806T090134Z
UID:10063-1761386400-1761393600@tjslavojledenice.cz
SUMMARY:OP dorost: Jankov/Lipí - Ledenice
DESCRIPTION:
URL:https://tjslavojledenice.cz/events/op-dorost-jankov-lipi-ledenice/
END:VEVENT
BEGIN:VEVENT
DTSTART;TZID=Europe/Paris:20251025T120000
DTEND;TZID=Europe/Paris:20251025T140000
DTSTAMP:20260424T002139
CREATED:20250806T085631Z
LAST-MODIFIED:20250806T085631Z
UID:10037-1761393600-1761400800@tjslavojledenice.cz
SUMMARY:7. liga muži: Boršov - Ledenice
DESCRIPTION:
URL:https://tjslavojledenice.cz/events/7-liga-muzi-borsov-ledenice/
END:VEVENT
BEGIN:VEVENT
DTSTART;TZID=Europe/Paris:20251028T140000
DTEND;TZID=Europe/Paris:20251028T160000
DTSTAMP:20260424T002139
CREATED:20250806T085906Z
LAST-MODIFIED:20250806T085906Z
UID:10056-1761660000-1761667200@tjslavojledenice.cz
SUMMARY:OP dorost: Ledenice - Nová Ves/Roudné
DESCRIPTION:
URL:https://tjslavojledenice.cz/events/op-dorost-ledenice-nova-ves-roudne/
END:VEVENT
BEGIN:VEVENT
DTSTART;TZID=Europe/Paris:20251030T160000
DTEND;TZID=Europe/Paris:20251030T180000
DTSTAMP:20260424T002139
CREATED:20250806T090819Z
LAST-MODIFIED:20251014T195622Z
UID:10101-1761840000-1761847200@tjslavojledenice.cz
SUMMARY:OP ml. žáci: Ledenice - T. Sviny
DESCRIPTION:
URL:https://tjslavojledenice.cz/events/op-ml-zaci-ledenice-t-sviny/
END:VEVENT
BEGIN:VEVENT
DTSTART;TZID=Europe/Paris:20251031T163000
DTEND;TZID=Europe/Paris:20251031T173000
DTSTAMP:20260424T002139
CREATED:20250806T091751Z
LAST-MODIFIED:20250922T134408Z
UID:10134-1761928200-1761931800@tjslavojledenice.cz
SUMMARY:OP ml. přípravka (sk. A): Loko Č. Budějovice - Ledenice A
DESCRIPTION:
URL:https://tjslavojledenice.cz/events/op-ml-pripravka-sk-a-loko-c-budejovice-ledenice-a/
END:VEVENT
BEGIN:VEVENT
DTSTART;TZID=Europe/Paris:20251031T170000
DTEND;TZID=Europe/Paris:20251031T180000
DTSTAMP:20260424T002139
CREATED:20250806T091229Z
LAST-MODIFIED:20250806T091229Z
UID:10120-1761930000-1761933600@tjslavojledenice.cz
SUMMARY:OP st. přípravka: Dubné/Lipí - Ledenice
DESCRIPTION:
URL:https://tjslavojledenice.cz/events/op-st-pripravka-dubne-lipi-ledenice/
END:VEVENT
BEGIN:VEVENT
DTSTART;TZID=Europe/Paris:20251101T100000
DTEND;TZID=Europe/Paris:20251101T120000
DTSTAMP:20260424T002139
CREATED:20250806T085937Z
LAST-MODIFIED:20250806T085937Z
UID:10057-1761991200-1761998400@tjslavojledenice.cz
SUMMARY:OP dorost: Ledenice - Nové Hrady
DESCRIPTION:
URL:https://tjslavojledenice.cz/events/op-dorost-ledenice-nove-hrady/
END:VEVENT
BEGIN:VEVENT
DTSTART;TZID=Europe/Paris:20251102T080000
DTEND;TZID=Europe/Paris:20251102T170000
DTSTAMP:20260424T002139
CREATED:20251027T063212Z
LAST-MODIFIED:20251027T063212Z
UID:10399-1762070400-1762102800@tjslavojledenice.cz
SUMMARY:Turnaj OFS (Planá)
DESCRIPTION:
URL:https://tjslavojledenice.cz/events/turnaj-ofs-plana/
END:VEVENT
BEGIN:VEVENT
DTSTART;TZID=Europe/Paris:20251102T140000
DTEND;TZID=Europe/Paris:20251102T160000
DTSTAMP:20260424T002139
CREATED:20250806T085232Z
LAST-MODIFIED:20250806T085232Z
UID:10031-1762092000-1762099200@tjslavojledenice.cz
SUMMARY:7. liga muži: Ledenice - Chvalšiny
DESCRIPTION:
URL:https://tjslavojledenice.cz/events/7-liga-muzi-ledenice-chvalsiny-2/
END:VEVENT
BEGIN:VEVENT
DTSTART;TZID=Europe/Paris:20251108T100000
DTEND;TZID=Europe/Paris:20251108T120000
DTSTAMP:20260424T002139
CREATED:20251102T072402Z
LAST-MODIFIED:20251102T072402Z
UID:10433-1762596000-1762603200@tjslavojledenice.cz
SUMMARY:Ledenický quattuor
DESCRIPTION:Miniturnaj čtyř týmů\, formát 7+1\, kategorie U11
URL:https://tjslavojledenice.cz/events/ledenicky-quattuor/
END:VEVENT
BEGIN:VEVENT
DTSTART;TZID=Europe/Paris:20251108T140000
DTEND;TZID=Europe/Paris:20251108T160000
DTSTAMP:20260424T002139
CREATED:20250806T085647Z
LAST-MODIFIED:20250806T085647Z
UID:10050-1762610400-1762617600@tjslavojledenice.cz
SUMMARY:7. liga muži: Roudné B - Ledenice
DESCRIPTION:
URL:https://tjslavojledenice.cz/events/7-liga-muzi-roudne-b-ledenice-2/
END:VEVENT
BEGIN:VEVENT
DTSTART;TZID=Europe/Paris:20251108T140000
DTEND;TZID=Europe/Paris:20251108T160000
DTSTAMP:20260424T002139
CREATED:20250806T090149Z
LAST-MODIFIED:20250806T090149Z
UID:10064-1762610400-1762617600@tjslavojledenice.cz
SUMMARY:OP dorost: Křemže - Ledenice
DESCRIPTION:
URL:https://tjslavojledenice.cz/events/op-dorost-kremze-ledenice-2/
END:VEVENT
BEGIN:VEVENT
DTSTART;TZID=Europe/Paris:20251113T160000
DTEND;TZID=Europe/Paris:20251113T173000
DTSTAMP:20260424T002139
CREATED:20250806T090754Z
LAST-MODIFIED:20251109T051726Z
UID:10100-1763049600-1763055000@tjslavojledenice.cz
SUMMARY:OP ml. žáci: Ledenice - Včelná
DESCRIPTION:
URL:https://tjslavojledenice.cz/events/op-ml-zaci-ledenice-vcelna/
END:VEVENT
BEGIN:VEVENT
DTSTART;VALUE=DATE:20251115
DTEND;VALUE=DATE:20251117
DTSTAMP:20260424T002139
CREATED:20250916T112525Z
LAST-MODIFIED:20251008T114811Z
UID:10327-1763164800-1763337599@tjslavojledenice.cz
SUMMARY:Techmania Plzeň + turnaj Treftofoto Cup U10 (Dýšina\, Plzeňský kraj)
DESCRIPTION:
URL:https://tjslavojledenice.cz/events/treftofoto-cup-u10-dysina-plzensky-kraj/
END:VEVENT
BEGIN:VEVENT
DTSTART;TZID=Europe/Paris:20251119T163000
DTEND;TZID=Europe/Paris:20251119T180000
DTSTAMP:20260424T002139
CREATED:20251109T051310Z
LAST-MODIFIED:20251118T144604Z
UID:10447-1763569800-1763575200@tjslavojledenice.cz
SUMMARY:Příprava U11: Lišov - Ledenice (systém 7+1) - ZRUŠENO
DESCRIPTION:
URL:https://tjslavojledenice.cz/events/priprava-u11-lisov-ledenice/
LOCATION:UMT Lišov
END:VEVENT
BEGIN:VEVENT
DTSTART;TZID=Europe/Paris:20251122T080000
DTEND;TZID=Europe/Paris:20251122T170000
DTSTAMP:20260424T002139
CREATED:20250916T112107Z
LAST-MODIFIED:20250916T112107Z
UID:10312-1763798400-1763830800@tjslavojledenice.cz
SUMMARY:Jihočeská zimní halová liga U11 - 1. kolo
DESCRIPTION:
URL:https://tjslavojledenice.cz/events/jihoceska-zimni-halova-liga-u11-1-kolo/
LOCATION:SH Třeboň
END:VEVENT
BEGIN:VEVENT
DTSTART;TZID=Europe/Paris:20251122T080000
DTEND;TZID=Europe/Paris:20251122T170000
DTSTAMP:20260424T002139
CREATED:20251027T063223Z
LAST-MODIFIED:20251027T063223Z
UID:10400-1763798400-1763830800@tjslavojledenice.cz
SUMMARY:Turnaj OFS
DESCRIPTION:
URL:https://tjslavojledenice.cz/events/turnaj-ofs/
END:VEVENT
BEGIN:VEVENT
DTSTART;TZID=Europe/Paris:20251206T080000
DTEND;TZID=Europe/Paris:20251206T170000
DTSTAMP:20260424T002139
CREATED:20251027T063229Z
LAST-MODIFIED:20251027T063229Z
UID:10401-1765008000-1765040400@tjslavojledenice.cz
SUMMARY:Turnaj OFS
DESCRIPTION:
URL:https://tjslavojledenice.cz/events/turnaj-ofs-2/
END:VEVENT
BEGIN:VEVENT
DTSTART;TZID=Europe/Paris:20251213T080000
DTEND;TZID=Europe/Paris:20251213T170000
DTSTAMP:20260424T002139
CREATED:20250916T112157Z
LAST-MODIFIED:20250916T112225Z
UID:10313-1765612800-1765645200@tjslavojledenice.cz
SUMMARY:Jihočeská zimní halová liga U11 - 2. kolo
DESCRIPTION:
URL:https://tjslavojledenice.cz/events/jihoceska-zimni-halova-liga-u11-2-kolo/
LOCATION:SH Třeboň
END:VEVENT
BEGIN:VEVENT
DTSTART;TZID=Europe/Paris:20251224T100000
DTEND;TZID=Europe/Paris:20251224T113000
DTSTAMP:20260424T002139
CREATED:20251222T193418Z
LAST-MODIFIED:20251222T193418Z
UID:10509-1766570400-1766575800@tjslavojledenice.cz
SUMMARY:Vánoční fotbálek
DESCRIPTION:
URL:https://tjslavojledenice.cz/events/vanocni-fotbalek/
END:VEVENT
BEGIN:VEVENT
DTSTART;TZID=Europe/Paris:20251228T160000
DTEND;TZID=Europe/Paris:20251228T200000
DTSTAMP:20260424T002139
CREATED:20251222T193500Z
LAST-MODIFIED:20251222T193500Z
UID:10511-1766937600-1766952000@tjslavojledenice.cz
SUMMARY:Vánoční joudovský turnaj
DESCRIPTION:
URL:https://tjslavojledenice.cz/events/vanocni-joudovsky-turnaj/
END:VEVENT
BEGIN:VEVENT
DTSTART;TZID=Europe/Paris:20251231T100000
DTEND;TZID=Europe/Paris:20251231T113000
DTSTAMP:20260424T002139
CREATED:20251222T193431Z
LAST-MODIFIED:20251222T193518Z
UID:10510-1767175200-1767180600@tjslavojledenice.cz
SUMMARY:Silvestrovský fotbálek
DESCRIPTION:
URL:https://tjslavojledenice.cz/events/silvestrovsky-fotbalek/
END:VEVENT
BEGIN:VEVENT
DTSTART;TZID=Europe/Paris:20260110T080000
DTEND;TZID=Europe/Paris:20260110T170000
DTSTAMP:20260424T002139
CREATED:20250916T112245Z
LAST-MODIFIED:20250916T112245Z
UID:10320-1768032000-1768064400@tjslavojledenice.cz
SUMMARY:Jihočeská zimní halová liga U11 - 3. kolo
DESCRIPTION:
URL:https://tjslavojledenice.cz/events/jihoceska-zimni-halova-liga-u11-3-kolo/
LOCATION:SH Třeboň
END:VEVENT
BEGIN:VEVENT
DTSTART;TZID=Europe/Paris:20260118T130000
DTEND;TZID=Europe/Paris:20260118T180000
DTSTAMP:20260424T002139
CREATED:20260105T161433Z
LAST-MODIFIED:20260105T161433Z
UID:10536-1768741200-1768759200@tjslavojledenice.cz
SUMMARY:OP st. žáci: Halový trunaj\, Dobrá Voda u ČB
DESCRIPTION:
URL:https://tjslavojledenice.cz/events/op-st-zaci-halovy-trunaj-dobra-voda-u-cb/
END:VEVENT
BEGIN:VEVENT
DTSTART;TZID=Europe/Paris:20260125T123000
DTEND;TZID=Europe/Paris:20260125T140000
DTSTAMP:20260424T002139
CREATED:20260105T162542Z
LAST-MODIFIED:20260105T162542Z
UID:10538-1769344200-1769349600@tjslavojledenice.cz
SUMMARY:Příprava U15: Ledenice - Lokomotiva ČB (UMT Borovany)
DESCRIPTION:
URL:https://tjslavojledenice.cz/events/priprava-u15-ledenice-lokomotiva-cb-umt-borovany/
END:VEVENT
BEGIN:VEVENT
DTSTART;TZID=Europe/Paris:20260131T130000
DTEND;TZID=Europe/Paris:20260131T170000
DTSTAMP:20260424T002139
CREATED:20250916T112634Z
LAST-MODIFIED:20250916T112634Z
UID:10329-1769864400-1769878800@tjslavojledenice.cz
SUMMARY:Turnaj HAMR Braník U10 (Praha)
DESCRIPTION:
URL:https://tjslavojledenice.cz/events/turnaj-hamr-branik-u10-praha/
END:VEVENT
END:VCALENDAR