BEGIN:VCALENDAR
VERSION:2.0
PRODID:-//TJ Slavoj Ledenice - ECPv6.15.18//NONSGML v1.0//EN
CALSCALE:GREGORIAN
METHOD:PUBLISH
X-WR-CALNAME:TJ Slavoj Ledenice
X-ORIGINAL-URL:https://tjslavojledenice.cz
X-WR-CALDESC:Akce na TJ Slavoj Ledenice
REFRESH-INTERVAL;VALUE=DURATION:PT1H
X-Robots-Tag:noindex
X-PUBLISHED-TTL:PT1H
BEGIN:VTIMEZONE
TZID:Europe/Paris
BEGIN:DAYLIGHT
TZOFFSETFROM:+0100
TZOFFSETTO:+0200
TZNAME:CEST
DTSTART:20220327T010000
END:DAYLIGHT
BEGIN:STANDARD
TZOFFSETFROM:+0200
TZOFFSETTO:+0100
TZNAME:CET
DTSTART:20221030T010000
END:STANDARD
BEGIN:DAYLIGHT
TZOFFSETFROM:+0100
TZOFFSETTO:+0200
TZNAME:CEST
DTSTART:20230326T010000
END:DAYLIGHT
BEGIN:STANDARD
TZOFFSETFROM:+0200
TZOFFSETTO:+0100
TZNAME:CET
DTSTART:20231029T010000
END:STANDARD
BEGIN:DAYLIGHT
TZOFFSETFROM:+0100
TZOFFSETTO:+0200
TZNAME:CEST
DTSTART:20240331T010000
END:DAYLIGHT
BEGIN:STANDARD
TZOFFSETFROM:+0200
TZOFFSETTO:+0100
TZNAME:CET
DTSTART:20241027T010000
END:STANDARD
BEGIN:DAYLIGHT
TZOFFSETFROM:+0100
TZOFFSETTO:+0200
TZNAME:CEST
DTSTART:20250330T010000
END:DAYLIGHT
BEGIN:STANDARD
TZOFFSETFROM:+0200
TZOFFSETTO:+0100
TZNAME:CET
DTSTART:20251026T010000
END:STANDARD
END:VTIMEZONE
BEGIN:VEVENT
DTSTART;TZID=Europe/Paris:20240324T150000
DTEND;TZID=Europe/Paris:20240324T170000
DTSTAMP:20260424T191956
CREATED:20240222T090620Z
LAST-MODIFIED:20240222T090620Z
UID:7716-1711292400-1711299600@tjslavojledenice.cz
SUMMARY:I. B muži: Ledenice - Hluboká B
DESCRIPTION:
URL:https://tjslavojledenice.cz/events/i-b-muzi-ledenice-hluboka-b/
END:VEVENT
BEGIN:VEVENT
DTSTART;TZID=Europe/Paris:20240324T100000
DTEND;TZID=Europe/Paris:20240324T150000
DTSTAMP:20260424T191956
CREATED:20240123T195241Z
LAST-MODIFIED:20240215T135241Z
UID:7614-1711274400-1711292400@tjslavojledenice.cz
SUMMARY:Turnaj ml. přípravka v Borovanech
DESCRIPTION:Účast: Ledenice\, Borovany\, Meteor Tábor\, Dobrá Voda\, Nová Ves
URL:https://tjslavojledenice.cz/events/priprava-ml-pripravka-ledenice-meteor-tabor/
END:VEVENT
BEGIN:VEVENT
DTSTART;TZID=Europe/Paris:20240324T080000
DTEND;TZID=Europe/Paris:20240324T160000
DTSTAMP:20260424T191956
CREATED:20240222T093312Z
LAST-MODIFIED:20240222T093312Z
UID:7826-1711267200-1711296000@tjslavojledenice.cz
SUMMARY:Volejbalový turnaj mládeže - Loko České Budějovice
DESCRIPTION:
URL:https://tjslavojledenice.cz/events/volejbalovy-turnaj-mladeze-loko-ceske-budejovice/
END:VEVENT
BEGIN:VEVENT
DTSTART;TZID=Europe/Paris:20240323T150000
DTEND;TZID=Europe/Paris:20240323T170000
DTSTAMP:20260424T191956
CREATED:20240222T092737Z
LAST-MODIFIED:20240222T092737Z
UID:7809-1711206000-1711213200@tjslavojledenice.cz
SUMMARY:Pohár OFS žáci\, semifinále: Dynamo Č. Budějovice holky - Ledenice
DESCRIPTION:
URL:https://tjslavojledenice.cz/events/pohar-ofs-zaci-semifinale-dynamo-c-budejovice-holky-ledenice/
END:VEVENT
BEGIN:VEVENT
DTSTART;VALUE=DATE:20240322
DTEND;VALUE=DATE:20240325
DTSTAMP:20260424T191956
CREATED:20240110T052147Z
LAST-MODIFIED:20240110T052147Z
UID:7590-1711065600-1711324799@tjslavojledenice.cz
SUMMARY:Soustředění mladší přípravka
DESCRIPTION:
URL:https://tjslavojledenice.cz/events/soustredeni-mladsi-pripravka/
END:VEVENT
BEGIN:VEVENT
DTSTART;TZID=Europe/Paris:20240320T170000
DTEND;TZID=Europe/Paris:20240320T180000
DTSTAMP:20260424T191956
CREATED:20240313T161826Z
LAST-MODIFIED:20240313T161826Z
UID:7900-1710954000-1710957600@tjslavojledenice.cz
SUMMARY:Příprava: TJ Slavoj Ledenice U7 - TJ Jiskra Třeboň U7
DESCRIPTION:
URL:https://tjslavojledenice.cz/events/priprava-tj-slavoj-ledenice-u7-tj-jiskra-trebon-u7/
END:VEVENT
BEGIN:VEVENT
DTSTART;TZID=Europe/Paris:20240320T170000
DTEND;TZID=Europe/Paris:20240320T180000
DTSTAMP:20260424T191956
CREATED:20240313T161758Z
LAST-MODIFIED:20240313T161758Z
UID:7898-1710954000-1710957600@tjslavojledenice.cz
SUMMARY:Příprava: TJ Slavoj Ledenice U9 - TJ Jiskra Třeboň U8
DESCRIPTION:
URL:https://tjslavojledenice.cz/events/priprava-tj-slavoj-ledenice-u9-tj-jiskra-trebon-u8/
END:VEVENT
BEGIN:VEVENT
DTSTART;TZID=Europe/Paris:20240309T160000
DTEND;TZID=Europe/Paris:20240309T180000
DTSTAMP:20260424T191956
CREATED:20240110T051912Z
LAST-MODIFIED:20240216T195236Z
UID:7588-1710000000-1710007200@tjslavojledenice.cz
SUMMARY:Příprava muži: Ledenice - Neplachov (UMT Lišov)
DESCRIPTION:
URL:https://tjslavojledenice.cz/events/priprava-muzi-souper-a-cas-v-jednani-umt-lisov/
END:VEVENT
BEGIN:VEVENT
DTSTART;TZID=Europe/Paris:20240308T194500
DTEND;TZID=Europe/Paris:20240308T214500
DTSTAMP:20260424T191956
CREATED:20240222T093826Z
LAST-MODIFIED:20240222T093826Z
UID:7830-1709927100-1709934300@tjslavojledenice.cz
SUMMARY:Příprava dorost: Ledenice - Borek (UMT Lišov)
DESCRIPTION:
URL:https://tjslavojledenice.cz/events/priprava-dorost-ledenice-borek-umt-lisov/
END:VEVENT
BEGIN:VEVENT
DTSTART;TZID=Europe/Paris:20240303T140000
DTEND;TZID=Europe/Paris:20240303T170000
DTSTAMP:20260424T191956
CREATED:20240222T090503Z
LAST-MODIFIED:20240222T090503Z
UID:7714-1709474400-1709485200@tjslavojledenice.cz
SUMMARY:Příprava ml. žáci: Borovany\, Lipí (Borovany)
DESCRIPTION:
URL:https://tjslavojledenice.cz/events/priprava-ml-zaci-borovany-lipi-borovany/
END:VEVENT
BEGIN:VEVENT
DTSTART;TZID=Europe/Paris:20240302T080000
DTEND;TZID=Europe/Paris:20240302T170000
DTSTAMP:20260424T191956
CREATED:20240124T132544Z
LAST-MODIFIED:20240124T132544Z
UID:7641-1709366400-1709398800@tjslavojledenice.cz
SUMMARY:Turnaj ml. přípravka: Ledenice
DESCRIPTION:
URL:https://tjslavojledenice.cz/events/turnaj-ml-pripravka-ledenice/
END:VEVENT
BEGIN:VEVENT
DTSTART;TZID=Europe/Paris:20240225T170000
DTEND;TZID=Europe/Paris:20240225T190000
DTSTAMP:20260424T191956
CREATED:20240110T051830Z
LAST-MODIFIED:20240110T051830Z
UID:7586-1708880400-1708887600@tjslavojledenice.cz
SUMMARY:Příprava muži: Třeboň B - Ledenice
DESCRIPTION:
URL:https://tjslavojledenice.cz/events/priprava-muzi-trebon-b-ledenice/
END:VEVENT
BEGIN:VEVENT
DTSTART;TZID=Europe/Paris:20240225T150000
DTEND;TZID=Europe/Paris:20240225T180000
DTSTAMP:20260424T191956
CREATED:20240219T192541Z
LAST-MODIFIED:20240219T194341Z
UID:7706-1708873200-1708884000@tjslavojledenice.cz
SUMMARY:Turnaj ml. přípravka: hala Hrdějovice
DESCRIPTION:Týmy: Dobrá Voda\, Hrdějovice\, Roudné\, Ledenice
URL:https://tjslavojledenice.cz/events/turnaj-ml-pripravka-hala-hrdejovice/
END:VEVENT
BEGIN:VEVENT
DTSTART;TZID=Europe/Paris:20240217T080000
DTEND;TZID=Europe/Paris:20240217T170000
DTSTAMP:20260424T191956
CREATED:20240124T132531Z
LAST-MODIFIED:20240216T195317Z
UID:7640-1708156800-1708189200@tjslavojledenice.cz
SUMMARY:Turnaj ml. přípravka: Hala Lišov
DESCRIPTION:
URL:https://tjslavojledenice.cz/events/turnaj-ml-pripravka-lokalita-bude-upresnena/
END:VEVENT
BEGIN:VEVENT
DTSTART;TZID=Europe/Paris:20240211T110000
DTEND;TZID=Europe/Paris:20240211T120000
DTSTAMP:20260424T191956
CREATED:20240208T204108Z
LAST-MODIFIED:20240208T204108Z
UID:7689-1707649200-1707652800@tjslavojledenice.cz
SUMMARY:Příprava ml. žáci: Borovany - Ledenice
DESCRIPTION:
URL:https://tjslavojledenice.cz/events/priprava-ml-zaci-borovany-ledenice-4/
END:VEVENT
BEGIN:VEVENT
DTSTART;TZID=Europe/Paris:20240210T100000
DTEND;TZID=Europe/Paris:20240210T120000
DTSTAMP:20260424T191956
CREATED:20240110T051753Z
LAST-MODIFIED:20240110T051753Z
UID:7584-1707559200-1707566400@tjslavojledenice.cz
SUMMARY:Příprava muži: Borek - Ledenice (Lišov)
DESCRIPTION:
URL:https://tjslavojledenice.cz/events/priprava-muzi-borek-ledenice-lisov/
END:VEVENT
BEGIN:VEVENT
DTSTART;TZID=Europe/Paris:20240128T080000
DTEND;TZID=Europe/Paris:20240128T170000
DTSTAMP:20260424T191956
CREATED:20240124T204927Z
LAST-MODIFIED:20240124T204927Z
UID:7654-1706428800-1706461200@tjslavojledenice.cz
SUMMARY:Volejbalový turnaj mládeže - Loko Č. Budějovice
DESCRIPTION:
URL:https://tjslavojledenice.cz/events/volejbalovy-turnaj-mladeze-loko-c-budejovice/
END:VEVENT
BEGIN:VEVENT
DTSTART;TZID=Europe/Paris:20240120T190000
DTEND;TZID=Europe/Paris:20240120T235900
DTSTAMP:20260424T191956
CREATED:20230227T101459Z
LAST-MODIFIED:20230227T101459Z
UID:6391-1705777200-1705795140@tjslavojledenice.cz
SUMMARY:Sportovní ples
DESCRIPTION:
URL:https://tjslavojledenice.cz/events/sportovni-ples/
LOCATION:Ledenice\, Sokolská 639\, Ledenice\, 373 11\, Česká republika
END:VEVENT
BEGIN:VEVENT
DTSTART;TZID=Europe/Paris:20231209T080000
DTEND;TZID=Europe/Paris:20231209T120000
DTSTAMP:20260424T191956
CREATED:20231031T142841Z
LAST-MODIFIED:20231031T142841Z
UID:7427-1702108800-1702123200@tjslavojledenice.cz
SUMMARY:Turnaj předpřípravka Ledenice
DESCRIPTION:
URL:https://tjslavojledenice.cz/events/turnaj-predpripravka-ledenice/
END:VEVENT
BEGIN:VEVENT
DTSTART;TZID=Europe/Paris:20231125T080000
DTEND;TZID=Europe/Paris:20231125T120000
DTSTAMP:20260424T191956
CREATED:20231031T142759Z
LAST-MODIFIED:20231031T142759Z
UID:7425-1700899200-1700913600@tjslavojledenice.cz
SUMMARY:Turnaj předpřípravka Mokré
DESCRIPTION:
URL:https://tjslavojledenice.cz/events/turnaj-predpripravka-mokre/
END:VEVENT
BEGIN:VEVENT
DTSTART;TZID=Europe/Paris:20231115T170000
DTEND;TZID=Europe/Paris:20231115T180000
DTSTAMP:20260424T191956
CREATED:20230906T074656Z
LAST-MODIFIED:20230906T074656Z
UID:7108-1700067600-1700071200@tjslavojledenice.cz
SUMMARY:Volejbal (KP - ženy): Hluboká n. Vltavou B - Ledenice
DESCRIPTION:
URL:https://tjslavojledenice.cz/events/volejbal-kp-zeny-hluboka-n-vltavou-b-ledenice/
END:VEVENT
BEGIN:VEVENT
DTSTART;TZID=Europe/Paris:20231111T140000
DTEND;TZID=Europe/Paris:20231111T170000
DTSTAMP:20260424T191956
CREATED:20230823T110744Z
LAST-MODIFIED:20230823T110744Z
UID:6950-1699711200-1699722000@tjslavojledenice.cz
SUMMARY:I. B muži: Chvalšiny - Ledenice
DESCRIPTION:
URL:https://tjslavojledenice.cz/events/i-b-muzi-chvalsiny-ledenice-2/
END:VEVENT
BEGIN:VEVENT
DTSTART;VALUE=DATE:20231110
DTEND;VALUE=DATE:20231113
DTSTAMP:20260424T191956
CREATED:20231030T115202Z
LAST-MODIFIED:20231030T115202Z
UID:7415-1699574400-1699833599@tjslavojledenice.cz
SUMMARY:Podzimní soustředění ml. přípravka
DESCRIPTION:
URL:https://tjslavojledenice.cz/events/podzimni-soustredeni-ml-pripravka/
END:VEVENT
BEGIN:VEVENT
DTSTART;TZID=Europe/Paris:20231108T193000
DTEND;TZID=Europe/Paris:20231108T203000
DTSTAMP:20260424T191956
CREATED:20230906T074448Z
LAST-MODIFIED:20230906T074448Z
UID:7098-1699471800-1699475400@tjslavojledenice.cz
SUMMARY:Volejbal (KP - ženy): Ledenice - Č. Krumlov
DESCRIPTION:
URL:https://tjslavojledenice.cz/events/volejbal-kp-zeny-ledenice-c-krumlov/
END:VEVENT
BEGIN:VEVENT
DTSTART;TZID=Europe/Paris:20231105T150000
DTEND;TZID=Europe/Paris:20231105T170000
DTSTAMP:20260424T191956
CREATED:20230823T110723Z
LAST-MODIFIED:20230823T110723Z
UID:6948-1699196400-1699203600@tjslavojledenice.cz
SUMMARY:I. B muži: Ledenice - Mladé
DESCRIPTION:
URL:https://tjslavojledenice.cz/events/i-b-muzi-ledenice-mlade-2/
END:VEVENT
BEGIN:VEVENT
DTSTART;TZID=Europe/Paris:20231104T101500
DTEND;TZID=Europe/Paris:20231104T120000
DTSTAMP:20260424T191956
CREATED:20230823T111201Z
LAST-MODIFIED:20230823T111201Z
UID:6970-1699092900-1699099200@tjslavojledenice.cz
SUMMARY:OP starší žáci: Ledenice - K- Újezd
DESCRIPTION:
URL:https://tjslavojledenice.cz/events/op-starsi-zaci-ledenice-k-ujezd-2/
END:VEVENT
BEGIN:VEVENT
DTSTART;TZID=Europe/Paris:20231104T080000
DTEND;TZID=Europe/Paris:20231104T120000
DTSTAMP:20260424T191956
CREATED:20231031T142558Z
LAST-MODIFIED:20231031T142558Z
UID:7421-1699084800-1699099200@tjslavojledenice.cz
SUMMARY:Turnaj předpřípravka Hluboká nad Vltavou
DESCRIPTION:
URL:https://tjslavojledenice.cz/events/turnaj-predpripravka-hluboka-nad-vltavou/
END:VEVENT
BEGIN:VEVENT
DTSTART;TZID=Europe/Paris:20231103T153000
DTEND;TZID=Europe/Paris:20231103T170000
DTSTAMP:20260424T191956
CREATED:20230823T112403Z
LAST-MODIFIED:20230823T112403Z
UID:7031-1699025400-1699030800@tjslavojledenice.cz
SUMMARY:OP ml. žáci: Ledenice - N. Hodějovice
DESCRIPTION:
URL:https://tjslavojledenice.cz/events/op-ml-zaci-ledenice-n-hodejovice/
END:VEVENT
BEGIN:VEVENT
DTSTART;TZID=Europe/Paris:20231031T173000
DTEND;TZID=Europe/Paris:20231031T183000
DTSTAMP:20260424T191956
CREATED:20230823T105229Z
LAST-MODIFIED:20230823T105229Z
UID:6924-1698773400-1698777000@tjslavojledenice.cz
SUMMARY:OP ml. přípravka: Dynamo - Ledenice
DESCRIPTION:
URL:https://tjslavojledenice.cz/events/op-ml-pripravka-dynamo-ledenice/
END:VEVENT
BEGIN:VEVENT
DTSTART;TZID=Europe/Paris:20231031T160000
DTEND;TZID=Europe/Paris:20231031T170000
DTSTAMP:20260424T191956
CREATED:20230823T111603Z
LAST-MODIFIED:20230823T111603Z
UID:6989-1698768000-1698771600@tjslavojledenice.cz
SUMMARY:OS ml. žáci: Ledenice - Slavia B
DESCRIPTION:
URL:https://tjslavojledenice.cz/events/os-ml-zaci-ledenice-slavia-b/
END:VEVENT
END:VCALENDAR