BEGIN:VCALENDAR
VERSION:2.0
PRODID:-//TJ Slavoj Ledenice - ECPv6.15.20//NONSGML v1.0//EN
CALSCALE:GREGORIAN
METHOD:PUBLISH
X-WR-CALNAME:TJ Slavoj Ledenice
X-ORIGINAL-URL:https://tjslavojledenice.cz
X-WR-CALDESC:Akce na TJ Slavoj Ledenice
REFRESH-INTERVAL;VALUE=DURATION:PT1H
X-Robots-Tag:noindex
X-PUBLISHED-TTL:PT1H
BEGIN:VTIMEZONE
TZID:Europe/Paris
BEGIN:DAYLIGHT
TZOFFSETFROM:+0100
TZOFFSETTO:+0200
TZNAME:CEST
DTSTART:20220327T010000
END:DAYLIGHT
BEGIN:STANDARD
TZOFFSETFROM:+0200
TZOFFSETTO:+0100
TZNAME:CET
DTSTART:20221030T010000
END:STANDARD
BEGIN:DAYLIGHT
TZOFFSETFROM:+0100
TZOFFSETTO:+0200
TZNAME:CEST
DTSTART:20230326T010000
END:DAYLIGHT
BEGIN:STANDARD
TZOFFSETFROM:+0200
TZOFFSETTO:+0100
TZNAME:CET
DTSTART:20231029T010000
END:STANDARD
BEGIN:DAYLIGHT
TZOFFSETFROM:+0100
TZOFFSETTO:+0200
TZNAME:CEST
DTSTART:20240331T010000
END:DAYLIGHT
BEGIN:STANDARD
TZOFFSETFROM:+0200
TZOFFSETTO:+0100
TZNAME:CET
DTSTART:20241027T010000
END:STANDARD
END:VTIMEZONE
BEGIN:VEVENT
DTSTART;TZID=Europe/Paris:20231015T090000
DTEND;TZID=Europe/Paris:20231015T120000
DTSTAMP:20260425T013904
CREATED:20231003T131125Z
LAST-MODIFIED:20231003T131125Z
UID:7212-1697360400-1697371200@tjslavojledenice.cz
SUMMARY:Trénink pro fotbalistky pod OFS
DESCRIPTION:
URL:https://tjslavojledenice.cz/events/trenink-pro-fotbalistky-pod-ofs/
LOCATION:Ledenice\, Sokolská 639\, Ledenice\, 373 11\, Česká republika
END:VEVENT
BEGIN:VEVENT
DTSTART;TZID=Europe/Paris:20231014T080000
DTEND;TZID=Europe/Paris:20231014T120000
DTSTAMP:20260425T013904
CREATED:20231031T142659Z
LAST-MODIFIED:20231031T142659Z
UID:7423-1697270400-1697284800@tjslavojledenice.cz
SUMMARY:Turnaj předpřípravka Nové Hodějovice
DESCRIPTION:
URL:https://tjslavojledenice.cz/events/turnaj-predpripravka-nove-hodejovice/
END:VEVENT
BEGIN:VEVENT
DTSTART;TZID=Europe/Paris:20231013T163000
DTEND;TZID=Europe/Paris:20231013T173000
DTSTAMP:20260425T013904
CREATED:20230823T111504Z
LAST-MODIFIED:20230823T111504Z
UID:6983-1697214600-1697218200@tjslavojledenice.cz
SUMMARY:OS ml. žáci: H. Stropnice - Ledenice
DESCRIPTION:
URL:https://tjslavojledenice.cz/events/os-ml-zaci-h-stropnice-ledenice-2/
END:VEVENT
BEGIN:VEVENT
DTSTART;TZID=Europe/Paris:20231013T163000
DTEND;TZID=Europe/Paris:20231013T173000
DTSTAMP:20260425T013904
CREATED:20230823T105035Z
LAST-MODIFIED:20230823T105035Z
UID:6918-1697214600-1697218200@tjslavojledenice.cz
SUMMARY:OP ml. přípravka: T. Sviny - Ledenice
DESCRIPTION:
URL:https://tjslavojledenice.cz/events/op-ml-pripravka-t-sviny-ledenice-2/
END:VEVENT
BEGIN:VEVENT
DTSTART;TZID=Europe/Paris:20231013T160000
DTEND;TZID=Europe/Paris:20231013T170000
DTSTAMP:20260425T013904
CREATED:20230823T112257Z
LAST-MODIFIED:20230823T112257Z
UID:7024-1697212800-1697216400@tjslavojledenice.cz
SUMMARY:OP ml. žáci: Ledenice - Křemže
DESCRIPTION:
URL:https://tjslavojledenice.cz/events/op-ml-zaci-ledenice-kremze/
END:VEVENT
BEGIN:VEVENT
DTSTART;TZID=Europe/Paris:20231012T170000
DTEND;TZID=Europe/Paris:20231012T180000
DTSTAMP:20260425T013904
CREATED:20230823T112730Z
LAST-MODIFIED:20230823T112730Z
UID:7043-1697130000-1697133600@tjslavojledenice.cz
SUMMARY:Volejbal (KP II - muži): Meteor ČB - Ledenice
DESCRIPTION:
URL:https://tjslavojledenice.cz/events/volejbal-kp-ii-muzi-meteor-cb-ledenice/
END:VEVENT
BEGIN:VEVENT
DTSTART;TZID=Europe/Paris:20231012T160000
DTEND;TZID=Europe/Paris:20231012T170000
DTSTAMP:20260425T013904
CREATED:20230823T111052Z
LAST-MODIFIED:20230823T111052Z
UID:6964-1697126400-1697130000@tjslavojledenice.cz
SUMMARY:OP starší žáci: Borovany - Ledenice
DESCRIPTION:
URL:https://tjslavojledenice.cz/events/op-starsi-zaci-borovany-ledenice/
END:VEVENT
BEGIN:VEVENT
DTSTART;TZID=Europe/Paris:20231011T193000
DTEND;TZID=Europe/Paris:20231011T203000
DTSTAMP:20260425T013904
CREATED:20230906T074356Z
LAST-MODIFIED:20230906T074356Z
UID:7094-1697052600-1697056200@tjslavojledenice.cz
SUMMARY:Volejbal (KP - ženy): Ledenice - SK Špaček
DESCRIPTION:
URL:https://tjslavojledenice.cz/events/volejbal-kp-zeny-ledenice-sk-spacek/
END:VEVENT
BEGIN:VEVENT
DTSTART;TZID=Europe/Paris:20231009T170000
DTEND;TZID=Europe/Paris:20231009T180000
DTSTAMP:20260425T013904
CREATED:20230906T074019Z
LAST-MODIFIED:20230906T074019Z
UID:7082-1696870800-1696874400@tjslavojledenice.cz
SUMMARY:Volejbal (OP - ženy): Ledenice - Trhové Sviny B
DESCRIPTION:
URL:https://tjslavojledenice.cz/events/volejbal-op-zeny-ledenice-trhove-sviny-b/
END:VEVENT
BEGIN:VEVENT
DTSTART;TZID=Europe/Paris:20231008T150000
DTEND;TZID=Europe/Paris:20231008T170000
DTSTAMP:20260425T013904
CREATED:20230823T110602Z
LAST-MODIFIED:20230823T110602Z
UID:6940-1696777200-1696784400@tjslavojledenice.cz
SUMMARY:I. B muži: Ledenice - T. Sviny B
DESCRIPTION:
URL:https://tjslavojledenice.cz/events/i-b-muzi-ledenice-t-sviny-b-2/
END:VEVENT
BEGIN:VEVENT
DTSTART;TZID=Europe/Paris:20231007T101500
DTEND;TZID=Europe/Paris:20231007T120000
DTSTAMP:20260425T013904
CREATED:20230823T111851Z
LAST-MODIFIED:20230823T111851Z
UID:7001-1696673700-1696680000@tjslavojledenice.cz
SUMMARY:OP dorost: Ledenice - N. Hodějovice
DESCRIPTION:
URL:https://tjslavojledenice.cz/events/op-dorost-ledenice-n-hodejovice-2/
END:VEVENT
BEGIN:VEVENT
DTSTART;TZID=Europe/Paris:20231006T160000
DTEND;TZID=Europe/Paris:20231006T170000
DTSTAMP:20260425T013904
CREATED:20230823T112240Z
LAST-MODIFIED:20230823T112240Z
UID:7022-1696608000-1696611600@tjslavojledenice.cz
SUMMARY:OP ml. žáci: N. Hrady - Ledenice
DESCRIPTION:
URL:https://tjslavojledenice.cz/events/op-ml-zaci-n-hrady-ledenice/
END:VEVENT
BEGIN:VEVENT
DTSTART;TZID=Europe/Paris:20231006T160000
DTEND;TZID=Europe/Paris:20231006T170000
DTSTAMP:20260425T013904
CREATED:20230823T104958Z
LAST-MODIFIED:20230823T104958Z
UID:6916-1696608000-1696611600@tjslavojledenice.cz
SUMMARY:OP ml. přípravka: Ledenice - Slavia Č. Budějovice
DESCRIPTION:
URL:https://tjslavojledenice.cz/events/op-ml-pripravka-ledenice-slavia-c-budejovice/
END:VEVENT
BEGIN:VEVENT
DTSTART;TZID=Europe/Paris:20231005T170000
DTEND;TZID=Europe/Paris:20231005T180000
DTSTAMP:20260425T013904
CREATED:20230823T112711Z
LAST-MODIFIED:20230823T112711Z
UID:7041-1696525200-1696528800@tjslavojledenice.cz
SUMMARY:Volejbal (KP II - muži): Ledenice - Hluboká
DESCRIPTION:
URL:https://tjslavojledenice.cz/events/volejbal-kp-ii-muzi-ledenice-hluboka/
END:VEVENT
BEGIN:VEVENT
DTSTART;TZID=Europe/Paris:20231004T183000
DTEND;TZID=Europe/Paris:20231004T193000
DTSTAMP:20260425T013904
CREATED:20230906T074548Z
LAST-MODIFIED:20230908T105850Z
UID:7102-1696444200-1696447800@tjslavojledenice.cz
SUMMARY:Volejbal (KP - ženy): Prachatice - Ledenice
DESCRIPTION:
URL:https://tjslavojledenice.cz/events/volejbal-kp-zeny-prachatice-ledenice/
END:VEVENT
BEGIN:VEVENT
DTSTART;TZID=Europe/Paris:20231003T170000
DTEND;TZID=Europe/Paris:20231003T180000
DTSTAMP:20260425T013904
CREATED:20230906T074207Z
LAST-MODIFIED:20230906T074207Z
UID:7090-1696352400-1696356000@tjslavojledenice.cz
SUMMARY:Volejbal (OP - ženy): SKP Č. Budějovice - Ledenice
DESCRIPTION:
URL:https://tjslavojledenice.cz/events/volejbal-op-zeny-skp-c-budejovice-ledenice/
END:VEVENT
BEGIN:VEVENT
DTSTART;TZID=Europe/Paris:20231003T163000
DTEND;TZID=Europe/Paris:20231003T180000
DTSTAMP:20260425T013904
CREATED:20230823T111433Z
LAST-MODIFIED:20230823T111441Z
UID:6980-1696350600-1696356000@tjslavojledenice.cz
SUMMARY:OS ml. žáci: Ledenice - Borovany
DESCRIPTION:
URL:https://tjslavojledenice.cz/events/os-ml-zaci-ledenice-borovany-2/
END:VEVENT
BEGIN:VEVENT
DTSTART;TZID=Europe/Paris:20231002T170000
DTEND;TZID=Europe/Paris:20231002T190000
DTSTAMP:20260425T013904
CREATED:20230823T111034Z
LAST-MODIFIED:20230823T111034Z
UID:6962-1696266000-1696273200@tjslavojledenice.cz
SUMMARY:OP starší žáci: Ledenice - Srubec
DESCRIPTION:
URL:https://tjslavojledenice.cz/events/op-starsi-zaci-ledenice-srubec/
END:VEVENT
BEGIN:VEVENT
DTSTART;TZID=Europe/Paris:20231001T170000
DTEND;TZID=Europe/Paris:20231001T190000
DTSTAMP:20260425T013904
CREATED:20230823T110546Z
LAST-MODIFIED:20230823T110546Z
UID:6938-1696179600-1696186800@tjslavojledenice.cz
SUMMARY:I. B muži: Kaplice B - Ledenice
DESCRIPTION:
URL:https://tjslavojledenice.cz/events/i-b-muzi-kaplice-b-ledenice-2/
END:VEVENT
BEGIN:VEVENT
DTSTART;TZID=Europe/Paris:20231001T100000
DTEND;TZID=Europe/Paris:20231001T120000
DTSTAMP:20260425T013904
CREATED:20230823T111827Z
LAST-MODIFIED:20230823T111827Z
UID:6999-1696154400-1696161600@tjslavojledenice.cz
SUMMARY:OP dorost: Borovany - Ledenice
DESCRIPTION:
URL:https://tjslavojledenice.cz/events/op-dorost-borovany-ledenice-2/
END:VEVENT
BEGIN:VEVENT
DTSTART;TZID=Europe/Paris:20230929T163000
DTEND;TZID=Europe/Paris:20230929T173000
DTSTAMP:20260425T013904
CREATED:20230823T112219Z
LAST-MODIFIED:20230823T112219Z
UID:7020-1696005000-1696008600@tjslavojledenice.cz
SUMMARY:OP ml. žáci: Ledenice - H. Stropnice
DESCRIPTION:
URL:https://tjslavojledenice.cz/events/op-ml-zaci-ledenice-h-stropnice/
END:VEVENT
BEGIN:VEVENT
DTSTART;TZID=Europe/Paris:20230928T170000
DTEND;TZID=Europe/Paris:20230928T180000
DTSTAMP:20260425T013904
CREATED:20230823T112650Z
LAST-MODIFIED:20230823T112650Z
UID:7039-1695920400-1695924000@tjslavojledenice.cz
SUMMARY:Volejbal (KP II - muži): Loko ČB B - Ledenice
DESCRIPTION:
URL:https://tjslavojledenice.cz/events/volejbal-kp-ii-muzi-loko-cb-b-ledenice/
END:VEVENT
BEGIN:VEVENT
DTSTART;TZID=Europe/Paris:20230928T170000
DTEND;TZID=Europe/Paris:20230928T180000
DTSTAMP:20260425T013904
CREATED:20230823T104911Z
LAST-MODIFIED:20230823T104911Z
UID:6914-1695920400-1695924000@tjslavojledenice.cz
SUMMARY:OP ml. přípravka: Včelná - Ledenice
DESCRIPTION:
URL:https://tjslavojledenice.cz/events/op-ml-pripravka-vcelna-ledenice-2/
END:VEVENT
BEGIN:VEVENT
DTSTART;TZID=Europe/Paris:20230925T170000
DTEND;TZID=Europe/Paris:20230925T180000
DTSTAMP:20260425T013904
CREATED:20230906T074139Z
LAST-MODIFIED:20230906T074139Z
UID:7088-1695661200-1695664800@tjslavojledenice.cz
SUMMARY:Volejbal (OP - ženy): Křemže - Ledenice
DESCRIPTION:
URL:https://tjslavojledenice.cz/events/volejbal-op-zeny-kremze-ledenice/
END:VEVENT
BEGIN:VEVENT
DTSTART;TZID=Europe/Paris:20230924T150000
DTEND;TZID=Europe/Paris:20230924T170000
DTSTAMP:20260425T013904
CREATED:20230823T110524Z
LAST-MODIFIED:20230823T110524Z
UID:6936-1695567600-1695574800@tjslavojledenice.cz
SUMMARY:I. B muži: Ledenice - Boršov
DESCRIPTION:
URL:https://tjslavojledenice.cz/events/i-b-muzi-ledenice-borsov-2/
END:VEVENT
BEGIN:VEVENT
DTSTART;TZID=Europe/Paris:20230923T101500
DTEND;TZID=Europe/Paris:20230923T120000
DTSTAMP:20260425T013904
CREATED:20230823T111802Z
LAST-MODIFIED:20230823T111802Z
UID:6997-1695464100-1695470400@tjslavojledenice.cz
SUMMARY:OP dorost: Ledenice - Větřní
DESCRIPTION:
URL:https://tjslavojledenice.cz/events/op-dorost-ledenice-vetrni/
END:VEVENT
BEGIN:VEVENT
DTSTART;TZID=Europe/Paris:20230923T100000
DTEND;TZID=Europe/Paris:20230923T110000
DTSTAMP:20260425T013904
CREATED:20230823T112157Z
LAST-MODIFIED:20230823T112157Z
UID:7018-1695463200-1695466800@tjslavojledenice.cz
SUMMARY:OP ml. žáci: Větřní - Ledenice
DESCRIPTION:
URL:https://tjslavojledenice.cz/events/op-ml-zaci-vetrni-ledenice/
END:VEVENT
BEGIN:VEVENT
DTSTART;TZID=Europe/Paris:20230922T173000
DTEND;TZID=Europe/Paris:20230922T193000
DTSTAMP:20260425T013904
CREATED:20230823T110949Z
LAST-MODIFIED:20230823T110949Z
UID:6958-1695403800-1695411000@tjslavojledenice.cz
SUMMARY:OP starší žáci: Ledenice - Nemanice
DESCRIPTION:
URL:https://tjslavojledenice.cz/events/op-starsi-zaci-ledenice-nemanice/
END:VEVENT
BEGIN:VEVENT
DTSTART;TZID=Europe/Paris:20230922T160000
DTEND;TZID=Europe/Paris:20230922T170000
DTSTAMP:20260425T013904
CREATED:20230823T104653Z
LAST-MODIFIED:20230823T104653Z
UID:6912-1695398400-1695402000@tjslavojledenice.cz
SUMMARY:OP ml. přípravka: Ledenice - Borovany
DESCRIPTION:
URL:https://tjslavojledenice.cz/events/op-ml-pripravka-ledenice-borovany-2/
END:VEVENT
BEGIN:VEVENT
DTSTART;TZID=Europe/Paris:20230921T170000
DTEND;TZID=Europe/Paris:20230921T180000
DTSTAMP:20260425T013904
CREATED:20230823T112628Z
LAST-MODIFIED:20230823T112628Z
UID:7037-1695315600-1695319200@tjslavojledenice.cz
SUMMARY:Volejbal (KP II - muži): Ledenice - J. Hradec
DESCRIPTION:
URL:https://tjslavojledenice.cz/events/volejbal-kp-ii-muzi-ledenice-j-hradec/
END:VEVENT
END:VCALENDAR