BEGIN:VCALENDAR
VERSION:2.0
PRODID:-//TJ Slavoj Ledenice - ECPv6.15.20//NONSGML v1.0//EN
CALSCALE:GREGORIAN
METHOD:PUBLISH
X-WR-CALNAME:TJ Slavoj Ledenice
X-ORIGINAL-URL:https://tjslavojledenice.cz
X-WR-CALDESC:Akce na TJ Slavoj Ledenice
REFRESH-INTERVAL;VALUE=DURATION:PT1H
X-Robots-Tag:noindex
X-PUBLISHED-TTL:PT1H
BEGIN:VTIMEZONE
TZID:Europe/Paris
BEGIN:DAYLIGHT
TZOFFSETFROM:+0100
TZOFFSETTO:+0200
TZNAME:CEST
DTSTART:20220327T010000
END:DAYLIGHT
BEGIN:STANDARD
TZOFFSETFROM:+0200
TZOFFSETTO:+0100
TZNAME:CET
DTSTART:20221030T010000
END:STANDARD
BEGIN:DAYLIGHT
TZOFFSETFROM:+0100
TZOFFSETTO:+0200
TZNAME:CEST
DTSTART:20230326T010000
END:DAYLIGHT
BEGIN:STANDARD
TZOFFSETFROM:+0200
TZOFFSETTO:+0100
TZNAME:CET
DTSTART:20231029T010000
END:STANDARD
BEGIN:DAYLIGHT
TZOFFSETFROM:+0100
TZOFFSETTO:+0200
TZNAME:CEST
DTSTART:20240331T010000
END:DAYLIGHT
BEGIN:STANDARD
TZOFFSETFROM:+0200
TZOFFSETTO:+0100
TZNAME:CET
DTSTART:20241027T010000
END:STANDARD
END:VTIMEZONE
BEGIN:VEVENT
DTSTART;TZID=Europe/Paris:20230924T150000
DTEND;TZID=Europe/Paris:20230924T170000
DTSTAMP:20260425T045238
CREATED:20230823T110524Z
LAST-MODIFIED:20230823T110524Z
UID:6936-1695567600-1695574800@tjslavojledenice.cz
SUMMARY:I. B muži: Ledenice - Boršov
DESCRIPTION:
URL:https://tjslavojledenice.cz/events/i-b-muzi-ledenice-borsov-2/
END:VEVENT
BEGIN:VEVENT
DTSTART;TZID=Europe/Paris:20230923T101500
DTEND;TZID=Europe/Paris:20230923T120000
DTSTAMP:20260425T045238
CREATED:20230823T111802Z
LAST-MODIFIED:20230823T111802Z
UID:6997-1695464100-1695470400@tjslavojledenice.cz
SUMMARY:OP dorost: Ledenice - Větřní
DESCRIPTION:
URL:https://tjslavojledenice.cz/events/op-dorost-ledenice-vetrni/
END:VEVENT
BEGIN:VEVENT
DTSTART;TZID=Europe/Paris:20230923T100000
DTEND;TZID=Europe/Paris:20230923T110000
DTSTAMP:20260425T045238
CREATED:20230823T112157Z
LAST-MODIFIED:20230823T112157Z
UID:7018-1695463200-1695466800@tjslavojledenice.cz
SUMMARY:OP ml. žáci: Větřní - Ledenice
DESCRIPTION:
URL:https://tjslavojledenice.cz/events/op-ml-zaci-vetrni-ledenice/
END:VEVENT
BEGIN:VEVENT
DTSTART;TZID=Europe/Paris:20230922T173000
DTEND;TZID=Europe/Paris:20230922T193000
DTSTAMP:20260425T045238
CREATED:20230823T110949Z
LAST-MODIFIED:20230823T110949Z
UID:6958-1695403800-1695411000@tjslavojledenice.cz
SUMMARY:OP starší žáci: Ledenice - Nemanice
DESCRIPTION:
URL:https://tjslavojledenice.cz/events/op-starsi-zaci-ledenice-nemanice/
END:VEVENT
BEGIN:VEVENT
DTSTART;TZID=Europe/Paris:20230922T160000
DTEND;TZID=Europe/Paris:20230922T170000
DTSTAMP:20260425T045238
CREATED:20230823T104653Z
LAST-MODIFIED:20230823T104653Z
UID:6912-1695398400-1695402000@tjslavojledenice.cz
SUMMARY:OP ml. přípravka: Ledenice - Borovany
DESCRIPTION:
URL:https://tjslavojledenice.cz/events/op-ml-pripravka-ledenice-borovany-2/
END:VEVENT
BEGIN:VEVENT
DTSTART;TZID=Europe/Paris:20230921T170000
DTEND;TZID=Europe/Paris:20230921T180000
DTSTAMP:20260425T045238
CREATED:20230823T112628Z
LAST-MODIFIED:20230823T112628Z
UID:7037-1695315600-1695319200@tjslavojledenice.cz
SUMMARY:Volejbal (KP II - muži): Ledenice - J. Hradec
DESCRIPTION:
URL:https://tjslavojledenice.cz/events/volejbal-kp-ii-muzi-ledenice-j-hradec/
END:VEVENT
BEGIN:VEVENT
DTSTART;TZID=Europe/Paris:20230920T163000
DTEND;TZID=Europe/Paris:20230920T173000
DTSTAMP:20260425T045238
CREATED:20230823T111412Z
LAST-MODIFIED:20230823T111412Z
UID:6978-1695227400-1695231000@tjslavojledenice.cz
SUMMARY:OS ml. žáci: D. Voda - Ledenice
DESCRIPTION:
URL:https://tjslavojledenice.cz/events/os-ml-zaci-d-voda-ledenice/
END:VEVENT
BEGIN:VEVENT
DTSTART;TZID=Europe/Paris:20230918T170000
DTEND;TZID=Europe/Paris:20230918T180000
DTSTAMP:20260425T045238
CREATED:20230906T074528Z
LAST-MODIFIED:20230906T074528Z
UID:7100-1695056400-1695060000@tjslavojledenice.cz
SUMMARY:Volejbal (KP - ženy): Loko Č. Budějovice - Ledenice
DESCRIPTION:
URL:https://tjslavojledenice.cz/events/volejbal-kp-zeny-loko-c-budejovice-ledenice/
END:VEVENT
BEGIN:VEVENT
DTSTART;TZID=Europe/Paris:20230918T170000
DTEND;TZID=Europe/Paris:20230918T180000
DTSTAMP:20260425T045238
CREATED:20230906T074118Z
LAST-MODIFIED:20230906T074118Z
UID:7086-1695056400-1695060000@tjslavojledenice.cz
SUMMARY:Volejbal (OP - ženy): T. Sviny B - Ledenice
DESCRIPTION:
URL:https://tjslavojledenice.cz/events/volejbal-op-zeny-t-sviny-b-ledenice/
END:VEVENT
BEGIN:VEVENT
DTSTART;TZID=Europe/Paris:20230917T150000
DTEND;TZID=Europe/Paris:20230917T170000
DTSTAMP:20260425T045238
CREATED:20230823T110508Z
LAST-MODIFIED:20230823T110508Z
UID:6934-1694962800-1694970000@tjslavojledenice.cz
SUMMARY:I. B muži: Ledenice - Č. Krumlov B
DESCRIPTION:
URL:https://tjslavojledenice.cz/events/i-b-muzi-ledenice-c-krumlov-b/
END:VEVENT
BEGIN:VEVENT
DTSTART;TZID=Europe/Paris:20230916T140000
DTEND;TZID=Europe/Paris:20230916T180000
DTSTAMP:20260425T045238
CREATED:20230914T064327Z
LAST-MODIFIED:20230914T064327Z
UID:7166-1694872800-1694887200@tjslavojledenice.cz
SUMMARY:Weber Cup
DESCRIPTION:
URL:https://tjslavojledenice.cz/events/weber-cup/
LOCATION:Ledenice\, Sokolská 639\, Ledenice\, 373 11\, Česká republika
END:VEVENT
BEGIN:VEVENT
DTSTART;TZID=Europe/Paris:20230916T140000
DTEND;TZID=Europe/Paris:20230916T170000
DTSTAMP:20260425T045238
CREATED:20230823T110924Z
LAST-MODIFIED:20230823T110924Z
UID:6956-1694872800-1694883600@tjslavojledenice.cz
SUMMARY:OP starší žáci: N. Ves - Ledenice
DESCRIPTION:
URL:https://tjslavojledenice.cz/events/op-starsi-zaci-n-ves-ledenice/
END:VEVENT
BEGIN:VEVENT
DTSTART;TZID=Europe/Paris:20230916T101500
DTEND;TZID=Europe/Paris:20230916T120000
DTSTAMP:20260425T045238
CREATED:20230823T111739Z
LAST-MODIFIED:20230823T111739Z
UID:6995-1694859300-1694865600@tjslavojledenice.cz
SUMMARY:OP dorost: Ledenice - Planá
DESCRIPTION:
URL:https://tjslavojledenice.cz/events/op-dorost-ledenice-plana-2/
END:VEVENT
BEGIN:VEVENT
DTSTART;TZID=Europe/Paris:20230914T170000
DTEND;TZID=Europe/Paris:20230914T180000
DTSTAMP:20260425T045238
CREATED:20230823T112607Z
LAST-MODIFIED:20230823T112607Z
UID:7035-1694710800-1694714400@tjslavojledenice.cz
SUMMARY:Volejbal (KP II - muži): Slovan ČB - Ledenice
DESCRIPTION:
URL:https://tjslavojledenice.cz/events/volejbal-kp-ii-muzi-slovan-cb-ledenice/
END:VEVENT
BEGIN:VEVENT
DTSTART;TZID=Europe/Paris:20230913T193000
DTEND;TZID=Europe/Paris:20230913T193000
DTSTAMP:20260425T045238
CREATED:20230906T074322Z
LAST-MODIFIED:20230908T105818Z
UID:7092-1694633400-1694633400@tjslavojledenice.cz
SUMMARY:Volejbal (KP - ženy): Ledenice - Hluboká n. Vltavou B
DESCRIPTION:
URL:https://tjslavojledenice.cz/events/volejbal-kp-zeny-ledenice-hluboka-n-vltavou-b/
END:VEVENT
BEGIN:VEVENT
DTSTART;TZID=Europe/Paris:20230913T180000
DTEND;TZID=Europe/Paris:20230913T190000
DTSTAMP:20260425T045238
CREATED:20230823T104619Z
LAST-MODIFIED:20230823T104619Z
UID:6910-1694628000-1694631600@tjslavojledenice.cz
SUMMARY:OP ml. přípravka: Roudné - Ledenice
DESCRIPTION:
URL:https://tjslavojledenice.cz/events/op-ml-pripravka-roudne-ledenice/
END:VEVENT
BEGIN:VEVENT
DTSTART;TZID=Europe/Paris:20230912T170000
DTEND;TZID=Europe/Paris:20230912T180000
DTSTAMP:20260425T045238
CREATED:20230823T111345Z
LAST-MODIFIED:20230823T111345Z
UID:6976-1694538000-1694541600@tjslavojledenice.cz
SUMMARY:OS ml. žáci: Ledenice - N. Hrady
DESCRIPTION:
URL:https://tjslavojledenice.cz/events/os-ml-zaci-ledenice-n-hrady/
END:VEVENT
BEGIN:VEVENT
DTSTART;TZID=Europe/Paris:20230912T130000
DTEND;TZID=Europe/Paris:20230912T180000
DTSTAMP:20260425T045238
CREATED:20230823T112030Z
LAST-MODIFIED:20230823T112030Z
UID:7011-1694523600-1694541600@tjslavojledenice.cz
SUMMARY:Planeo Cup - I. předkolo (U8) - hřiště JFA ČB
DESCRIPTION:
URL:https://tjslavojledenice.cz/events/planeo-cup-i-predkolo-u8-hriste-jfa-cb/
END:VEVENT
BEGIN:VEVENT
DTSTART;TZID=Europe/Paris:20230911T170000
DTEND;TZID=Europe/Paris:20230911T180000
DTSTAMP:20260425T045238
CREATED:20230906T074052Z
LAST-MODIFIED:20230906T074052Z
UID:7084-1694451600-1694455200@tjslavojledenice.cz
SUMMARY:Volejbal (OP - ženy): Ledenice - SKP Č. Budějovice
DESCRIPTION:
URL:https://tjslavojledenice.cz/events/volejbal-op-zeny-ledenice-skp-c-budejovice/
END:VEVENT
BEGIN:VEVENT
DTSTART;TZID=Europe/Paris:20230910T130000
DTEND;TZID=Europe/Paris:20230910T170000
DTSTAMP:20260425T045238
CREATED:20230801T061911Z
LAST-MODIFIED:20230801T061911Z
UID:6855-1694350800-1694365200@tjslavojledenice.cz
SUMMARY:Dětská olympiáda - 21. ročník
DESCRIPTION:
URL:https://tjslavojledenice.cz/events/detska-olympiada-21-rocnik/
END:VEVENT
BEGIN:VEVENT
DTSTART;TZID=Europe/Paris:20230909T133000
DTEND;TZID=Europe/Paris:20230909T153000
DTSTAMP:20260425T045238
CREATED:20230823T110450Z
LAST-MODIFIED:20230823T110450Z
UID:6932-1694266200-1694273400@tjslavojledenice.cz
SUMMARY:I. B muži: Olešnice - Ledenice
DESCRIPTION:
URL:https://tjslavojledenice.cz/events/i-b-muzi-olesnice-ledenice-3/
END:VEVENT
BEGIN:VEVENT
DTSTART;TZID=Europe/Paris:20230908T173000
DTEND;TZID=Europe/Paris:20230908T193000
DTSTAMP:20260425T045238
CREATED:20230823T110905Z
LAST-MODIFIED:20230823T110905Z
UID:6954-1694194200-1694201400@tjslavojledenice.cz
SUMMARY:OP starší žáci: Ledenice - Lišov B
DESCRIPTION:
URL:https://tjslavojledenice.cz/events/op-starsi-zaci-ledenice-lisov-b/
END:VEVENT
BEGIN:VEVENT
DTSTART;TZID=Europe/Paris:20230908T170000
DTEND;TZID=Europe/Paris:20230908T180000
DTSTAMP:20260425T045238
CREATED:20230823T112132Z
LAST-MODIFIED:20230823T112132Z
UID:7016-1694192400-1694196000@tjslavojledenice.cz
SUMMARY:OP ml. žáci: Srubec - Ledenice
DESCRIPTION:
URL:https://tjslavojledenice.cz/events/op-ml-zaci-srubec-ledenice-2/
END:VEVENT
BEGIN:VEVENT
DTSTART;TZID=Europe/Paris:20230908T160000
DTEND;TZID=Europe/Paris:20230908T170000
DTSTAMP:20260425T045238
CREATED:20230823T104553Z
LAST-MODIFIED:20230823T104553Z
UID:6907-1694188800-1694192400@tjslavojledenice.cz
SUMMARY:OP ml. přípravka: Ledenice - N. Ves
DESCRIPTION:
URL:https://tjslavojledenice.cz/events/op-ml-pripravka-ledenice-n-ves/
END:VEVENT
BEGIN:VEVENT
DTSTART;TZID=Europe/Paris:20230907T170000
DTEND;TZID=Europe/Paris:20230907T190000
DTSTAMP:20260425T045238
CREATED:20230823T110838Z
LAST-MODIFIED:20230823T110838Z
UID:6952-1694106000-1694113200@tjslavojledenice.cz
SUMMARY:OP starší žáci: K. Újezd - Ledenice
DESCRIPTION:
URL:https://tjslavojledenice.cz/events/op-starsi-zaci-k-ujezd-ledenice/
END:VEVENT
BEGIN:VEVENT
DTSTART;TZID=Europe/Paris:20230906T173000
DTEND;TZID=Europe/Paris:20230906T183000
DTSTAMP:20260425T045238
CREATED:20230823T111721Z
LAST-MODIFIED:20230823T111721Z
UID:6993-1694021400-1694025000@tjslavojledenice.cz
SUMMARY:OP dorost: Lišov - Ledenice
DESCRIPTION:
URL:https://tjslavojledenice.cz/events/op-dorost-lisov-ledenice-2/
END:VEVENT
BEGIN:VEVENT
DTSTART;TZID=Europe/Paris:20230906T163000
DTEND;TZID=Europe/Paris:20230906T173000
DTSTAMP:20260425T045238
CREATED:20230823T105157Z
LAST-MODIFIED:20230829T073634Z
UID:6922-1694017800-1694021400@tjslavojledenice.cz
SUMMARY:OP ml. přípravka: Ledenice - Nemanice
DESCRIPTION:
URL:https://tjslavojledenice.cz/events/op-ml-pripravka-ledenice-nemanice/
END:VEVENT
BEGIN:VEVENT
DTSTART;TZID=Europe/Paris:20230905T170000
DTEND;TZID=Europe/Paris:20230905T180000
DTSTAMP:20260425T045238
CREATED:20230823T112544Z
LAST-MODIFIED:20230823T112544Z
UID:7033-1693933200-1693936800@tjslavojledenice.cz
SUMMARY:Volejbal (KP II - muži): Ledenice - Soběslav
DESCRIPTION:
URL:https://tjslavojledenice.cz/events/volejbal-kp-ii-muzi-ledenice-sobeslav/
END:VEVENT
BEGIN:VEVENT
DTSTART;TZID=Europe/Paris:20230904T180000
DTEND;TZID=Europe/Paris:20230904T190000
DTSTAMP:20260425T045238
CREATED:20230823T111322Z
LAST-MODIFIED:20230823T111322Z
UID:6974-1693850400-1693854000@tjslavojledenice.cz
SUMMARY:OS ml. žáci: Roudné - Ledenice
DESCRIPTION:
URL:https://tjslavojledenice.cz/events/os-ml-zaci-roudne-ledenice-2/
END:VEVENT
BEGIN:VEVENT
DTSTART;TZID=Europe/Paris:20230903T150000
DTEND;TZID=Europe/Paris:20230903T170000
DTSTAMP:20260425T045238
CREATED:20230823T110425Z
LAST-MODIFIED:20230823T110425Z
UID:6930-1693753200-1693760400@tjslavojledenice.cz
SUMMARY:I. B muži: Ledenice - Roudné B
DESCRIPTION:
URL:https://tjslavojledenice.cz/events/i-b-muzi-ledenice-roudne-b-2/
END:VEVENT
END:VCALENDAR