BEGIN:VCALENDAR
VERSION:2.0
PRODID:-//TJ Slavoj Ledenice - ECPv6.15.18//NONSGML v1.0//EN
CALSCALE:GREGORIAN
METHOD:PUBLISH
X-WR-CALNAME:TJ Slavoj Ledenice
X-ORIGINAL-URL:https://tjslavojledenice.cz
X-WR-CALDESC:Akce na TJ Slavoj Ledenice
REFRESH-INTERVAL;VALUE=DURATION:PT1H
X-Robots-Tag:noindex
X-PUBLISHED-TTL:PT1H
BEGIN:VTIMEZONE
TZID:Europe/Paris
BEGIN:DAYLIGHT
TZOFFSETFROM:+0100
TZOFFSETTO:+0200
TZNAME:CEST
DTSTART:20240331T010000
END:DAYLIGHT
BEGIN:STANDARD
TZOFFSETFROM:+0200
TZOFFSETTO:+0100
TZNAME:CET
DTSTART:20241027T010000
END:STANDARD
BEGIN:DAYLIGHT
TZOFFSETFROM:+0100
TZOFFSETTO:+0200
TZNAME:CEST
DTSTART:20250330T010000
END:DAYLIGHT
BEGIN:STANDARD
TZOFFSETFROM:+0200
TZOFFSETTO:+0100
TZNAME:CET
DTSTART:20251026T010000
END:STANDARD
BEGIN:DAYLIGHT
TZOFFSETFROM:+0100
TZOFFSETTO:+0200
TZNAME:CEST
DTSTART:20260329T010000
END:DAYLIGHT
BEGIN:STANDARD
TZOFFSETFROM:+0200
TZOFFSETTO:+0100
TZNAME:CET
DTSTART:20261025T010000
END:STANDARD
END:VTIMEZONE
BEGIN:VEVENT
DTSTART;TZID=Europe/Paris:20250413T150000
DTEND;TZID=Europe/Paris:20250413T170000
DTSTAMP:20260423T140726
CREATED:20250218T083609Z
LAST-MODIFIED:20250218T083609Z
UID:9300-1744556400-1744563600@tjslavojledenice.cz
SUMMARY:I. B muži: T. Sviny B - Ledenice
DESCRIPTION:
URL:https://tjslavojledenice.cz/events/i-b-muzi-t-sviny-b-ledenice-3/
END:VEVENT
BEGIN:VEVENT
DTSTART;TZID=Europe/Paris:20250414T170000
DTEND;TZID=Europe/Paris:20250414T180000
DTSTAMP:20260423T140726
CREATED:20250218T090114Z
LAST-MODIFIED:20250324T122558Z
UID:9406-1744650000-1744653600@tjslavojledenice.cz
SUMMARY:OP ml. žáci (sk. B): Ledenice B - Borek
DESCRIPTION:
URL:https://tjslavojledenice.cz/events/op-ml-zaci-sk-a-ledenice-b-borek/
END:VEVENT
BEGIN:VEVENT
DTSTART;TZID=Europe/Paris:20250415T170000
DTEND;TZID=Europe/Paris:20250415T180000
DTSTAMP:20260423T140726
CREATED:20250218T090538Z
LAST-MODIFIED:20250218T090538Z
UID:9426-1744736400-1744740000@tjslavojledenice.cz
SUMMARY:OS ml. žáci: Ledenice - H. Stropnice
DESCRIPTION:
URL:https://tjslavojledenice.cz/events/os-ml-zaci-ledenice-h-stropnice-3/
END:VEVENT
BEGIN:VEVENT
DTSTART;TZID=Europe/Paris:20250416T170000
DTEND;TZID=Europe/Paris:20250416T180000
DTSTAMP:20260423T140726
CREATED:20250218T085735Z
LAST-MODIFIED:20250401T081501Z
UID:9375-1744822800-1744826400@tjslavojledenice.cz
SUMMARY:OP ml. žáci (sk. A): Lipí - Ledenice
DESCRIPTION:
URL:https://tjslavojledenice.cz/events/op-ml-zaci-sk-a-lipi-ledenice/
END:VEVENT
BEGIN:VEVENT
DTSTART;TZID=Europe/Paris:20250419T100000
DTEND;TZID=Europe/Paris:20250419T120000
DTSTAMP:20260423T140726
CREATED:20250218T082856Z
LAST-MODIFIED:20250226T084028Z
UID:9266-1745056800-1745064000@tjslavojledenice.cz
SUMMARY:OP dorost: Ledenice - Borek
DESCRIPTION:
URL:https://tjslavojledenice.cz/events/op-dorost-ledenice-borek-2/
END:VEVENT
BEGIN:VEVENT
DTSTART;TZID=Europe/Paris:20250420T150000
DTEND;TZID=Europe/Paris:20250420T170000
DTSTAMP:20260423T140726
CREATED:20250218T083624Z
LAST-MODIFIED:20250218T083624Z
UID:9301-1745161200-1745168400@tjslavojledenice.cz
SUMMARY:I. B muži: Ledenice - Kaplice B
DESCRIPTION:
URL:https://tjslavojledenice.cz/events/i-b-muzi-ledenice-kaplice-b-3/
END:VEVENT
BEGIN:VEVENT
DTSTART;TZID=Europe/Paris:20250423T170000
DTEND;TZID=Europe/Paris:20250423T180000
DTSTAMP:20260423T140726
CREATED:20250218T084129Z
LAST-MODIFIED:20250218T084129Z
UID:9327-1745427600-1745431200@tjslavojledenice.cz
SUMMARY:OP ml. přípravka (sk. A): Srubec - Ledenice
DESCRIPTION:
URL:https://tjslavojledenice.cz/events/op-ml-pripravka-sk-a-srubec-ledenice/
END:VEVENT
BEGIN:VEVENT
DTSTART;TZID=Europe/Paris:20250423T170000
DTEND;TZID=Europe/Paris:20250423T180000
DTSTAMP:20260423T140726
CREATED:20250218T085755Z
LAST-MODIFIED:20250218T085755Z
UID:9376-1745427600-1745431200@tjslavojledenice.cz
SUMMARY:OP ml. žáci (sk. A): Ledenice - Rudolfov
DESCRIPTION:
URL:https://tjslavojledenice.cz/events/op-ml-zaci-sk-a-ledenice-rudolfov/
END:VEVENT
BEGIN:VEVENT
DTSTART;TZID=Europe/Paris:20250424T163000
DTEND;TZID=Europe/Paris:20250424T173000
DTSTAMP:20260423T140726
CREATED:20250218T085135Z
LAST-MODIFIED:20250218T085135Z
UID:9364-1745512200-1745515800@tjslavojledenice.cz
SUMMARY:OP ml. přípravka (sk. B): Slavia Č. Budějovice - Ledenice B
DESCRIPTION:
URL:https://tjslavojledenice.cz/events/op-ml-pripravka-sk-b-slavia-c-budejovice-ledenice-b/
END:VEVENT
BEGIN:VEVENT
DTSTART;TZID=Europe/Paris:20250425T170000
DTEND;TZID=Europe/Paris:20250425T180000
DTSTAMP:20260423T140726
CREATED:20250218T090133Z
LAST-MODIFIED:20250324T122554Z
UID:9407-1745600400-1745604000@tjslavojledenice.cz
SUMMARY:OP ml. žáci (sk. B): Zliv - Ledenice B
DESCRIPTION:
URL:https://tjslavojledenice.cz/events/op-ml-zaci-sk-a-zliv-ledenice-b/
END:VEVENT
BEGIN:VEVENT
DTSTART;TZID=Europe/Paris:20250425T170000
DTEND;TZID=Europe/Paris:20250425T190000
DTSTAMP:20260423T140726
CREATED:20250218T082915Z
LAST-MODIFIED:20250218T082915Z
UID:9267-1745600400-1745607600@tjslavojledenice.cz
SUMMARY:OP dorost: Mladé - Ledenice
DESCRIPTION:
URL:https://tjslavojledenice.cz/events/op-dorost-mlade-ledenice-2/
END:VEVENT
BEGIN:VEVENT
DTSTART;TZID=Europe/Paris:20250426T080000
DTEND;TZID=Europe/Paris:20250426T170000
DTSTAMP:20260423T140726
CREATED:20241119T194324Z
LAST-MODIFIED:20241119T194324Z
UID:8946-1745654400-1745686800@tjslavojledenice.cz
SUMMARY:Rezervace hřiště - hasiči
DESCRIPTION:
URL:https://tjslavojledenice.cz/events/rezervace-hriste-hasici-3/
END:VEVENT
BEGIN:VEVENT
DTSTART;TZID=Europe/Paris:20250426T133000
DTEND;TZID=Europe/Paris:20250426T160000
DTSTAMP:20260423T140726
CREATED:20250218T083648Z
LAST-MODIFIED:20250218T083648Z
UID:9302-1745674200-1745683200@tjslavojledenice.cz
SUMMARY:I. B muži: Včelná - Ledenice
DESCRIPTION:
URL:https://tjslavojledenice.cz/events/i-b-muzi-vcelna-ledenice/
END:VEVENT
BEGIN:VEVENT
DTSTART;TZID=Europe/Paris:20250426T140000
DTEND;TZID=Europe/Paris:20250426T150000
DTSTAMP:20260423T140726
CREATED:20250218T090524Z
LAST-MODIFIED:20250218T090524Z
UID:9425-1745676000-1745679600@tjslavojledenice.cz
SUMMARY:OS ml. žáci: N. Hrady - Ledenice
DESCRIPTION:
URL:https://tjslavojledenice.cz/events/os-ml-zaci-n-hrady-ledenice-2/
END:VEVENT
BEGIN:VEVENT
DTSTART;TZID=Europe/Paris:20250428T170000
DTEND;TZID=Europe/Paris:20250428T180000
DTSTAMP:20260423T140726
CREATED:20250218T090150Z
LAST-MODIFIED:20250324T122552Z
UID:9408-1745859600-1745863200@tjslavojledenice.cz
SUMMARY:OP ml. žáci (sk. B): Ledenice B - Srubec
DESCRIPTION:
URL:https://tjslavojledenice.cz/events/op-ml-zaci-sk-a-ledenice-b-srubec/
END:VEVENT
BEGIN:VEVENT
DTSTART;TZID=Europe/Paris:20250429T160000
DTEND;TZID=Europe/Paris:20250429T170000
DTSTAMP:20260423T140726
CREATED:20250218T084152Z
LAST-MODIFIED:20250304T101251Z
UID:9328-1745942400-1745946000@tjslavojledenice.cz
SUMMARY:OP ml. přípravka (sk. A): Ledenice - K. Újezd
DESCRIPTION:
URL:https://tjslavojledenice.cz/events/op-ml-pripravka-sk-a-ledenice-k-ujezd/
END:VEVENT
BEGIN:VEVENT
DTSTART;TZID=Europe/Paris:20250429T170000
DTEND;TZID=Europe/Paris:20250429T180000
DTSTAMP:20260423T140726
CREATED:20250218T085214Z
LAST-MODIFIED:20250304T101245Z
UID:9365-1745946000-1745949600@tjslavojledenice.cz
SUMMARY:OP ml. přípravka (sk. B): Ledenice B - Borovany B
DESCRIPTION:
URL:https://tjslavojledenice.cz/events/op-ml-pripravka-sk-b-ledenice-b-borovany-b/
END:VEVENT
BEGIN:VEVENT
DTSTART;TZID=Europe/Paris:20250429T170000
DTEND;TZID=Europe/Paris:20250429T180000
DTSTAMP:20260423T140726
CREATED:20250218T085812Z
LAST-MODIFIED:20250227T051605Z
UID:9377-1745946000-1745949600@tjslavojledenice.cz
SUMMARY:OP ml. žáci (sk. A): Mladé - Ledenice
DESCRIPTION:
URL:https://tjslavojledenice.cz/events/op-ml-zaci-sk-a-mlade-ledenice/
END:VEVENT
BEGIN:VEVENT
DTSTART;TZID=Europe/Paris:20250429T170000
DTEND;TZID=Europe/Paris:20250429T180000
DTSTAMP:20260423T140726
CREATED:20250218T090554Z
LAST-MODIFIED:20250218T090554Z
UID:9427-1745946000-1745949600@tjslavojledenice.cz
SUMMARY:OS ml. žáci: Ledenice - Srubec
DESCRIPTION:
URL:https://tjslavojledenice.cz/events/os-ml-zaci-ledenice-srubec-2/
END:VEVENT
BEGIN:VEVENT
DTSTART;TZID=Europe/Paris:20250503T080000
DTEND;TZID=Europe/Paris:20250503T170000
DTSTAMP:20260423T140726
CREATED:20250218T082505Z
LAST-MODIFIED:20250218T082505Z
UID:9253-1746259200-1746291600@tjslavojledenice.cz
SUMMARY:Turnaj OFS U8
DESCRIPTION:
URL:https://tjslavojledenice.cz/events/turnaj-ofs-u8-3/
END:VEVENT
BEGIN:VEVENT
DTSTART;TZID=Europe/Paris:20250503T100000
DTEND;TZID=Europe/Paris:20250503T120000
DTSTAMP:20260423T140726
CREATED:20250218T082935Z
LAST-MODIFIED:20250226T084021Z
UID:9268-1746266400-1746273600@tjslavojledenice.cz
SUMMARY:OP dorost: Ledenice - Planá nad Lužnicí
DESCRIPTION:
URL:https://tjslavojledenice.cz/events/op-dorost-ledenice-plana-nad-luznici/
END:VEVENT
BEGIN:VEVENT
DTSTART;TZID=Europe/Paris:20250504T150000
DTEND;TZID=Europe/Paris:20250504T170000
DTSTAMP:20260423T140726
CREATED:20250218T083702Z
LAST-MODIFIED:20250218T083702Z
UID:9303-1746370800-1746378000@tjslavojledenice.cz
SUMMARY:I. B muži: Ledenice - Frymburk
DESCRIPTION:
URL:https://tjslavojledenice.cz/events/i-b-muzi-ledenice-frymburk-3/
END:VEVENT
BEGIN:VEVENT
DTSTART;TZID=Europe/Paris:20250505T173000
DTEND;TZID=Europe/Paris:20250505T183000
DTSTAMP:20260423T140726
CREATED:20250218T085830Z
LAST-MODIFIED:20250227T051541Z
UID:9378-1746466200-1746469800@tjslavojledenice.cz
SUMMARY:OP ml. žáci (sk. A): Nová Ves - Ledenice
DESCRIPTION:
URL:https://tjslavojledenice.cz/events/op-ml-zaci-sk-a-nova-ves-ledenice/
END:VEVENT
BEGIN:VEVENT
DTSTART;TZID=Europe/Paris:20250506T160000
DTEND;TZID=Europe/Paris:20250506T170000
DTSTAMP:20260423T140726
CREATED:20250218T084206Z
LAST-MODIFIED:20250304T101234Z
UID:9329-1746547200-1746550800@tjslavojledenice.cz
SUMMARY:OP ml. přípravka (sk. A): Ledenice - Planá B
DESCRIPTION:
URL:https://tjslavojledenice.cz/events/op-ml-pripravka-sk-a-ledenice-plana-b/
END:VEVENT
BEGIN:VEVENT
DTSTART;TZID=Europe/Paris:20250506T170000
DTEND;TZID=Europe/Paris:20250506T180000
DTSTAMP:20260423T140726
CREATED:20250218T085230Z
LAST-MODIFIED:20250304T101228Z
UID:9366-1746550800-1746554400@tjslavojledenice.cz
SUMMARY:OP ml. přípravka (sk. B): Ledenice B - Římov
DESCRIPTION:
URL:https://tjslavojledenice.cz/events/op-ml-pripravka-sk-b-ledenice-b-rimov/
END:VEVENT
BEGIN:VEVENT
DTSTART;TZID=Europe/Paris:20250507T170000
DTEND;TZID=Europe/Paris:20250507T180000
DTSTAMP:20260423T140726
CREATED:20250218T090208Z
LAST-MODIFIED:20250324T122546Z
UID:9409-1746637200-1746640800@tjslavojledenice.cz
SUMMARY:OP ml. žáci (sk. B): Hluboká - Ledenice B
DESCRIPTION:
URL:https://tjslavojledenice.cz/events/op-ml-zaci-sk-a-hluboka-ledenice-b/
END:VEVENT
BEGIN:VEVENT
DTSTART;TZID=Europe/Paris:20250508T101500
DTEND;TZID=Europe/Paris:20250508T120000
DTSTAMP:20260423T140726
CREATED:20250218T082954Z
LAST-MODIFIED:20250218T082954Z
UID:9269-1746699300-1746705600@tjslavojledenice.cz
SUMMARY:OP dorost: Ledenice - Křemže
DESCRIPTION:
URL:https://tjslavojledenice.cz/events/op-dorost-ledenice-kremze/
END:VEVENT
BEGIN:VEVENT
DTSTART;TZID=Europe/Paris:20250508T163000
DTEND;TZID=Europe/Paris:20250508T183000
DTSTAMP:20260423T140726
CREATED:20250218T090646Z
LAST-MODIFIED:20250218T090646Z
UID:9428-1746721800-1746729000@tjslavojledenice.cz
SUMMARY:OS ml. žáci: Slavia - Ledenice
DESCRIPTION:
URL:https://tjslavojledenice.cz/events/os-ml-zaci-slavia-ledenice/
END:VEVENT
BEGIN:VEVENT
DTSTART;TZID=Europe/Paris:20250510T103000
DTEND;TZID=Europe/Paris:20250510T130000
DTSTAMP:20260423T140726
CREATED:20250218T083726Z
LAST-MODIFIED:20250218T083726Z
UID:9305-1746873000-1746882000@tjslavojledenice.cz
SUMMARY:I. B muži: Borek - Ledenice
DESCRIPTION:
URL:https://tjslavojledenice.cz/events/i-b-muzi-borek-ledenice/
END:VEVENT
BEGIN:VEVENT
DTSTART;TZID=Europe/Paris:20250511T150000
DTEND;TZID=Europe/Paris:20250511T170000
DTSTAMP:20260423T140726
CREATED:20250218T083013Z
LAST-MODIFIED:20250226T084006Z
UID:9270-1746975600-1746982800@tjslavojledenice.cz
SUMMARY:OP dorost: Ledenice - N. Hodějovice
DESCRIPTION:
URL:https://tjslavojledenice.cz/events/op-dorost-ledenice-n-hodejovice-3/
END:VEVENT
END:VCALENDAR