BEGIN:VCALENDAR
VERSION:2.0
PRODID:-//TJ Slavoj Ledenice - ECPv6.15.18//NONSGML v1.0//EN
CALSCALE:GREGORIAN
METHOD:PUBLISH
X-ORIGINAL-URL:https://tjslavojledenice.cz
X-WR-CALDESC:Akce na TJ Slavoj Ledenice
REFRESH-INTERVAL;VALUE=DURATION:PT1H
X-Robots-Tag:noindex
X-PUBLISHED-TTL:PT1H
BEGIN:VTIMEZONE
TZID:Europe/Paris
BEGIN:DAYLIGHT
TZOFFSETFROM:+0100
TZOFFSETTO:+0200
TZNAME:CEST
DTSTART:20240331T010000
END:DAYLIGHT
BEGIN:STANDARD
TZOFFSETFROM:+0200
TZOFFSETTO:+0100
TZNAME:CET
DTSTART:20241027T010000
END:STANDARD
BEGIN:DAYLIGHT
TZOFFSETFROM:+0100
TZOFFSETTO:+0200
TZNAME:CEST
DTSTART:20250330T010000
END:DAYLIGHT
BEGIN:STANDARD
TZOFFSETFROM:+0200
TZOFFSETTO:+0100
TZNAME:CET
DTSTART:20251026T010000
END:STANDARD
BEGIN:DAYLIGHT
TZOFFSETFROM:+0100
TZOFFSETTO:+0200
TZNAME:CEST
DTSTART:20260329T010000
END:DAYLIGHT
BEGIN:STANDARD
TZOFFSETFROM:+0200
TZOFFSETTO:+0100
TZNAME:CET
DTSTART:20261025T010000
END:STANDARD
END:VTIMEZONE
BEGIN:VEVENT
DTSTART;TZID=Europe/Paris:20250506T170000
DTEND;TZID=Europe/Paris:20250506T180000
DTSTAMP:20260423T183841
CREATED:20250218T085230Z
LAST-MODIFIED:20250304T101228Z
UID:9366-1746550800-1746554400@tjslavojledenice.cz
SUMMARY:OP ml. přípravka (sk. B): Ledenice B - Římov
DESCRIPTION:
URL:https://tjslavojledenice.cz/events/op-ml-pripravka-sk-b-ledenice-b-rimov/
END:VEVENT
BEGIN:VEVENT
DTSTART;TZID=Europe/Paris:20250507T170000
DTEND;TZID=Europe/Paris:20250507T180000
DTSTAMP:20260423T183841
CREATED:20250218T090208Z
LAST-MODIFIED:20250324T122546Z
UID:9409-1746637200-1746640800@tjslavojledenice.cz
SUMMARY:OP ml. žáci (sk. B): Hluboká - Ledenice B
DESCRIPTION:
URL:https://tjslavojledenice.cz/events/op-ml-zaci-sk-a-hluboka-ledenice-b/
END:VEVENT
BEGIN:VEVENT
DTSTART;TZID=Europe/Paris:20250508T101500
DTEND;TZID=Europe/Paris:20250508T120000
DTSTAMP:20260423T183841
CREATED:20250218T082954Z
LAST-MODIFIED:20250218T082954Z
UID:9269-1746699300-1746705600@tjslavojledenice.cz
SUMMARY:OP dorost: Ledenice - Křemže
DESCRIPTION:
URL:https://tjslavojledenice.cz/events/op-dorost-ledenice-kremze/
END:VEVENT
BEGIN:VEVENT
DTSTART;TZID=Europe/Paris:20250508T163000
DTEND;TZID=Europe/Paris:20250508T183000
DTSTAMP:20260423T183841
CREATED:20250218T090646Z
LAST-MODIFIED:20250218T090646Z
UID:9428-1746721800-1746729000@tjslavojledenice.cz
SUMMARY:OS ml. žáci: Slavia - Ledenice
DESCRIPTION:
URL:https://tjslavojledenice.cz/events/os-ml-zaci-slavia-ledenice/
END:VEVENT
BEGIN:VEVENT
DTSTART;TZID=Europe/Paris:20250510T103000
DTEND;TZID=Europe/Paris:20250510T130000
DTSTAMP:20260423T183841
CREATED:20250218T083726Z
LAST-MODIFIED:20250218T083726Z
UID:9305-1746873000-1746882000@tjslavojledenice.cz
SUMMARY:I. B muži: Borek - Ledenice
DESCRIPTION:
URL:https://tjslavojledenice.cz/events/i-b-muzi-borek-ledenice/
END:VEVENT
BEGIN:VEVENT
DTSTART;TZID=Europe/Paris:20250511T150000
DTEND;TZID=Europe/Paris:20250511T170000
DTSTAMP:20260423T183841
CREATED:20250218T083013Z
LAST-MODIFIED:20250226T084006Z
UID:9270-1746975600-1746982800@tjslavojledenice.cz
SUMMARY:OP dorost: Ledenice - N. Hodějovice
DESCRIPTION:
URL:https://tjslavojledenice.cz/events/op-dorost-ledenice-n-hodejovice-3/
END:VEVENT
BEGIN:VEVENT
DTSTART;TZID=Europe/Paris:20250512T170000
DTEND;TZID=Europe/Paris:20250512T180000
DTSTAMP:20260423T183841
CREATED:20250218T090223Z
LAST-MODIFIED:20250324T122543Z
UID:9410-1747069200-1747072800@tjslavojledenice.cz
SUMMARY:OP ml. žáci (sk. B): Ledenice B - Dubné
DESCRIPTION:
URL:https://tjslavojledenice.cz/events/op-ml-zaci-sk-a-ledenice-b-dubne/
END:VEVENT
BEGIN:VEVENT
DTSTART;TZID=Europe/Paris:20250513T170000
DTEND;TZID=Europe/Paris:20250513T180000
DTSTAMP:20260423T183841
CREATED:20250218T090705Z
LAST-MODIFIED:20250218T090705Z
UID:9429-1747155600-1747159200@tjslavojledenice.cz
SUMMARY:OS ml. žáci: Ledenice - T. Sviny
DESCRIPTION:
URL:https://tjslavojledenice.cz/events/os-ml-zaci-ledenice-t-sviny-3/
END:VEVENT
BEGIN:VEVENT
DTSTART;TZID=Europe/Paris:20250513T173000
DTEND;TZID=Europe/Paris:20250513T183000
DTSTAMP:20260423T183841
CREATED:20250218T085253Z
LAST-MODIFIED:20250218T085303Z
UID:9370-1747157400-1747161000@tjslavojledenice.cz
SUMMARY:OP ml. přípravka (sk. B): Dynamo B - Ledenice B
DESCRIPTION:
URL:https://tjslavojledenice.cz/events/op-ml-pripravka-sk-b-dynamo-b-ledenice-b/
END:VEVENT
BEGIN:VEVENT
DTSTART;TZID=Europe/Paris:20250515T160000
DTEND;TZID=Europe/Paris:20250515T170000
DTSTAMP:20260423T183841
CREATED:20250218T084233Z
LAST-MODIFIED:20250218T084233Z
UID:9330-1747324800-1747328400@tjslavojledenice.cz
SUMMARY:OP ml. přípravka (sk. A): Boršov - Ledenice
DESCRIPTION:
URL:https://tjslavojledenice.cz/events/op-ml-pripravka-sk-a-borsov-ledenice/
END:VEVENT
BEGIN:VEVENT
DTSTART;TZID=Europe/Paris:20250516T170000
DTEND;TZID=Europe/Paris:20250516T180000
DTSTAMP:20260423T183841
CREATED:20250218T085846Z
LAST-MODIFIED:20250218T085846Z
UID:9379-1747414800-1747418400@tjslavojledenice.cz
SUMMARY:OP ml. žáci (sk. A): Ledenice - Nové Hrady
DESCRIPTION:
URL:https://tjslavojledenice.cz/events/op-ml-zaci-sk-a-ledenice-nove-hrady/
END:VEVENT
BEGIN:VEVENT
DTSTART;TZID=Europe/Paris:20250517T080000
DTEND;TZID=Europe/Paris:20250517T170000
DTSTAMP:20260423T183841
CREATED:20241119T194340Z
LAST-MODIFIED:20241119T194340Z
UID:8947-1747468800-1747501200@tjslavojledenice.cz
SUMMARY:Rezervace hřiště - hasiči
DESCRIPTION:
URL:https://tjslavojledenice.cz/events/rezervace-hriste-hasici-4/
END:VEVENT
BEGIN:VEVENT
DTSTART;TZID=Europe/Paris:20250518T100000
DTEND;TZID=Europe/Paris:20250518T120000
DTSTAMP:20260423T183841
CREATED:20250218T083045Z
LAST-MODIFIED:20250218T083045Z
UID:9271-1747562400-1747569600@tjslavojledenice.cz
SUMMARY:OP dorost: K. Újezd - Ledenice
DESCRIPTION:
URL:https://tjslavojledenice.cz/events/op-dorost-k-ujezd-ledenice/
END:VEVENT
BEGIN:VEVENT
DTSTART;TZID=Europe/Paris:20250518T150000
DTEND;TZID=Europe/Paris:20250518T170000
DTSTAMP:20260423T183841
CREATED:20250218T083743Z
LAST-MODIFIED:20250218T083743Z
UID:9306-1747580400-1747587600@tjslavojledenice.cz
SUMMARY:I. B muži: Ledenice - Loučovice
DESCRIPTION:
URL:https://tjslavojledenice.cz/events/i-b-muzi-ledenice-loucovice-2/
END:VEVENT
BEGIN:VEVENT
DTSTART;TZID=Europe/Paris:20250519T170000
DTEND;TZID=Europe/Paris:20250519T180000
DTSTAMP:20260423T183841
CREATED:20250218T090237Z
LAST-MODIFIED:20250324T122540Z
UID:9411-1747674000-1747677600@tjslavojledenice.cz
SUMMARY:OP ml. žáci (sk. B): Ledenice B - Týn B
DESCRIPTION:
URL:https://tjslavojledenice.cz/events/op-ml-zaci-sk-a-ledenice-b-tyn-b/
END:VEVENT
BEGIN:VEVENT
DTSTART;TZID=Europe/Paris:20250520T170000
DTEND;TZID=Europe/Paris:20250520T180000
DTSTAMP:20260423T183841
CREATED:20250218T090722Z
LAST-MODIFIED:20250218T090722Z
UID:9430-1747760400-1747764000@tjslavojledenice.cz
SUMMARY:OS ml. žáci: Ledenice - N. Hodějovice
DESCRIPTION:
URL:https://tjslavojledenice.cz/events/os-ml-zaci-ledenice-n-hodejovice/
END:VEVENT
BEGIN:VEVENT
DTSTART;TZID=Europe/Paris:20250520T170000
DTEND;TZID=Europe/Paris:20250520T180000
DTSTAMP:20260423T183841
CREATED:20250519T133702Z
LAST-MODIFIED:20250519T133702Z
UID:9772-1747760400-1747764000@tjslavojledenice.cz
SUMMARY:OP ml. přípravka (nadstavba): Borovany A - Ledenice B
DESCRIPTION:
URL:https://tjslavojledenice.cz/events/op-ml-pripravka-nadstavba-borovany-a-ledenice-b/
END:VEVENT
BEGIN:VEVENT
DTSTART;TZID=Europe/Paris:20250521T170000
DTEND;TZID=Europe/Paris:20250521T180000
DTSTAMP:20260423T183841
CREATED:20250218T085903Z
LAST-MODIFIED:20250218T085903Z
UID:9380-1747846800-1747850400@tjslavojledenice.cz
SUMMARY:OP ml. žáci (sk. A): N. Hodějovice - Ledenice
DESCRIPTION:
URL:https://tjslavojledenice.cz/events/op-ml-zaci-sk-a-n-hodejovice-ledenice/
END:VEVENT
BEGIN:VEVENT
DTSTART;TZID=Europe/Paris:20250523T160000
DTEND;TZID=Europe/Paris:20250523T170000
DTSTAMP:20260423T183841
CREATED:20250519T133744Z
LAST-MODIFIED:20250519T133744Z
UID:9774-1748016000-1748019600@tjslavojledenice.cz
SUMMARY:OP ml. přípravka (nadstavba): Ledenice A - Dynamo ČB B
DESCRIPTION:
URL:https://tjslavojledenice.cz/events/op-ml-pripravka-nadstavba-ledenice-a-dynamo-cb-b/
END:VEVENT
BEGIN:VEVENT
DTSTART;TZID=Europe/Paris:20250523T170000
DTEND;TZID=Europe/Paris:20250523T180000
DTSTAMP:20260423T183841
CREATED:20250218T085715Z
LAST-MODIFIED:20250410T115706Z
UID:9374-1748019600-1748023200@tjslavojledenice.cz
SUMMARY:OP ml. žáci (sk. A): Ledenice - Hrdějovice
DESCRIPTION:
URL:https://tjslavojledenice.cz/events/op-ml-zaci-sk-a-ledenice-hrdejovice/
END:VEVENT
BEGIN:VEVENT
DTSTART;TZID=Europe/Paris:20250524T100000
DTEND;TZID=Europe/Paris:20250524T120000
DTSTAMP:20260423T183841
CREATED:20250218T083103Z
LAST-MODIFIED:20250226T083947Z
UID:9272-1748080800-1748088000@tjslavojledenice.cz
SUMMARY:OP dorost: Ledenice - Větřní
DESCRIPTION:
URL:https://tjslavojledenice.cz/events/op-dorost-ledenice-vetrni-2/
END:VEVENT
BEGIN:VEVENT
DTSTART;TZID=Europe/Paris:20250524T101500
DTEND;TZID=Europe/Paris:20250524T120000
DTSTAMP:20260423T183841
CREATED:20250218T083803Z
LAST-MODIFIED:20250218T083803Z
UID:9307-1748081700-1748088000@tjslavojledenice.cz
SUMMARY:I. B muži: Křemže - Ledenice
DESCRIPTION:
URL:https://tjslavojledenice.cz/events/i-b-muzi-kremze-ledenice/
END:VEVENT
BEGIN:VEVENT
DTSTART;TZID=Europe/Paris:20250525T080000
DTEND;TZID=Europe/Paris:20250525T170000
DTSTAMP:20260423T183841
CREATED:20250218T082511Z
LAST-MODIFIED:20250218T082511Z
UID:9254-1748160000-1748192400@tjslavojledenice.cz
SUMMARY:Turnaj OFS U8
DESCRIPTION:
URL:https://tjslavojledenice.cz/events/turnaj-ofs-u8-4/
END:VEVENT
BEGIN:VEVENT
DTSTART;TZID=Europe/Paris:20250526T170000
DTEND;TZID=Europe/Paris:20250526T180000
DTSTAMP:20260423T183841
CREATED:20250218T085918Z
LAST-MODIFIED:20250218T085918Z
UID:9381-1748278800-1748282400@tjslavojledenice.cz
SUMMARY:OP ml. žáci (sk. A): Ledenice - K. Újezd
DESCRIPTION:
URL:https://tjslavojledenice.cz/events/op-ml-zaci-sk-a-ledenice-k-ujezd/
END:VEVENT
BEGIN:VEVENT
DTSTART;TZID=Europe/Paris:20250527T173000
DTEND;TZID=Europe/Paris:20250527T183000
DTSTAMP:20260423T183841
CREATED:20250519T133807Z
LAST-MODIFIED:20250519T133807Z
UID:9775-1748367000-1748370600@tjslavojledenice.cz
SUMMARY:OP ml. přípravka (nadstavba): Dynamo ČB B - Ledenice A
DESCRIPTION:
URL:https://tjslavojledenice.cz/events/op-ml-pripravka-nadstavba-dynamo-cb-b-ledenice-a/
END:VEVENT
BEGIN:VEVENT
DTSTART;TZID=Europe/Paris:20250530T170000
DTEND;TZID=Europe/Paris:20250530T180000
DTSTAMP:20260423T183841
CREATED:20250218T090743Z
LAST-MODIFIED:20250218T090743Z
UID:9431-1748624400-1748628000@tjslavojledenice.cz
SUMMARY:OS ml. žáci: Římov - Ledenice
DESCRIPTION:
URL:https://tjslavojledenice.cz/events/os-ml-zaci-rimov-ledenice-2/
END:VEVENT
BEGIN:VEVENT
DTSTART;TZID=Europe/Paris:20250530T170000
DTEND;TZID=Europe/Paris:20250530T180000
DTSTAMP:20260423T183841
CREATED:20250519T133723Z
LAST-MODIFIED:20250519T133723Z
UID:9773-1748624400-1748628000@tjslavojledenice.cz
SUMMARY:OP ml. přípravka (nadstavba): Ledenice B - Borovany A
DESCRIPTION:
URL:https://tjslavojledenice.cz/events/op-ml-pripravka-nadstavba-ledenice-b-borovany-a/
END:VEVENT
BEGIN:VEVENT
DTSTART;TZID=Europe/Paris:20250531T100000
DTEND;TZID=Europe/Paris:20250531T120000
DTSTAMP:20260423T183841
CREATED:20250218T083126Z
LAST-MODIFIED:20250218T083126Z
UID:9273-1748685600-1748692800@tjslavojledenice.cz
SUMMARY:OP dorost: Hrdějovice - Ledenice
DESCRIPTION:
URL:https://tjslavojledenice.cz/events/op-dorost-hrdejovice-ledenice/
END:VEVENT
BEGIN:VEVENT
DTSTART;TZID=Europe/Paris:20250531T110000
DTEND;TZID=Europe/Paris:20250531T123000
DTSTAMP:20260423T183841
CREATED:20250218T090307Z
LAST-MODIFIED:20250324T122536Z
UID:9385-1748689200-1748694600@tjslavojledenice.cz
SUMMARY:OP ml. žáci (sk. B): D. Bukovsko - Ledenice B
DESCRIPTION:
URL:https://tjslavojledenice.cz/events/op-ml-zaci-sk-a-d-bukovsko-ledenice-b/
END:VEVENT
BEGIN:VEVENT
DTSTART;TZID=Europe/Paris:20250601T100000
DTEND;TZID=Europe/Paris:20250601T150000
DTSTAMP:20260423T183841
CREATED:20250503T194651Z
LAST-MODIFIED:20250503T194651Z
UID:9747-1748772000-1748790000@tjslavojledenice.cz
SUMMARY:Turnaj Hluboká n. Vltavou U9
DESCRIPTION:
URL:https://tjslavojledenice.cz/events/turnaj-hluboka-n-vltavou-u9/
END:VEVENT
END:VCALENDAR