BEGIN:VCALENDAR
VERSION:2.0
PRODID:-//TJ Slavoj Ledenice - ECPv6.15.18//NONSGML v1.0//EN
CALSCALE:GREGORIAN
METHOD:PUBLISH
X-WR-CALNAME:TJ Slavoj Ledenice
X-ORIGINAL-URL:https://tjslavojledenice.cz
X-WR-CALDESC:Akce na TJ Slavoj Ledenice
REFRESH-INTERVAL;VALUE=DURATION:PT1H
X-Robots-Tag:noindex
X-PUBLISHED-TTL:PT1H
BEGIN:VTIMEZONE
TZID:Europe/Paris
BEGIN:DAYLIGHT
TZOFFSETFROM:+0100
TZOFFSETTO:+0200
TZNAME:CEST
DTSTART:20230326T010000
END:DAYLIGHT
BEGIN:STANDARD
TZOFFSETFROM:+0200
TZOFFSETTO:+0100
TZNAME:CET
DTSTART:20231029T010000
END:STANDARD
BEGIN:DAYLIGHT
TZOFFSETFROM:+0100
TZOFFSETTO:+0200
TZNAME:CEST
DTSTART:20240331T010000
END:DAYLIGHT
BEGIN:STANDARD
TZOFFSETFROM:+0200
TZOFFSETTO:+0100
TZNAME:CET
DTSTART:20241027T010000
END:STANDARD
BEGIN:DAYLIGHT
TZOFFSETFROM:+0100
TZOFFSETTO:+0200
TZNAME:CEST
DTSTART:20250330T010000
END:DAYLIGHT
BEGIN:STANDARD
TZOFFSETFROM:+0200
TZOFFSETTO:+0100
TZNAME:CET
DTSTART:20251026T010000
END:STANDARD
END:VTIMEZONE
BEGIN:VEVENT
DTSTART;TZID=Europe/Paris:20241020T101500
DTEND;TZID=Europe/Paris:20241020T120000
DTSTAMP:20260423T200846
CREATED:20240716T082513Z
LAST-MODIFIED:20240716T082513Z
UID:8474-1729419300-1729425600@tjslavojledenice.cz
SUMMARY:OP dorost: Ledenice - K. Újezd
DESCRIPTION:
URL:https://tjslavojledenice.cz/events/op-dorost-ledenice-k-ujezd/
END:VEVENT
BEGIN:VEVENT
DTSTART;TZID=Europe/Paris:20241019T120000
DTEND;TZID=Europe/Paris:20241019T140000
DTSTAMP:20260423T200846
CREATED:20240716T080006Z
LAST-MODIFIED:20240716T080006Z
UID:8362-1729339200-1729346400@tjslavojledenice.cz
SUMMARY:7. liga muži: Černý Dub - Ledenice
DESCRIPTION:
URL:https://tjslavojledenice.cz/events/7-liga-muzi-cerny-dub-ledenice/
END:VEVENT
BEGIN:VEVENT
DTSTART;TZID=Europe/Paris:20241018T183000
DTEND;TZID=Europe/Paris:20241018T193000
DTSTAMP:20260423T200846
CREATED:20240906T082244Z
LAST-MODIFIED:20240906T082244Z
UID:8619-1729276200-1729279800@tjslavojledenice.cz
SUMMARY:Volejbal muži: Slovan Č. Budějovice - Ledenice
DESCRIPTION:
URL:https://tjslavojledenice.cz/events/volejbal-muzi-slovan-c-budejovice-ledenice/
END:VEVENT
BEGIN:VEVENT
DTSTART;TZID=Europe/Paris:20241018T170000
DTEND;TZID=Europe/Paris:20241018T180000
DTSTAMP:20260423T200846
CREATED:20240716T080929Z
LAST-MODIFIED:20240716T080929Z
UID:8390-1729270800-1729274400@tjslavojledenice.cz
SUMMARY:OP ml. přípravka\, sk. B: Ledenice B - SK Dynamo Č. Budějovice B
DESCRIPTION:
URL:https://tjslavojledenice.cz/events/op-ml-pripravka-sk-b-ledenice-b-sk-dynamo-c-budejovice-b/
END:VEVENT
BEGIN:VEVENT
DTSTART;TZID=Europe/Paris:20241017T170000
DTEND;TZID=Europe/Paris:20241017T180000
DTSTAMP:20260423T200846
CREATED:20240716T081206Z
LAST-MODIFIED:20241004T045649Z
UID:8418-1729184400-1729188000@tjslavojledenice.cz
SUMMARY:OP ml. žáci A: Rudolfov - Ledenice A
DESCRIPTION:
URL:https://tjslavojledenice.cz/events/op-ml-zaci-a-rudolfov-ledenice-a/
END:VEVENT
BEGIN:VEVENT
DTSTART;TZID=Europe/Paris:20241016T160000
DTEND;TZID=Europe/Paris:20241016T170000
DTSTAMP:20260423T200846
CREATED:20240716T080418Z
LAST-MODIFIED:20241014T190341Z
UID:8385-1729094400-1729098000@tjslavojledenice.cz
SUMMARY:OP ml. přípravka\, sk. A: Ledenice A - Boršov n. Vltavou
DESCRIPTION:
URL:https://tjslavojledenice.cz/events/op-ml-pripravka-sk-a-ledenice-a-borsov-n-vltavou/
END:VEVENT
BEGIN:VEVENT
DTSTART;TZID=Europe/Paris:20241015T170000
DTEND;TZID=Europe/Paris:20241015T180000
DTSTAMP:20260423T200846
CREATED:20240906T080525Z
LAST-MODIFIED:20240906T080525Z
UID:8608-1729011600-1729015200@tjslavojledenice.cz
SUMMARY:Volejbal muži: Dynamo Č. Budějovice - Ledenice B
DESCRIPTION:
URL:https://tjslavojledenice.cz/events/volejbal-muzi-dynamo-c-budejovice-ledenice-b/
END:VEVENT
BEGIN:VEVENT
DTSTART;TZID=Europe/Paris:20241015T170000
DTEND;TZID=Europe/Paris:20241015T180000
DTSTAMP:20260423T200846
CREATED:20240716T082122Z
LAST-MODIFIED:20240716T082122Z
UID:8463-1729011600-1729015200@tjslavojledenice.cz
SUMMARY:OS ml. žáci\, sk. A: Ledenice - Římov
DESCRIPTION:
URL:https://tjslavojledenice.cz/events/os-ml-zaci-sk-a-ledenice-rimov/
END:VEVENT
BEGIN:VEVENT
DTSTART;TZID=Europe/Paris:20241014T170000
DTEND;TZID=Europe/Paris:20241014T180000
DTSTAMP:20260423T200846
CREATED:20240716T081725Z
LAST-MODIFIED:20240716T081725Z
UID:8449-1728925200-1728928800@tjslavojledenice.cz
SUMMARY:OP ml. žáci\, sk. B: Ledenice B - D. Bukovsko
DESCRIPTION:
URL:https://tjslavojledenice.cz/events/op-ml-zaci-sk-b-ledenice-b-d-bukovsko/
END:VEVENT
BEGIN:VEVENT
DTSTART;TZID=Europe/Paris:20241014T170000
DTEND;TZID=Europe/Paris:20241014T180000
DTSTAMP:20260423T200846
CREATED:20240716T081340Z
LAST-MODIFIED:20241004T045654Z
UID:8423-1728925200-1728928800@tjslavojledenice.cz
SUMMARY:OP ml. žáci A: K. Újezd - Ledenice A
DESCRIPTION:
URL:https://tjslavojledenice.cz/events/op-ml-zaci-a-k-ujezd-ledenice-a/
END:VEVENT
BEGIN:VEVENT
DTSTART;TZID=Europe/Paris:20241013T150000
DTEND;TZID=Europe/Paris:20241013T170000
DTSTAMP:20260423T200846
CREATED:20240716T075942Z
LAST-MODIFIED:20240716T075942Z
UID:8361-1728831600-1728838800@tjslavojledenice.cz
SUMMARY:7. liga muži: Ledenice - Křemže
DESCRIPTION:
URL:https://tjslavojledenice.cz/events/7-liga-muzi-ledenice-kremze/
END:VEVENT
BEGIN:VEVENT
DTSTART;TZID=Europe/Paris:20241011T170000
DTEND;TZID=Europe/Paris:20241011T190000
DTSTAMP:20260423T200846
CREATED:20240716T082451Z
LAST-MODIFIED:20240716T082451Z
UID:8473-1728666000-1728673200@tjslavojledenice.cz
SUMMARY:OP dorost: N. Hodějovice - Ledenice
DESCRIPTION:
URL:https://tjslavojledenice.cz/events/op-dorost-n-hodejovice-ledenice-3/
END:VEVENT
BEGIN:VEVENT
DTSTART;TZID=Europe/Paris:20241011T170000
DTEND;TZID=Europe/Paris:20241011T180000
DTSTAMP:20260423T200846
CREATED:20240716T081321Z
LAST-MODIFIED:20240716T081321Z
UID:8422-1728666000-1728669600@tjslavojledenice.cz
SUMMARY:OP ml. žáci A: Ledenice A - N. Hodějovice
DESCRIPTION:
URL:https://tjslavojledenice.cz/events/op-ml-zaci-a-ledenice-a-n-hodejovice/
END:VEVENT
BEGIN:VEVENT
DTSTART;TZID=Europe/Paris:20241011T170000
DTEND;TZID=Europe/Paris:20241011T180000
DTSTAMP:20260423T200846
CREATED:20240716T080850Z
LAST-MODIFIED:20240716T080850Z
UID:8389-1728666000-1728669600@tjslavojledenice.cz
SUMMARY:OP ml. přípravka\, sk. B: Římov - Ledenice B
DESCRIPTION:
URL:https://tjslavojledenice.cz/events/op-ml-pripravka-sk-b-rimov-ledenice-b/
END:VEVENT
BEGIN:VEVENT
DTSTART;TZID=Europe/Paris:20241010T173000
DTEND;TZID=Europe/Paris:20241010T190000
DTSTAMP:20260423T200846
CREATED:20240716T081709Z
LAST-MODIFIED:20240716T081709Z
UID:8432-1728581400-1728586800@tjslavojledenice.cz
SUMMARY:OP ml. žáci\, sk. B: Týn n. Vltavou B - Ledenice B
DESCRIPTION:
URL:https://tjslavojledenice.cz/events/op-ml-zaci-sk-b-tyn-n-vltavou-b-ledenice-b/
END:VEVENT
BEGIN:VEVENT
DTSTART;TZID=Europe/Paris:20241010T170000
DTEND;TZID=Europe/Paris:20241010T180000
DTSTAMP:20260423T200846
CREATED:20240906T082352Z
LAST-MODIFIED:20240906T082352Z
UID:8622-1728579600-1728583200@tjslavojledenice.cz
SUMMARY:Volejbal muži: Ledenice - Meteor Č. Budějovice
DESCRIPTION:
URL:https://tjslavojledenice.cz/events/volejbal-muzi-ledenice-meteor-c-budejovice/
END:VEVENT
BEGIN:VEVENT
DTSTART;TZID=Europe/Paris:20241010T170000
DTEND;TZID=Europe/Paris:20241010T180000
DTSTAMP:20260423T200846
CREATED:20240716T082104Z
LAST-MODIFIED:20240716T082104Z
UID:8462-1728579600-1728583200@tjslavojledenice.cz
SUMMARY:OS ml. žáci\, sk. A: N. Hodějovice - Ledenice
DESCRIPTION:
URL:https://tjslavojledenice.cz/events/os-ml-zaci-sk-a-n-hodejovice-ledenice/
END:VEVENT
BEGIN:VEVENT
DTSTART;TZID=Europe/Paris:20241008T190000
DTEND;TZID=Europe/Paris:20241008T200000
DTSTAMP:20260423T200846
CREATED:20240906T080407Z
LAST-MODIFIED:20240906T080407Z
UID:8605-1728414000-1728417600@tjslavojledenice.cz
SUMMARY:Volejbal muži: Ledenice B - T. Sviny
DESCRIPTION:
URL:https://tjslavojledenice.cz/events/volejbal-muzi-ledenice-b-t-sviny/
END:VEVENT
BEGIN:VEVENT
DTSTART;TZID=Europe/Paris:20241007T180000
DTEND;TZID=Europe/Paris:20241007T190000
DTSTAMP:20260423T200846
CREATED:20240716T080355Z
LAST-MODIFIED:20240716T080355Z
UID:8384-1728324000-1728327600@tjslavojledenice.cz
SUMMARY:OP ml. přípravka\, sk. A: Planá B - Ledenice A
DESCRIPTION:
URL:https://tjslavojledenice.cz/events/op-ml-pripravka-sk-a-plana-b-ledenice-a/
END:VEVENT
BEGIN:VEVENT
DTSTART;TZID=Europe/Paris:20241005T160000
DTEND;TZID=Europe/Paris:20241005T180000
DTSTAMP:20260423T200846
CREATED:20240716T075922Z
LAST-MODIFIED:20240716T075922Z
UID:8360-1728144000-1728151200@tjslavojledenice.cz
SUMMARY:7. liga muži: Loučovice - Ledenice
DESCRIPTION:
URL:https://tjslavojledenice.cz/events/7-liga-muzi-loucovice-ledenice/
END:VEVENT
BEGIN:VEVENT
DTSTART;TZID=Europe/Paris:20241005T100000
DTEND;TZID=Europe/Paris:20241005T120000
DTSTAMP:20260423T200846
CREATED:20240716T082435Z
LAST-MODIFIED:20240716T082435Z
UID:8472-1728122400-1728129600@tjslavojledenice.cz
SUMMARY:OP dorost: Planá nad Lužnicí - Ledenice
DESCRIPTION:
URL:https://tjslavojledenice.cz/events/op-dorost-plana-nad-luznici-ledenice/
END:VEVENT
BEGIN:VEVENT
DTSTART;TZID=Europe/Paris:20241004T170000
DTEND;TZID=Europe/Paris:20241004T180000
DTSTAMP:20260423T200846
CREATED:20240716T081648Z
LAST-MODIFIED:20240716T081648Z
UID:8431-1728061200-1728064800@tjslavojledenice.cz
SUMMARY:OP ml. žáci\, sk. B: Dubné - Ledenice B
DESCRIPTION:
URL:https://tjslavojledenice.cz/events/op-ml-zaci-sk-b-dubne-ledenice-b/
END:VEVENT
BEGIN:VEVENT
DTSTART;TZID=Europe/Paris:20241004T170000
DTEND;TZID=Europe/Paris:20241004T180000
DTSTAMP:20260423T200846
CREATED:20240716T081303Z
LAST-MODIFIED:20240716T081303Z
UID:8421-1728061200-1728064800@tjslavojledenice.cz
SUMMARY:OP ml. žáci A: Nové Hrady - Ledenice A
DESCRIPTION:
URL:https://tjslavojledenice.cz/events/op-ml-zaci-a-nove-hrady-ledenice-a/
END:VEVENT
BEGIN:VEVENT
DTSTART;TZID=Europe/Paris:20241004T163000
DTEND;TZID=Europe/Paris:20241004T183000
DTSTAMP:20260423T200846
CREATED:20240716T082044Z
LAST-MODIFIED:20240716T082044Z
UID:8461-1728059400-1728066600@tjslavojledenice.cz
SUMMARY:OS ml. žáci\, sk. A: Trhové Sviny - Ledenice
DESCRIPTION:
URL:https://tjslavojledenice.cz/events/os-ml-zaci-sk-a-trhove-sviny-ledenice/
END:VEVENT
BEGIN:VEVENT
DTSTART;TZID=Europe/Paris:20241003T170000
DTEND;TZID=Europe/Paris:20241003T180000
DTSTAMP:20260423T200846
CREATED:20240906T082224Z
LAST-MODIFIED:20240906T082224Z
UID:8618-1727974800-1727978400@tjslavojledenice.cz
SUMMARY:Volejbal muži: Loko Č. Budějovice B - Ledenice
DESCRIPTION:
URL:https://tjslavojledenice.cz/events/volejbal-muzi-loko-c-budejovice-b-ledenice/
END:VEVENT
BEGIN:VEVENT
DTSTART;TZID=Europe/Paris:20241001T190000
DTEND;TZID=Europe/Paris:20241001T200000
DTSTAMP:20260423T200846
CREATED:20240906T080352Z
LAST-MODIFIED:20240906T080352Z
UID:8604-1727809200-1727812800@tjslavojledenice.cz
SUMMARY:Volejbal muži: Ledenice B - Loko C
DESCRIPTION:
URL:https://tjslavojledenice.cz/events/volejbal-muzi-ledenice-b-loko-c/
END:VEVENT
BEGIN:VEVENT
DTSTART;TZID=Europe/Paris:20241001T163000
DTEND;TZID=Europe/Paris:20241001T170000
DTSTAMP:20260423T200846
CREATED:20240716T080830Z
LAST-MODIFIED:20240716T080830Z
UID:8405-1727800200-1727802000@tjslavojledenice.cz
SUMMARY:OP ml. přípravka\, sk. B: Borovany B - Ledenice B
DESCRIPTION:
URL:https://tjslavojledenice.cz/events/op-ml-pripravka-sk-b-borovany-b-ledenice-b/
END:VEVENT
BEGIN:VEVENT
DTSTART;TZID=Europe/Paris:20240930T170000
DTEND;TZID=Europe/Paris:20240930T180000
DTSTAMP:20260423T200846
CREATED:20240716T080325Z
LAST-MODIFIED:20240716T080325Z
UID:8383-1727715600-1727719200@tjslavojledenice.cz
SUMMARY:OP ml. přípravka\, sk. A: K. Újezd - Ledenice A
DESCRIPTION:
URL:https://tjslavojledenice.cz/events/op-ml-pripravka-sk-a-k-ujezd-ledenice-a/
END:VEVENT
BEGIN:VEVENT
DTSTART;TZID=Europe/Paris:20240929T150000
DTEND;TZID=Europe/Paris:20240929T170000
DTSTAMP:20260423T200846
CREATED:20240716T075854Z
LAST-MODIFIED:20240716T075854Z
UID:8359-1727622000-1727629200@tjslavojledenice.cz
SUMMARY:7. liga muži: Ledenice - Borek
DESCRIPTION:
URL:https://tjslavojledenice.cz/events/7-liga-muzi-ledenice-borek/
END:VEVENT
BEGIN:VEVENT
DTSTART;TZID=Europe/Paris:20240929T101500
DTEND;TZID=Europe/Paris:20240929T120000
DTSTAMP:20260423T200846
CREATED:20240716T082417Z
LAST-MODIFIED:20240716T082417Z
UID:8471-1727604900-1727611200@tjslavojledenice.cz
SUMMARY:OP dorost: Ledenice - Mladé
DESCRIPTION:
URL:https://tjslavojledenice.cz/events/op-dorost-ledenice-mlade-3/
END:VEVENT
END:VCALENDAR