BEGIN:VCALENDAR
VERSION:2.0
PRODID:-//TJ Slavoj Ledenice - ECPv6.15.18//NONSGML v1.0//EN
CALSCALE:GREGORIAN
METHOD:PUBLISH
X-WR-CALNAME:TJ Slavoj Ledenice
X-ORIGINAL-URL:https://tjslavojledenice.cz
X-WR-CALDESC:Akce na TJ Slavoj Ledenice
REFRESH-INTERVAL;VALUE=DURATION:PT1H
X-Robots-Tag:noindex
X-PUBLISHED-TTL:PT1H
BEGIN:VTIMEZONE
TZID:Europe/Paris
BEGIN:DAYLIGHT
TZOFFSETFROM:+0100
TZOFFSETTO:+0200
TZNAME:CEST
DTSTART:20230326T010000
END:DAYLIGHT
BEGIN:STANDARD
TZOFFSETFROM:+0200
TZOFFSETTO:+0100
TZNAME:CET
DTSTART:20231029T010000
END:STANDARD
BEGIN:DAYLIGHT
TZOFFSETFROM:+0100
TZOFFSETTO:+0200
TZNAME:CEST
DTSTART:20240331T010000
END:DAYLIGHT
BEGIN:STANDARD
TZOFFSETFROM:+0200
TZOFFSETTO:+0100
TZNAME:CET
DTSTART:20241027T010000
END:STANDARD
BEGIN:DAYLIGHT
TZOFFSETFROM:+0100
TZOFFSETTO:+0200
TZNAME:CEST
DTSTART:20250330T010000
END:DAYLIGHT
BEGIN:STANDARD
TZOFFSETFROM:+0200
TZOFFSETTO:+0100
TZNAME:CET
DTSTART:20251026T010000
END:STANDARD
END:VTIMEZONE
BEGIN:VEVENT
DTSTART;TZID=Europe/Paris:20240922T100000
DTEND;TZID=Europe/Paris:20240922T120000
DTSTAMP:20260424T021211
CREATED:20240716T082401Z
LAST-MODIFIED:20240716T082401Z
UID:8470-1726999200-1727006400@tjslavojledenice.cz
SUMMARY:OP dorost: Borek - Ledenice
DESCRIPTION:
URL:https://tjslavojledenice.cz/events/op-dorost-borek-ledenice-2/
END:VEVENT
BEGIN:VEVENT
DTSTART;TZID=Europe/Paris:20240921T163000
DTEND;TZID=Europe/Paris:20240921T180000
DTSTAMP:20260424T021211
CREATED:20240716T075842Z
LAST-MODIFIED:20240716T075842Z
UID:8358-1726936200-1726941600@tjslavojledenice.cz
SUMMARY:7. liga muži: Frymburk - Ledenice
DESCRIPTION:
URL:https://tjslavojledenice.cz/events/7-liga-muzi-frymburk-ledenice/
END:VEVENT
BEGIN:VEVENT
DTSTART;TZID=Europe/Paris:20240920T170000
DTEND;TZID=Europe/Paris:20240920T180000
DTSTAMP:20260424T021211
CREATED:20240716T081611Z
LAST-MODIFIED:20240716T081611Z
UID:8429-1726851600-1726855200@tjslavojledenice.cz
SUMMARY:OP ml. žáci\, sk. B: Srubec - Ledenice B
DESCRIPTION:
URL:https://tjslavojledenice.cz/events/op-ml-zaci-sk-b-srubec-ledenice-b/
END:VEVENT
BEGIN:VEVENT
DTSTART;TZID=Europe/Paris:20240920T170000
DTEND;TZID=Europe/Paris:20240920T180000
DTSTAMP:20260424T021211
CREATED:20240716T081224Z
LAST-MODIFIED:20240716T081224Z
UID:8419-1726851600-1726855200@tjslavojledenice.cz
SUMMARY:OP ml. žáci A: Ledenice A - Mladé
DESCRIPTION:
URL:https://tjslavojledenice.cz/events/op-ml-zaci-a-ledenice-a-mlade/
END:VEVENT
BEGIN:VEVENT
DTSTART;TZID=Europe/Paris:20240920T170000
DTEND;TZID=Europe/Paris:20240920T180000
DTSTAMP:20260424T021211
CREATED:20240716T080736Z
LAST-MODIFIED:20240912T073625Z
UID:8403-1726851600-1726855200@tjslavojledenice.cz
SUMMARY:OP ml. přípravka\, sk. B: Nemanice/Úsilné - Ledenice B
DESCRIPTION:
URL:https://tjslavojledenice.cz/events/op-ml-pripravka-sk-b-ledenice-b-nemanice-usilne/
END:VEVENT
BEGIN:VEVENT
DTSTART;TZID=Europe/Paris:20240920T163000
DTEND;TZID=Europe/Paris:20240920T173000
DTSTAMP:20260424T021211
CREATED:20240716T080243Z
LAST-MODIFIED:20240912T073613Z
UID:8381-1726849800-1726853400@tjslavojledenice.cz
SUMMARY:OP ml. přípravka\, sk. A: Ledenice A - Nové Hodějovice
DESCRIPTION:
URL:https://tjslavojledenice.cz/events/op-ml-pripravka-sk-a-ledenice-a-nove-hodejovice/
END:VEVENT
BEGIN:VEVENT
DTSTART;TZID=Europe/Paris:20240919T170000
DTEND;TZID=Europe/Paris:20240919T180000
DTSTAMP:20260424T021211
CREATED:20240906T082200Z
LAST-MODIFIED:20240906T082200Z
UID:8617-1726765200-1726768800@tjslavojledenice.cz
SUMMARY:Volejbal muži: VK České Budějovice - Ledenice
DESCRIPTION:
URL:https://tjslavojledenice.cz/events/volejbal-muzi-vk-ceske-budejovice-ledenice/
END:VEVENT
BEGIN:VEVENT
DTSTART;TZID=Europe/Paris:20240917T170000
DTEND;TZID=Europe/Paris:20240917T180000
DTSTAMP:20260424T021211
CREATED:20240906T080501Z
LAST-MODIFIED:20240906T080501Z
UID:8607-1726592400-1726596000@tjslavojledenice.cz
SUMMARY:Volejbal muži: Slavia Č. Budějovice - Ledenice B
DESCRIPTION:
URL:https://tjslavojledenice.cz/events/volejbal-muzi-slavia-c-budejovice-ledenice-b/
END:VEVENT
BEGIN:VEVENT
DTSTART;TZID=Europe/Paris:20240916T170000
DTEND;TZID=Europe/Paris:20240916T180000
DTSTAMP:20260424T021211
CREATED:20240716T081954Z
LAST-MODIFIED:20240716T081954Z
UID:8459-1726506000-1726509600@tjslavojledenice.cz
SUMMARY:OS ml. žáci\, sk. A: Srubec - Ledenice
DESCRIPTION:
URL:https://tjslavojledenice.cz/events/os-ml-zaci-sk-a-srubec-ledenice/
END:VEVENT
BEGIN:VEVENT
DTSTART;TZID=Europe/Paris:20240912T170000
DTEND;TZID=Europe/Paris:20240912T180000
DTSTAMP:20260424T021211
CREATED:20240906T082311Z
LAST-MODIFIED:20240906T082311Z
UID:8620-1726160400-1726164000@tjslavojledenice.cz
SUMMARY:Volejbal muži: Ledenice - Hluboká
DESCRIPTION:
URL:https://tjslavojledenice.cz/events/volejbal-muzi-ledenice-hluboka/
END:VEVENT
BEGIN:VEVENT
DTSTART;TZID=Europe/Paris:20240911T130000
DTEND;TZID=Europe/Paris:20240911T170000
DTSTAMP:20260424T021211
CREATED:20240716T185606Z
LAST-MODIFIED:20240716T185606Z
UID:8502-1726059600-1726074000@tjslavojledenice.cz
SUMMARY:Planeo Cup - předkolo (kategorie U9)
DESCRIPTION:
URL:https://tjslavojledenice.cz/events/planeo-cup-predkolo-kategorie-u9/
END:VEVENT
BEGIN:VEVENT
DTSTART;TZID=Europe/Paris:20240910T170000
DTEND;TZID=Europe/Paris:20240910T180000
DTSTAMP:20260424T021211
CREATED:20240906T080329Z
LAST-MODIFIED:20240906T080329Z
UID:8603-1725987600-1725991200@tjslavojledenice.cz
SUMMARY:Volejbal muži: Ledenice B - Dynamo Č. Budějovice
DESCRIPTION:
URL:https://tjslavojledenice.cz/events/volejbal-muzi-ledenice-b-dynamo-c-budejovice/
END:VEVENT
BEGIN:VEVENT
DTSTART;TZID=Europe/Paris:20240910T170000
DTEND;TZID=Europe/Paris:20240910T180000
DTSTAMP:20260424T021211
CREATED:20240716T081933Z
LAST-MODIFIED:20240716T081933Z
UID:8458-1725987600-1725991200@tjslavojledenice.cz
SUMMARY:OS ml. žáci\, sk. A: Ledenice - Nové Hrady
DESCRIPTION:
URL:https://tjslavojledenice.cz/events/os-ml-zaci-sk-a-ledenice-nove-hrady/
END:VEVENT
BEGIN:VEVENT
DTSTART;TZID=Europe/Paris:20240909T170000
DTEND;TZID=Europe/Paris:20240909T180000
DTSTAMP:20260424T021211
CREATED:20240716T081546Z
LAST-MODIFIED:20240716T081546Z
UID:8428-1725901200-1725904800@tjslavojledenice.cz
SUMMARY:OP ml. žáci\, sk. B: Ledenice B - Zliv
DESCRIPTION:
URL:https://tjslavojledenice.cz/events/op-ml-zaci-sk-b-ledenice-b-zliv/
END:VEVENT
BEGIN:VEVENT
DTSTART;TZID=Europe/Paris:20240908T170000
DTEND;TZID=Europe/Paris:20240908T190000
DTSTAMP:20260424T021211
CREATED:20240716T075753Z
LAST-MODIFIED:20240716T075753Z
UID:8356-1725814800-1725822000@tjslavojledenice.cz
SUMMARY:7. liga muži: Kaplice B - Ledenice
DESCRIPTION:
URL:https://tjslavojledenice.cz/events/7-liga-muzi-kaplice-b-ledenice/
END:VEVENT
BEGIN:VEVENT
DTSTART;TZID=Europe/Paris:20240908T120000
DTEND;TZID=Europe/Paris:20240908T170000
DTSTAMP:20260424T021211
CREATED:20231123T145212Z
LAST-MODIFIED:20231123T145212Z
UID:7545-1725796800-1725814800@tjslavojledenice.cz
SUMMARY:Dětská olympiáda
DESCRIPTION:
URL:https://tjslavojledenice.cz/events/detska-olympiada-2/
END:VEVENT
BEGIN:VEVENT
DTSTART;TZID=Europe/Paris:20240908T100000
DTEND;TZID=Europe/Paris:20240908T120000
DTSTAMP:20260424T021211
CREATED:20240716T082324Z
LAST-MODIFIED:20240716T082324Z
UID:8468-1725789600-1725796800@tjslavojledenice.cz
SUMMARY:OP dorost: Velešín - Ledenice
DESCRIPTION:
URL:https://tjslavojledenice.cz/events/op-dorost-velesin-ledenice-3/
END:VEVENT
BEGIN:VEVENT
DTSTART;TZID=Europe/Paris:20240907T080000
DTEND;TZID=Europe/Paris:20240907T170000
DTSTAMP:20260424T021211
CREATED:20240903T173809Z
LAST-MODIFIED:20240903T174157Z
UID:8583-1725696000-1725728400@tjslavojledenice.cz
SUMMARY:Turnaj nohejbal - Joudové
DESCRIPTION:
URL:https://tjslavojledenice.cz/events/turnaj-nohejbal-joudove/
END:VEVENT
BEGIN:VEVENT
DTSTART;TZID=Europe/Paris:20240906T170000
DTEND;TZID=Europe/Paris:20240906T180000
DTSTAMP:20260424T021211
CREATED:20240716T081144Z
LAST-MODIFIED:20240716T081144Z
UID:8417-1725642000-1725645600@tjslavojledenice.cz
SUMMARY:OP ml. žáci A: Ledenice A - Lipí
DESCRIPTION:
URL:https://tjslavojledenice.cz/events/op-ml-zaci-a-ledenice-a-lipi/
END:VEVENT
BEGIN:VEVENT
DTSTART;TZID=Europe/Paris:20240905T170000
DTEND;TZID=Europe/Paris:20240905T180000
DTSTAMP:20260424T021211
CREATED:20240716T081533Z
LAST-MODIFIED:20240716T081533Z
UID:8427-1725555600-1725559200@tjslavojledenice.cz
SUMMARY:OP ml. žáci\, sk. B: Borek - Ledenice B
DESCRIPTION:
URL:https://tjslavojledenice.cz/events/op-ml-zaci-sk-b-borek-ledenice-b/
END:VEVENT
BEGIN:VEVENT
DTSTART;TZID=Europe/Paris:20240905T170000
DTEND;TZID=Europe/Paris:20240905T180000
DTSTAMP:20260424T021211
CREATED:20240716T080228Z
LAST-MODIFIED:20240716T080228Z
UID:8380-1725555600-1725559200@tjslavojledenice.cz
SUMMARY:OP ml. přípravka\, sk. A: Nová Ves - Ledenice A
DESCRIPTION:
URL:https://tjslavojledenice.cz/events/op-ml-pripravka-sk-a-nova-ves-ledenice-a/
END:VEVENT
BEGIN:VEVENT
DTSTART;TZID=Europe/Paris:20240904T170000
DTEND;TZID=Europe/Paris:20240904T180000
DTSTAMP:20260424T021211
CREATED:20240716T080630Z
LAST-MODIFIED:20240716T080630Z
UID:8402-1725469200-1725472800@tjslavojledenice.cz
SUMMARY:OP ml. přípravka\, sk. B: Rudolfov B - Ledenice B
DESCRIPTION:
URL:https://tjslavojledenice.cz/events/op-ml-pripravka-sk-b-rudolfov-b-ledenice-b/
END:VEVENT
BEGIN:VEVENT
DTSTART;TZID=Europe/Paris:20240903T170000
DTEND;TZID=Europe/Paris:20240903T180000
DTSTAMP:20260424T021211
CREATED:20240716T081919Z
LAST-MODIFIED:20240716T081919Z
UID:8452-1725382800-1725386400@tjslavojledenice.cz
SUMMARY:OS ml. žáci\, sk. A: Horní Stropnice - Ledenice
DESCRIPTION:
URL:https://tjslavojledenice.cz/events/os-ml-zaci-sk-a-horni-stropnice-ledenice/
END:VEVENT
BEGIN:VEVENT
DTSTART;TZID=Europe/Paris:20240901T150000
DTEND;TZID=Europe/Paris:20240901T170000
DTSTAMP:20260424T021211
CREATED:20240716T075733Z
LAST-MODIFIED:20240716T075733Z
UID:8355-1725202800-1725210000@tjslavojledenice.cz
SUMMARY:7. liga muži: Ledenice - T. Sviny B
DESCRIPTION:
URL:https://tjslavojledenice.cz/events/7-liga-muzi-ledenice-t-sviny-b/
END:VEVENT
BEGIN:VEVENT
DTSTART;TZID=Europe/Paris:20240901T101500
DTEND;TZID=Europe/Paris:20240901T120000
DTSTAMP:20260424T021211
CREATED:20240716T082304Z
LAST-MODIFIED:20240716T082304Z
UID:8467-1725185700-1725192000@tjslavojledenice.cz
SUMMARY:OP dorost: Ledenice - Borovany
DESCRIPTION:
URL:https://tjslavojledenice.cz/events/op-dorost-ledenice-borovany-3/
END:VEVENT
BEGIN:VEVENT
DTSTART;TZID=Europe/Paris:20240830T170000
DTEND;TZID=Europe/Paris:20240830T180000
DTSTAMP:20260424T021211
CREATED:20240716T080608Z
LAST-MODIFIED:20240716T080608Z
UID:8388-1725037200-1725040800@tjslavojledenice.cz
SUMMARY:OP ml. přípravka\, sk. B: Ledenice B - Loko Č. Budějovice
DESCRIPTION:
URL:https://tjslavojledenice.cz/events/op-ml-pripravka-sk-b-ledenice-b-loko-c-budejovice/
END:VEVENT
BEGIN:VEVENT
DTSTART;TZID=Europe/Paris:20240830T160000
DTEND;TZID=Europe/Paris:20240830T170000
DTSTAMP:20260424T021211
CREATED:20240716T080210Z
LAST-MODIFIED:20240716T080210Z
UID:8379-1725033600-1725037200@tjslavojledenice.cz
SUMMARY:OP ml. přípravka\, sk. A: Ledenice A - Borovany A
DESCRIPTION:
URL:https://tjslavojledenice.cz/events/op-ml-pripravka-sk-a-ledenice-a-borovany-a/
END:VEVENT
BEGIN:VEVENT
DTSTART;TZID=Europe/Paris:20240828T170000
DTEND;TZID=Europe/Paris:20240828T180000
DTSTAMP:20260424T021211
CREATED:20240716T081127Z
LAST-MODIFIED:20240716T081127Z
UID:8416-1724864400-1724868000@tjslavojledenice.cz
SUMMARY:OP ml. žáci A: Hrdějovice - Ledenice A
DESCRIPTION:
URL:https://tjslavojledenice.cz/events/op-ml-zaci-a-hrdejovice-ledenice-a/
END:VEVENT
BEGIN:VEVENT
DTSTART;TZID=Europe/Paris:20240828T160000
DTEND;TZID=Europe/Paris:20240828T170000
DTSTAMP:20260424T021211
CREATED:20240531T103102Z
LAST-MODIFIED:20240807T125237Z
UID:8214-1724860800-1724864400@tjslavojledenice.cz
SUMMARY:Příprava: TJ Slavoj Ledenice B žlutí U9 - TJ Slavoj Ledenice B modří U9
DESCRIPTION:
URL:https://tjslavojledenice.cz/events/priprava-tj-slavoj-ledenice-a-u9-fk-borovany-a-u9-3/
END:VEVENT
BEGIN:VEVENT
DTSTART;TZID=Europe/Paris:20240828T160000
DTEND;TZID=Europe/Paris:20240828T170000
DTSTAMP:20260424T021211
CREATED:20240531T103039Z
LAST-MODIFIED:20240807T125303Z
UID:8212-1724860800-1724864400@tjslavojledenice.cz
SUMMARY:Příprava: TJ Slavoj Ledenice A U9 - TJ Slavoj Ledenice U11
DESCRIPTION:
URL:https://tjslavojledenice.cz/events/priprava-tj-slavoj-ledenice-a-u9-fk-borovany-a-u9-2/
END:VEVENT
END:VCALENDAR